BEGIN:VCALENDAR
VERSION:2.0
PRODID:-//Defence &amp; Fightclub Heracles Valkeakoski - ECPv6.5.0//NONSGML v1.0//EN
CALSCALE:GREGORIAN
METHOD:PUBLISH
X-WR-CALNAME:Defence &amp; Fightclub Heracles Valkeakoski
X-ORIGINAL-URL:https://heracles-valkeakoski.fi
X-WR-CALDESC:Events for Defence &amp; Fightclub Heracles Valkeakoski
REFRESH-INTERVAL;VALUE=DURATION:PT1H
X-Robots-Tag:noindex
X-PUBLISHED-TTL:PT1H
BEGIN:VTIMEZONE
TZID:Europe/Helsinki
BEGIN:DAYLIGHT
TZOFFSETFROM:+0200
TZOFFSETTO:+0300
TZNAME:EEST
DTSTART:20250330T010000
END:DAYLIGHT
BEGIN:STANDARD
TZOFFSETFROM:+0300
TZOFFSETTO:+0200
TZNAME:EET
DTSTART:20251026T010000
END:STANDARD
END:VTIMEZONE
BEGIN:VEVENT
DTSTART;TZID=Europe/Helsinki:20250208T100000
DTEND;TZID=Europe/Helsinki:20250208T170000
DTSTAMP:20260426T055155
CREATED:20250120T212544Z
LAST-MODIFIED:20250120T212614Z
UID:10006129-1739008800-1739034000@heracles-valkeakoski.fi
SUMMARY:Henkilösuojaus - hätävarjelu
DESCRIPTION:
URL:https://heracles-valkeakoski.fi/event/henkilosuojaus-hatavarjelu/
LOCATION:Heracles Valkeakoski\, Lempääläntie 18 B\, Valkeakoski\, 37600\, Finland
CATEGORIES:Muut varaukset
END:VEVENT
BEGIN:VEVENT
DTSTART;TZID=Europe/Helsinki:20250208T101500
DTEND;TZID=Europe/Helsinki:20250208T111500
DTSTAMP:20260426T055155
CREATED:20240202T222859Z
LAST-MODIFIED:20240202T222859Z
UID:10002415-1739009700-1739013300@heracles-valkeakoski.fi
SUMMARY:Cross training
DESCRIPTION:
URL:https://heracles-valkeakoski.fi/event/cross-training-4/2025-02-08/
LOCATION:Heracles Valkeakoski\, Lempääläntie 18 B\, Valkeakoski\, 37600\, Finland
CATEGORIES:Cross training
END:VEVENT
END:VCALENDAR