BEGIN:VCALENDAR
VERSION:2.0
PRODID:-//Defence &amp; Fightclub Heracles Valkeakoski - ECPv6.5.0//NONSGML v1.0//EN
CALSCALE:GREGORIAN
METHOD:PUBLISH
X-ORIGINAL-URL:https://heracles-valkeakoski.fi
X-WR-CALDESC:Events for Defence &amp; Fightclub Heracles Valkeakoski
REFRESH-INTERVAL;VALUE=DURATION:PT1H
X-Robots-Tag:noindex
X-PUBLISHED-TTL:PT1H
BEGIN:VTIMEZONE
TZID:Europe/Helsinki
BEGIN:DAYLIGHT
TZOFFSETFROM:+0200
TZOFFSETTO:+0300
TZNAME:EEST
DTSTART:20250330T010000
END:DAYLIGHT
BEGIN:STANDARD
TZOFFSETFROM:+0300
TZOFFSETTO:+0200
TZNAME:EET
DTSTART:20251026T010000
END:STANDARD
END:VTIMEZONE
BEGIN:VEVENT
DTSTART;TZID=Europe/Helsinki:20250222T101500
DTEND;TZID=Europe/Helsinki:20250222T111500
DTSTAMP:20260422T113442
CREATED:20240202T222859Z
LAST-MODIFIED:20240202T222859Z
UID:10002417-1740219300-1740222900@heracles-valkeakoski.fi
SUMMARY:Cross training
DESCRIPTION:
URL:https://heracles-valkeakoski.fi/event/cross-training-4/2025-02-22/
LOCATION:Heracles Valkeakoski\, Lempääläntie 18 B\, Valkeakoski\, 37600\, Finland
CATEGORIES:Cross training
END:VEVENT
BEGIN:VEVENT
DTSTART;TZID=Europe/Helsinki:20250222T160000
DTEND;TZID=Europe/Helsinki:20250222T180000
DTSTAMP:20260422T113442
CREATED:20250127T071501Z
LAST-MODIFIED:20250211T075338Z
UID:10006132-1740240000-1740247200@heracles-valkeakoski.fi
SUMMARY:Yksityistilaisuus
DESCRIPTION:Sali varattu yksityistilaisuuteen
URL:https://heracles-valkeakoski.fi/event/yksityistilaisuus-2/
LOCATION:Heracles Valkeakoski\, Lempääläntie 18 B\, Valkeakoski\, 37600\, Finland
ORGANIZER;CN="Heracles Valkeakoski":MAILTO:info@heracles-valkeakoski.fi
END:VEVENT
END:VCALENDAR