BEGIN:VCALENDAR
VERSION:2.0
PRODID:-//Defence &amp; Fightclub Heracles Valkeakoski - ECPv6.5.0//NONSGML v1.0//EN
CALSCALE:GREGORIAN
METHOD:PUBLISH
X-ORIGINAL-URL:https://heracles-valkeakoski.fi
X-WR-CALDESC:Events for Defence &amp; Fightclub Heracles Valkeakoski
REFRESH-INTERVAL;VALUE=DURATION:PT1H
X-Robots-Tag:noindex
X-PUBLISHED-TTL:PT1H
BEGIN:VTIMEZONE
TZID:Europe/Helsinki
BEGIN:DAYLIGHT
TZOFFSETFROM:+0200
TZOFFSETTO:+0300
TZNAME:EEST
DTSTART:20250330T010000
END:DAYLIGHT
BEGIN:STANDARD
TZOFFSETFROM:+0300
TZOFFSETTO:+0200
TZNAME:EET
DTSTART:20251026T010000
END:STANDARD
END:VTIMEZONE
BEGIN:VEVENT
DTSTART;TZID=Europe/Helsinki:20250310T170000
DTEND;TZID=Europe/Helsinki:20250310T180000
DTSTAMP:20260420T041446
CREATED:20240123T223503Z
LAST-MODIFIED:20240123T223531Z
UID:10000845-1741626000-1741629600@heracles-valkeakoski.fi
SUMMARY:Cross training
DESCRIPTION:
URL:https://heracles-valkeakoski.fi/event/cross-training/2025-03-10/
LOCATION:Heracles Valkeakoski\, Lempääläntie 18 B\, Valkeakoski\, 37600\, Finland
CATEGORIES:Cross training
END:VEVENT
BEGIN:VEVENT
DTSTART;TZID=Europe/Helsinki:20250310T173000
DTEND;TZID=Europe/Helsinki:20250310T184500
DTSTAMP:20260420T041446
CREATED:20250120T211442Z
LAST-MODIFIED:20250316T192044Z
UID:10005353-1741627800-1741632300@heracles-valkeakoski.fi
SUMMARY:Potkunyrkkeily
DESCRIPTION:
URL:https://heracles-valkeakoski.fi/event/potkunyrkkeily-3/2025-03-10/
CATEGORIES:Potkunyrkkeily
END:VEVENT
BEGIN:VEVENT
DTSTART;TZID=Europe/Helsinki:20250310T180000
DTEND;TZID=Europe/Helsinki:20250310T190000
DTSTAMP:20260420T041446
CREATED:20250114T122158Z
LAST-MODIFIED:20250120T211211Z
UID:10005093-1741629600-1741633200@heracles-valkeakoski.fi
SUMMARY:CT peruskurssi
DESCRIPTION:
URL:https://heracles-valkeakoski.fi/event/ct-peruskurssi-2-3/2025-03-10/
LOCATION:Heracles Valkeakoski\, Lempääläntie 18 B\, Valkeakoski\, 37600\, Finland
CATEGORIES:Cross training
END:VEVENT
BEGIN:VEVENT
DTSTART;TZID=Europe/Helsinki:20250310T184500
DTEND;TZID=Europe/Helsinki:20250310T200000
DTSTAMP:20260420T041446
CREATED:20250127T221918Z
LAST-MODIFIED:20251216T121441Z
UID:10006952-1741632300-1741636800@heracles-valkeakoski.fi
SUMMARY:Lukkopaini
DESCRIPTION:
URL:https://heracles-valkeakoski.fi/event/bjj-4/2025-03-10/
LOCATION:Heracles Valkeakoski\, Lempääläntie 18 B\, Valkeakoski\, 37600\, Finland
CATEGORIES:BJJ
ORGANIZER;CN="Heracles Valkeakoski":MAILTO:info@heracles-valkeakoski.fi
END:VEVENT
BEGIN:VEVENT
DTSTART;TZID=Europe/Helsinki:20250310T190000
DTEND;TZID=Europe/Helsinki:20250310T200000
DTSTAMP:20260420T041446
CREATED:20250127T221654Z
LAST-MODIFIED:20250127T221654Z
UID:10006145-1741633200-1741636800@heracles-valkeakoski.fi
SUMMARY:Kali
DESCRIPTION:
URL:https://heracles-valkeakoski.fi/event/kali/2025-03-10/
LOCATION:Heracles Valkeakoski\, Lempääläntie 18 B\, Valkeakoski\, 37600\, Finland
CATEGORIES:Kali
ORGANIZER;CN="Heracles Valkeakoski":MAILTO:info@heracles-valkeakoski.fi
END:VEVENT
END:VCALENDAR