BEGIN:VCALENDAR
VERSION:2.0
PRODID:-//Defence &amp; Fightclub Heracles Valkeakoski - ECPv6.5.0//NONSGML v1.0//EN
CALSCALE:GREGORIAN
METHOD:PUBLISH
X-ORIGINAL-URL:https://heracles-valkeakoski.fi
X-WR-CALDESC:Events for Defence &amp; Fightclub Heracles Valkeakoski
REFRESH-INTERVAL;VALUE=DURATION:PT1H
X-Robots-Tag:noindex
X-PUBLISHED-TTL:PT1H
BEGIN:VTIMEZONE
TZID:Europe/Helsinki
BEGIN:DAYLIGHT
TZOFFSETFROM:+0200
TZOFFSETTO:+0300
TZNAME:EEST
DTSTART:20250330T010000
END:DAYLIGHT
BEGIN:STANDARD
TZOFFSETFROM:+0300
TZOFFSETTO:+0200
TZNAME:EET
DTSTART:20251026T010000
END:STANDARD
END:VTIMEZONE
BEGIN:VEVENT
DTSTART;TZID=Europe/Helsinki:20250330T110000
DTEND;TZID=Europe/Helsinki:20250330T120000
DTSTAMP:20260419T222903
CREATED:20250129T080918Z
LAST-MODIFIED:20250129T080918Z
UID:10006926-1743332400-1743336000@heracles-valkeakoski.fi
SUMMARY:Old Boys & Girls
DESCRIPTION:Oletko joskus harrastanut kamppailua tai itsepuolustusta? Mutta on tullut ”vähän” taukoa. Olisiko kiva treenata juttuja joita tehtiin silloin ennen\, kun kaikki oli vielä kunnollista. Mutta et uskalla lähteä parikymppisten kisakoneiden kanssa samoihin treeneihin? Älä huoli\, nyt tulee Saario Academy Old Boys’ training!\n\n\n\nMikä konsepti?\nTehdään niitä siistejä juttuja\, joita tehtiin silloin ennen\, mutta vaan paljon hitaammin\, kevyemmin ja vähemmän. Huolelliset alkulämmöt ja järkevä setämiehille / tätinaisille sopiva tekemisen vauhti yhdistettynä sosiaaliseen kanssakäymiseen vanhojen tuttujen kanssa.\n\n\nMitä luvassa?\nKamppailullista tekemistä\nMenneiden muistelua\n80-luvun metallimusiikkia\npaskoja vitsejä\nharmaita hiuksia ja partoja\nyöllisiä vessakäyntejä\nheikentynyttä lähimuistia\nlaskenutta testosteroinin tasoa\nnykymenon kauhistelua\n\n\n\nJos koet olevasi 40v+ ja kuuluvasi joukkoon\, tervetuloa.
URL:https://heracles-valkeakoski.fi/event/old-boys-girls/2025-03-30/
LOCATION:Heracles Valkeakoski\, Lempääläntie 18 B\, Valkeakoski\, 37600\, Finland
CATEGORIES:Old Boys & Girls
ORGANIZER;CN="Heracles Valkeakoski":MAILTO:info@heracles-valkeakoski.fi
END:VEVENT
BEGIN:VEVENT
DTSTART;TZID=Europe/Helsinki:20250330T123000
DTEND;TZID=Europe/Helsinki:20250330T140000
DTSTAMP:20260419T222903
CREATED:20250120T212336Z
LAST-MODIFIED:20250120T212336Z
UID:10005877-1743337800-1743343200@heracles-valkeakoski.fi
SUMMARY:Lukkopaini peruskurssi
DESCRIPTION:
URL:https://heracles-valkeakoski.fi/event/lukkopaini-peruskurssi/2025-03-30/
LOCATION:Heracles Valkeakoski\, Lempääläntie 18 B\, Valkeakoski\, 37600\, Finland
CATEGORIES:BJJ
END:VEVENT
END:VCALENDAR