BEGIN:VCALENDAR
VERSION:2.0
PRODID:-//Defence &amp; Fightclub Heracles Valkeakoski - ECPv6.5.0//NONSGML v1.0//EN
CALSCALE:GREGORIAN
METHOD:PUBLISH
X-ORIGINAL-URL:https://heracles-valkeakoski.fi
X-WR-CALDESC:Events for Defence &amp; Fightclub Heracles Valkeakoski
REFRESH-INTERVAL;VALUE=DURATION:PT1H
X-Robots-Tag:noindex
X-PUBLISHED-TTL:PT1H
BEGIN:VTIMEZONE
TZID:Europe/Helsinki
BEGIN:DAYLIGHT
TZOFFSETFROM:+0200
TZOFFSETTO:+0300
TZNAME:EEST
DTSTART:20250330T010000
END:DAYLIGHT
BEGIN:STANDARD
TZOFFSETFROM:+0300
TZOFFSETTO:+0200
TZNAME:EET
DTSTART:20251026T010000
END:STANDARD
END:VTIMEZONE
BEGIN:VEVENT
DTSTART;TZID=Europe/Helsinki:20250926T161500
DTEND;TZID=Europe/Helsinki:20250926T173000
DTSTAMP:20260423T095618
CREATED:20240202T223231Z
LAST-MODIFIED:20251216T121554Z
UID:10003500-1758903300-1758907800@heracles-valkeakoski.fi
SUMMARY:Lukkopaini
DESCRIPTION:
URL:https://heracles-valkeakoski.fi/event/bjj-3/2025-09-26/
LOCATION:Heracles Valkeakoski\, Lempääläntie 18 B\, Valkeakoski\, 37600\, Finland
CATEGORIES:BJJ
END:VEVENT
BEGIN:VEVENT
DTSTART;TZID=Europe/Helsinki:20250926T173000
DTEND;TZID=Europe/Helsinki:20250926T184500
DTSTAMP:20260423T095618
CREATED:20240202T223634Z
LAST-MODIFIED:20240202T223634Z
UID:10003763-1758907800-1758912300@heracles-valkeakoski.fi
SUMMARY:Lasten BJJ
DESCRIPTION:
URL:https://heracles-valkeakoski.fi/event/lasten-bjj/2025-09-26/
LOCATION:Heracles Valkeakoski\, Lempääläntie 18 B\, Valkeakoski\, 37600\, Finland
CATEGORIES:BJJ
END:VEVENT
END:VCALENDAR