BEGIN:VCALENDAR
VERSION:2.0
PRODID:-//Defence &amp; Fightclub Heracles Valkeakoski - ECPv6.5.0//NONSGML v1.0//EN
CALSCALE:GREGORIAN
METHOD:PUBLISH
X-WR-CALNAME:Defence &amp; Fightclub Heracles Valkeakoski
X-ORIGINAL-URL:https://heracles-valkeakoski.fi
X-WR-CALDESC:Events for Defence &amp; Fightclub Heracles Valkeakoski
REFRESH-INTERVAL;VALUE=DURATION:PT1H
X-Robots-Tag:noindex
X-PUBLISHED-TTL:PT1H
BEGIN:VTIMEZONE
TZID:Europe/Helsinki
BEGIN:DAYLIGHT
TZOFFSETFROM:+0200
TZOFFSETTO:+0300
TZNAME:EEST
DTSTART:20250330T010000
END:DAYLIGHT
BEGIN:STANDARD
TZOFFSETFROM:+0300
TZOFFSETTO:+0200
TZNAME:EET
DTSTART:20251026T010000
END:STANDARD
END:VTIMEZONE
BEGIN:VEVENT
DTSTART;TZID=Europe/Helsinki:20251202T164500
DTEND;TZID=Europe/Helsinki:20251202T180000
DTSTAMP:20260422T073509
CREATED:20251216T122107Z
LAST-MODIFIED:20251216T122107Z
UID:10007932-1764693900-1764698400@heracles-valkeakoski.fi
SUMMARY:Potkunyrkkeily
DESCRIPTION:
URL:https://heracles-valkeakoski.fi/event/potkunyrkkeily/2025-12-02/
CATEGORIES:Potkunyrkkeily
ORGANIZER;CN="Heracles Valkeakoski":MAILTO:info@heracles-valkeakoski.fi
END:VEVENT
BEGIN:VEVENT
DTSTART;TZID=Europe/Helsinki:20251202T180000
DTEND;TZID=Europe/Helsinki:20251202T190000
DTSTAMP:20260422T073509
CREATED:20240123T222847Z
LAST-MODIFIED:20240123T222849Z
UID:10000620-1764698400-1764702000@heracles-valkeakoski.fi
SUMMARY:Defendo
DESCRIPTION:
URL:https://heracles-valkeakoski.fi/event/defendo-2/2025-12-02/
LOCATION:Heracles Valkeakoski\, Lempääläntie 18 B\, Valkeakoski\, 37600\, Finland
CATEGORIES:Defendo
END:VEVENT
BEGIN:VEVENT
DTSTART;TZID=Europe/Helsinki:20251202T190000
DTEND;TZID=Europe/Helsinki:20251202T203000
DTSTAMP:20260422T073509
CREATED:20240202T223030Z
LAST-MODIFIED:20251216T121628Z
UID:10004321-1764702000-1764707400@heracles-valkeakoski.fi
SUMMARY:BJJ
DESCRIPTION:
URL:https://heracles-valkeakoski.fi/event/bjj/2025-12-02/
LOCATION:Heracles Valkeakoski\, Lempääläntie 18 B\, Valkeakoski\, 37600\, Finland
CATEGORIES:BJJ
END:VEVENT
END:VCALENDAR