BEGIN:VCALENDAR
VERSION:2.0
PRODID:-//Defence &amp; Fightclub Heracles Valkeakoski - ECPv6.5.0//NONSGML v1.0//EN
CALSCALE:GREGORIAN
METHOD:PUBLISH
X-ORIGINAL-URL:https://heracles-valkeakoski.fi
X-WR-CALDESC:Events for Defence &amp; Fightclub Heracles Valkeakoski
REFRESH-INTERVAL;VALUE=DURATION:PT1H
X-Robots-Tag:noindex
X-PUBLISHED-TTL:PT1H
BEGIN:VTIMEZONE
TZID:Europe/Helsinki
BEGIN:DAYLIGHT
TZOFFSETFROM:+0200
TZOFFSETTO:+0300
TZNAME:EEST
DTSTART:20270328T010000
END:DAYLIGHT
BEGIN:STANDARD
TZOFFSETFROM:+0300
TZOFFSETTO:+0200
TZNAME:EET
DTSTART:20271031T010000
END:STANDARD
END:VTIMEZONE
BEGIN:VEVENT
DTSTART;TZID=Europe/Helsinki:20270622T164500
DTEND;TZID=Europe/Helsinki:20270622T180000
DTSTAMP:20260423T043412
CREATED:20251216T122107Z
LAST-MODIFIED:20251216T122107Z
UID:10008013-1813682700-1813687200@heracles-valkeakoski.fi
SUMMARY:Potkunyrkkeily
DESCRIPTION:
URL:https://heracles-valkeakoski.fi/event/potkunyrkkeily/2027-06-22/
CATEGORIES:Potkunyrkkeily
ORGANIZER;CN="Heracles Valkeakoski":MAILTO:info@heracles-valkeakoski.fi
END:VEVENT
BEGIN:VEVENT
DTSTART;TZID=Europe/Helsinki:20270622T180000
DTEND;TZID=Europe/Helsinki:20270622T190000
DTSTAMP:20260423T043412
CREATED:20240123T222847Z
LAST-MODIFIED:20240123T222849Z
UID:10000701-1813687200-1813690800@heracles-valkeakoski.fi
SUMMARY:Defendo
DESCRIPTION:
URL:https://heracles-valkeakoski.fi/event/defendo-2/2027-06-22/
LOCATION:Heracles Valkeakoski\, Lempääläntie 18 B\, Valkeakoski\, 37600\, Finland
CATEGORIES:Defendo
END:VEVENT
BEGIN:VEVENT
DTSTART;TZID=Europe/Helsinki:20270622T183000
DTEND;TZID=Europe/Helsinki:20270622T193000
DTSTAMP:20260423T043412
CREATED:20260115T132717Z
LAST-MODIFIED:20260115T132720Z
UID:10008268-1813689000-1813692600@heracles-valkeakoski.fi
SUMMARY:CT peruskurssi
DESCRIPTION:
URL:https://heracles-valkeakoski.fi/event/ct-peruskurssi-2-3-2/2027-06-22/
LOCATION:Heracles Valkeakoski\, Lempääläntie 18 B\, Valkeakoski\, 37600\, Finland
CATEGORIES:Cross training
END:VEVENT
BEGIN:VEVENT
DTSTART;TZID=Europe/Helsinki:20270622T190000
DTEND;TZID=Europe/Helsinki:20270622T203000
DTSTAMP:20260423T043412
CREATED:20240202T223030Z
LAST-MODIFIED:20251216T121628Z
UID:10004402-1813690800-1813696200@heracles-valkeakoski.fi
SUMMARY:BJJ
DESCRIPTION:
URL:https://heracles-valkeakoski.fi/event/bjj/2027-06-22/
LOCATION:Heracles Valkeakoski\, Lempääläntie 18 B\, Valkeakoski\, 37600\, Finland
CATEGORIES:BJJ
END:VEVENT
END:VCALENDAR