BEGIN:VCALENDAR
VERSION:2.0
PRODID:-//Defence &amp; Fightclub Heracles Valkeakoski - ECPv6.5.0//NONSGML v1.0//EN
CALSCALE:GREGORIAN
METHOD:PUBLISH
X-WR-CALNAME:Defence &amp; Fightclub Heracles Valkeakoski
X-ORIGINAL-URL:https://heracles-valkeakoski.fi
X-WR-CALDESC:Events for Defence &amp; Fightclub Heracles Valkeakoski
REFRESH-INTERVAL;VALUE=DURATION:PT1H
X-Robots-Tag:noindex
X-PUBLISHED-TTL:PT1H
BEGIN:VTIMEZONE
TZID:Europe/Helsinki
BEGIN:DAYLIGHT
TZOFFSETFROM:+0200
TZOFFSETTO:+0300
TZNAME:EEST
DTSTART:20290325T010000
END:DAYLIGHT
BEGIN:STANDARD
TZOFFSETFROM:+0300
TZOFFSETTO:+0200
TZNAME:EET
DTSTART:20291028T010000
END:STANDARD
END:VTIMEZONE
BEGIN:VEVENT
DTSTART;TZID=Europe/Helsinki:20290409T184500
DTEND;TZID=Europe/Helsinki:20290409T200000
DTSTAMP:20260421T074536
CREATED:20250127T221918Z
LAST-MODIFIED:20251216T121441Z
UID:10007165-1870454700-1870459200@heracles-valkeakoski.fi
SUMMARY:Lukkopaini
DESCRIPTION:
URL:https://heracles-valkeakoski.fi/event/bjj-4/2029-04-09/
LOCATION:Heracles Valkeakoski\, Lempääläntie 18 B\, Valkeakoski\, 37600\, Finland
CATEGORIES:BJJ
ORGANIZER;CN="Heracles Valkeakoski":MAILTO:info@heracles-valkeakoski.fi
END:VEVENT
BEGIN:VEVENT
DTSTART;TZID=Europe/Helsinki:20290410T190000
DTEND;TZID=Europe/Helsinki:20290410T203000
DTSTAMP:20260421T074536
CREATED:20240202T223030Z
LAST-MODIFIED:20251216T121628Z
UID:10004496-1870542000-1870547400@heracles-valkeakoski.fi
SUMMARY:BJJ
DESCRIPTION:
URL:https://heracles-valkeakoski.fi/event/bjj/2029-04-10/
LOCATION:Heracles Valkeakoski\, Lempääläntie 18 B\, Valkeakoski\, 37600\, Finland
CATEGORIES:BJJ
END:VEVENT
BEGIN:VEVENT
DTSTART;TZID=Europe/Helsinki:20290412T170000
DTEND;TZID=Europe/Helsinki:20290412T183000
DTSTAMP:20260421T074536
CREATED:20240202T223136Z
LAST-MODIFIED:20251216T121614Z
UID:10004215-1870707600-1870713000@heracles-valkeakoski.fi
SUMMARY:BJJ
DESCRIPTION:
URL:https://heracles-valkeakoski.fi/event/bjj-2/2029-04-12/
LOCATION:Heracles Valkeakoski\, Lempääläntie 18 B\, Valkeakoski\, 37600\, Finland
CATEGORIES:BJJ
END:VEVENT
BEGIN:VEVENT
DTSTART;TZID=Europe/Helsinki:20290416T184500
DTEND;TZID=Europe/Helsinki:20290416T200000
DTSTAMP:20260421T074536
CREATED:20250127T221918Z
LAST-MODIFIED:20251216T121441Z
UID:10007166-1871059500-1871064000@heracles-valkeakoski.fi
SUMMARY:Lukkopaini
DESCRIPTION:
URL:https://heracles-valkeakoski.fi/event/bjj-4/2029-04-16/
LOCATION:Heracles Valkeakoski\, Lempääläntie 18 B\, Valkeakoski\, 37600\, Finland
CATEGORIES:BJJ
ORGANIZER;CN="Heracles Valkeakoski":MAILTO:info@heracles-valkeakoski.fi
END:VEVENT
BEGIN:VEVENT
DTSTART;TZID=Europe/Helsinki:20290417T190000
DTEND;TZID=Europe/Helsinki:20290417T203000
DTSTAMP:20260421T074536
CREATED:20240202T223030Z
LAST-MODIFIED:20251216T121628Z
UID:10004497-1871146800-1871152200@heracles-valkeakoski.fi
SUMMARY:BJJ
DESCRIPTION:
URL:https://heracles-valkeakoski.fi/event/bjj/2029-04-17/
LOCATION:Heracles Valkeakoski\, Lempääläntie 18 B\, Valkeakoski\, 37600\, Finland
CATEGORIES:BJJ
END:VEVENT
BEGIN:VEVENT
DTSTART;TZID=Europe/Helsinki:20290419T170000
DTEND;TZID=Europe/Helsinki:20290419T183000
DTSTAMP:20260421T074536
CREATED:20240202T223136Z
LAST-MODIFIED:20251216T121614Z
UID:10004216-1871312400-1871317800@heracles-valkeakoski.fi
SUMMARY:BJJ
DESCRIPTION:
URL:https://heracles-valkeakoski.fi/event/bjj-2/2029-04-19/
LOCATION:Heracles Valkeakoski\, Lempääläntie 18 B\, Valkeakoski\, 37600\, Finland
CATEGORIES:BJJ
END:VEVENT
BEGIN:VEVENT
DTSTART;TZID=Europe/Helsinki:20290423T184500
DTEND;TZID=Europe/Helsinki:20290423T200000
DTSTAMP:20260421T074536
CREATED:20250127T221918Z
LAST-MODIFIED:20251216T121441Z
UID:10007167-1871664300-1871668800@heracles-valkeakoski.fi
SUMMARY:Lukkopaini
DESCRIPTION:
URL:https://heracles-valkeakoski.fi/event/bjj-4/2029-04-23/
LOCATION:Heracles Valkeakoski\, Lempääläntie 18 B\, Valkeakoski\, 37600\, Finland
CATEGORIES:BJJ
ORGANIZER;CN="Heracles Valkeakoski":MAILTO:info@heracles-valkeakoski.fi
END:VEVENT
BEGIN:VEVENT
DTSTART;TZID=Europe/Helsinki:20290424T190000
DTEND;TZID=Europe/Helsinki:20290424T203000
DTSTAMP:20260421T074536
CREATED:20240202T223030Z
LAST-MODIFIED:20251216T121628Z
UID:10004498-1871751600-1871757000@heracles-valkeakoski.fi
SUMMARY:BJJ
DESCRIPTION:
URL:https://heracles-valkeakoski.fi/event/bjj/2029-04-24/
LOCATION:Heracles Valkeakoski\, Lempääläntie 18 B\, Valkeakoski\, 37600\, Finland
CATEGORIES:BJJ
END:VEVENT
BEGIN:VEVENT
DTSTART;TZID=Europe/Helsinki:20290426T170000
DTEND;TZID=Europe/Helsinki:20290426T183000
DTSTAMP:20260421T074536
CREATED:20240202T223136Z
LAST-MODIFIED:20251216T121614Z
UID:10004217-1871917200-1871922600@heracles-valkeakoski.fi
SUMMARY:BJJ
DESCRIPTION:
URL:https://heracles-valkeakoski.fi/event/bjj-2/2029-04-26/
LOCATION:Heracles Valkeakoski\, Lempääläntie 18 B\, Valkeakoski\, 37600\, Finland
CATEGORIES:BJJ
END:VEVENT
BEGIN:VEVENT
DTSTART;TZID=Europe/Helsinki:20290430T184500
DTEND;TZID=Europe/Helsinki:20290430T200000
DTSTAMP:20260421T074536
CREATED:20250127T221918Z
LAST-MODIFIED:20251216T121441Z
UID:10007168-1872269100-1872273600@heracles-valkeakoski.fi
SUMMARY:Lukkopaini
DESCRIPTION:
URL:https://heracles-valkeakoski.fi/event/bjj-4/2029-04-30/
LOCATION:Heracles Valkeakoski\, Lempääläntie 18 B\, Valkeakoski\, 37600\, Finland
CATEGORIES:BJJ
ORGANIZER;CN="Heracles Valkeakoski":MAILTO:info@heracles-valkeakoski.fi
END:VEVENT
BEGIN:VEVENT
DTSTART;TZID=Europe/Helsinki:20290501T190000
DTEND;TZID=Europe/Helsinki:20290501T203000
DTSTAMP:20260421T074536
CREATED:20240202T223030Z
LAST-MODIFIED:20251216T121628Z
UID:10004499-1872356400-1872361800@heracles-valkeakoski.fi
SUMMARY:BJJ
DESCRIPTION:
URL:https://heracles-valkeakoski.fi/event/bjj/2029-05-01/
LOCATION:Heracles Valkeakoski\, Lempääläntie 18 B\, Valkeakoski\, 37600\, Finland
CATEGORIES:BJJ
END:VEVENT
BEGIN:VEVENT
DTSTART;TZID=Europe/Helsinki:20290503T170000
DTEND;TZID=Europe/Helsinki:20290503T183000
DTSTAMP:20260421T074536
CREATED:20240202T223136Z
LAST-MODIFIED:20251216T121614Z
UID:10004218-1872522000-1872527400@heracles-valkeakoski.fi
SUMMARY:BJJ
DESCRIPTION:
URL:https://heracles-valkeakoski.fi/event/bjj-2/2029-05-03/
LOCATION:Heracles Valkeakoski\, Lempääläntie 18 B\, Valkeakoski\, 37600\, Finland
CATEGORIES:BJJ
END:VEVENT
BEGIN:VEVENT
DTSTART;TZID=Europe/Helsinki:20290507T184500
DTEND;TZID=Europe/Helsinki:20290507T200000
DTSTAMP:20260421T074536
CREATED:20250127T221918Z
LAST-MODIFIED:20251216T121441Z
UID:10007169-1872873900-1872878400@heracles-valkeakoski.fi
SUMMARY:Lukkopaini
DESCRIPTION:
URL:https://heracles-valkeakoski.fi/event/bjj-4/2029-05-07/
LOCATION:Heracles Valkeakoski\, Lempääläntie 18 B\, Valkeakoski\, 37600\, Finland
CATEGORIES:BJJ
ORGANIZER;CN="Heracles Valkeakoski":MAILTO:info@heracles-valkeakoski.fi
END:VEVENT
BEGIN:VEVENT
DTSTART;TZID=Europe/Helsinki:20290508T190000
DTEND;TZID=Europe/Helsinki:20290508T203000
DTSTAMP:20260421T074536
CREATED:20240202T223030Z
LAST-MODIFIED:20251216T121628Z
UID:10004500-1872961200-1872966600@heracles-valkeakoski.fi
SUMMARY:BJJ
DESCRIPTION:
URL:https://heracles-valkeakoski.fi/event/bjj/2029-05-08/
LOCATION:Heracles Valkeakoski\, Lempääläntie 18 B\, Valkeakoski\, 37600\, Finland
CATEGORIES:BJJ
END:VEVENT
BEGIN:VEVENT
DTSTART;TZID=Europe/Helsinki:20290510T170000
DTEND;TZID=Europe/Helsinki:20290510T183000
DTSTAMP:20260421T074536
CREATED:20240202T223136Z
LAST-MODIFIED:20251216T121614Z
UID:10004219-1873126800-1873132200@heracles-valkeakoski.fi
SUMMARY:BJJ
DESCRIPTION:
URL:https://heracles-valkeakoski.fi/event/bjj-2/2029-05-10/
LOCATION:Heracles Valkeakoski\, Lempääläntie 18 B\, Valkeakoski\, 37600\, Finland
CATEGORIES:BJJ
END:VEVENT
BEGIN:VEVENT
DTSTART;TZID=Europe/Helsinki:20290514T184500
DTEND;TZID=Europe/Helsinki:20290514T200000
DTSTAMP:20260421T074536
CREATED:20250127T221918Z
LAST-MODIFIED:20251216T121441Z
UID:10007170-1873478700-1873483200@heracles-valkeakoski.fi
SUMMARY:Lukkopaini
DESCRIPTION:
URL:https://heracles-valkeakoski.fi/event/bjj-4/2029-05-14/
LOCATION:Heracles Valkeakoski\, Lempääläntie 18 B\, Valkeakoski\, 37600\, Finland
CATEGORIES:BJJ
ORGANIZER;CN="Heracles Valkeakoski":MAILTO:info@heracles-valkeakoski.fi
END:VEVENT
BEGIN:VEVENT
DTSTART;TZID=Europe/Helsinki:20290515T190000
DTEND;TZID=Europe/Helsinki:20290515T203000
DTSTAMP:20260421T074536
CREATED:20240202T223030Z
LAST-MODIFIED:20251216T121628Z
UID:10004501-1873566000-1873571400@heracles-valkeakoski.fi
SUMMARY:BJJ
DESCRIPTION:
URL:https://heracles-valkeakoski.fi/event/bjj/2029-05-15/
LOCATION:Heracles Valkeakoski\, Lempääläntie 18 B\, Valkeakoski\, 37600\, Finland
CATEGORIES:BJJ
END:VEVENT
BEGIN:VEVENT
DTSTART;TZID=Europe/Helsinki:20290517T170000
DTEND;TZID=Europe/Helsinki:20290517T183000
DTSTAMP:20260421T074536
CREATED:20240202T223136Z
LAST-MODIFIED:20251216T121614Z
UID:10004220-1873731600-1873737000@heracles-valkeakoski.fi
SUMMARY:BJJ
DESCRIPTION:
URL:https://heracles-valkeakoski.fi/event/bjj-2/2029-05-17/
LOCATION:Heracles Valkeakoski\, Lempääläntie 18 B\, Valkeakoski\, 37600\, Finland
CATEGORIES:BJJ
END:VEVENT
BEGIN:VEVENT
DTSTART;TZID=Europe/Helsinki:20290521T184500
DTEND;TZID=Europe/Helsinki:20290521T200000
DTSTAMP:20260421T074536
CREATED:20250127T221918Z
LAST-MODIFIED:20251216T121441Z
UID:10007171-1874083500-1874088000@heracles-valkeakoski.fi
SUMMARY:Lukkopaini
DESCRIPTION:
URL:https://heracles-valkeakoski.fi/event/bjj-4/2029-05-21/
LOCATION:Heracles Valkeakoski\, Lempääläntie 18 B\, Valkeakoski\, 37600\, Finland
CATEGORIES:BJJ
ORGANIZER;CN="Heracles Valkeakoski":MAILTO:info@heracles-valkeakoski.fi
END:VEVENT
BEGIN:VEVENT
DTSTART;TZID=Europe/Helsinki:20290522T190000
DTEND;TZID=Europe/Helsinki:20290522T203000
DTSTAMP:20260421T074536
CREATED:20240202T223030Z
LAST-MODIFIED:20251216T121628Z
UID:10004502-1874170800-1874176200@heracles-valkeakoski.fi
SUMMARY:BJJ
DESCRIPTION:
URL:https://heracles-valkeakoski.fi/event/bjj/2029-05-22/
LOCATION:Heracles Valkeakoski\, Lempääläntie 18 B\, Valkeakoski\, 37600\, Finland
CATEGORIES:BJJ
END:VEVENT
BEGIN:VEVENT
DTSTART;TZID=Europe/Helsinki:20290524T170000
DTEND;TZID=Europe/Helsinki:20290524T183000
DTSTAMP:20260421T074536
CREATED:20240202T223136Z
LAST-MODIFIED:20251216T121614Z
UID:10004221-1874336400-1874341800@heracles-valkeakoski.fi
SUMMARY:BJJ
DESCRIPTION:
URL:https://heracles-valkeakoski.fi/event/bjj-2/2029-05-24/
LOCATION:Heracles Valkeakoski\, Lempääläntie 18 B\, Valkeakoski\, 37600\, Finland
CATEGORIES:BJJ
END:VEVENT
BEGIN:VEVENT
DTSTART;TZID=Europe/Helsinki:20290528T184500
DTEND;TZID=Europe/Helsinki:20290528T200000
DTSTAMP:20260421T074536
CREATED:20250127T221918Z
LAST-MODIFIED:20251216T121441Z
UID:10007172-1874688300-1874692800@heracles-valkeakoski.fi
SUMMARY:Lukkopaini
DESCRIPTION:
URL:https://heracles-valkeakoski.fi/event/bjj-4/2029-05-28/
LOCATION:Heracles Valkeakoski\, Lempääläntie 18 B\, Valkeakoski\, 37600\, Finland
CATEGORIES:BJJ
ORGANIZER;CN="Heracles Valkeakoski":MAILTO:info@heracles-valkeakoski.fi
END:VEVENT
BEGIN:VEVENT
DTSTART;TZID=Europe/Helsinki:20290529T190000
DTEND;TZID=Europe/Helsinki:20290529T203000
DTSTAMP:20260421T074536
CREATED:20240202T223030Z
LAST-MODIFIED:20251216T121628Z
UID:10004503-1874775600-1874781000@heracles-valkeakoski.fi
SUMMARY:BJJ
DESCRIPTION:
URL:https://heracles-valkeakoski.fi/event/bjj/2029-05-29/
LOCATION:Heracles Valkeakoski\, Lempääläntie 18 B\, Valkeakoski\, 37600\, Finland
CATEGORIES:BJJ
END:VEVENT
BEGIN:VEVENT
DTSTART;TZID=Europe/Helsinki:20290531T170000
DTEND;TZID=Europe/Helsinki:20290531T183000
DTSTAMP:20260421T074536
CREATED:20240202T223136Z
LAST-MODIFIED:20251216T121614Z
UID:10004222-1874941200-1874946600@heracles-valkeakoski.fi
SUMMARY:BJJ
DESCRIPTION:
URL:https://heracles-valkeakoski.fi/event/bjj-2/2029-05-31/
LOCATION:Heracles Valkeakoski\, Lempääläntie 18 B\, Valkeakoski\, 37600\, Finland
CATEGORIES:BJJ
END:VEVENT
BEGIN:VEVENT
DTSTART;TZID=Europe/Helsinki:20290604T184500
DTEND;TZID=Europe/Helsinki:20290604T200000
DTSTAMP:20260421T074536
CREATED:20250127T221918Z
LAST-MODIFIED:20251216T121441Z
UID:10007173-1875293100-1875297600@heracles-valkeakoski.fi
SUMMARY:Lukkopaini
DESCRIPTION:
URL:https://heracles-valkeakoski.fi/event/bjj-4/2029-06-04/
LOCATION:Heracles Valkeakoski\, Lempääläntie 18 B\, Valkeakoski\, 37600\, Finland
CATEGORIES:BJJ
ORGANIZER;CN="Heracles Valkeakoski":MAILTO:info@heracles-valkeakoski.fi
END:VEVENT
BEGIN:VEVENT
DTSTART;TZID=Europe/Helsinki:20290605T190000
DTEND;TZID=Europe/Helsinki:20290605T203000
DTSTAMP:20260421T074536
CREATED:20240202T223030Z
LAST-MODIFIED:20251216T121628Z
UID:10004504-1875380400-1875385800@heracles-valkeakoski.fi
SUMMARY:BJJ
DESCRIPTION:
URL:https://heracles-valkeakoski.fi/event/bjj/2029-06-05/
LOCATION:Heracles Valkeakoski\, Lempääläntie 18 B\, Valkeakoski\, 37600\, Finland
CATEGORIES:BJJ
END:VEVENT
BEGIN:VEVENT
DTSTART;TZID=Europe/Helsinki:20290607T170000
DTEND;TZID=Europe/Helsinki:20290607T183000
DTSTAMP:20260421T074536
CREATED:20240202T223136Z
LAST-MODIFIED:20251216T121614Z
UID:10004223-1875546000-1875551400@heracles-valkeakoski.fi
SUMMARY:BJJ
DESCRIPTION:
URL:https://heracles-valkeakoski.fi/event/bjj-2/2029-06-07/
LOCATION:Heracles Valkeakoski\, Lempääläntie 18 B\, Valkeakoski\, 37600\, Finland
CATEGORIES:BJJ
END:VEVENT
BEGIN:VEVENT
DTSTART;TZID=Europe/Helsinki:20290611T184500
DTEND;TZID=Europe/Helsinki:20290611T200000
DTSTAMP:20260421T074536
CREATED:20250127T221918Z
LAST-MODIFIED:20251216T121441Z
UID:10007174-1875897900-1875902400@heracles-valkeakoski.fi
SUMMARY:Lukkopaini
DESCRIPTION:
URL:https://heracles-valkeakoski.fi/event/bjj-4/2029-06-11/
LOCATION:Heracles Valkeakoski\, Lempääläntie 18 B\, Valkeakoski\, 37600\, Finland
CATEGORIES:BJJ
ORGANIZER;CN="Heracles Valkeakoski":MAILTO:info@heracles-valkeakoski.fi
END:VEVENT
BEGIN:VEVENT
DTSTART;TZID=Europe/Helsinki:20290618T184500
DTEND;TZID=Europe/Helsinki:20290618T200000
DTSTAMP:20260421T074536
CREATED:20250127T221918Z
LAST-MODIFIED:20251216T121441Z
UID:10007175-1876502700-1876507200@heracles-valkeakoski.fi
SUMMARY:Lukkopaini
DESCRIPTION:
URL:https://heracles-valkeakoski.fi/event/bjj-4/2029-06-18/
LOCATION:Heracles Valkeakoski\, Lempääläntie 18 B\, Valkeakoski\, 37600\, Finland
CATEGORIES:BJJ
ORGANIZER;CN="Heracles Valkeakoski":MAILTO:info@heracles-valkeakoski.fi
END:VEVENT
BEGIN:VEVENT
DTSTART;TZID=Europe/Helsinki:20290625T184500
DTEND;TZID=Europe/Helsinki:20290625T200000
DTSTAMP:20260421T074536
CREATED:20250127T221918Z
LAST-MODIFIED:20251216T121441Z
UID:10007176-1877107500-1877112000@heracles-valkeakoski.fi
SUMMARY:Lukkopaini
DESCRIPTION:
URL:https://heracles-valkeakoski.fi/event/bjj-4/2029-06-25/
LOCATION:Heracles Valkeakoski\, Lempääläntie 18 B\, Valkeakoski\, 37600\, Finland
CATEGORIES:BJJ
ORGANIZER;CN="Heracles Valkeakoski":MAILTO:info@heracles-valkeakoski.fi
END:VEVENT
END:VCALENDAR