BEGIN:VCALENDAR
VERSION:2.0
PRODID:-//Defence &amp; Fightclub Heracles Valkeakoski - ECPv6.5.0//NONSGML v1.0//EN
CALSCALE:GREGORIAN
METHOD:PUBLISH
X-WR-CALNAME:Defence &amp; Fightclub Heracles Valkeakoski
X-ORIGINAL-URL:https://heracles-valkeakoski.fi
X-WR-CALDESC:Events for Defence &amp; Fightclub Heracles Valkeakoski
REFRESH-INTERVAL;VALUE=DURATION:PT1H
X-Robots-Tag:noindex
X-PUBLISHED-TTL:PT1H
BEGIN:VTIMEZONE
TZID:Europe/Helsinki
BEGIN:DAYLIGHT
TZOFFSETFROM:+0200
TZOFFSETTO:+0300
TZNAME:EEST
DTSTART:20280326T010000
END:DAYLIGHT
BEGIN:STANDARD
TZOFFSETFROM:+0300
TZOFFSETTO:+0200
TZNAME:EET
DTSTART:20281029T010000
END:STANDARD
END:VTIMEZONE
BEGIN:VEVENT
DTSTART;TZID=Europe/Helsinki:20280306T170000
DTEND;TZID=Europe/Helsinki:20280306T180000
DTSTAMP:20260420T060227
CREATED:20240123T223503Z
LAST-MODIFIED:20240123T223531Z
UID:10001001-1835974800-1835978400@heracles-valkeakoski.fi
SUMMARY:Cross training
DESCRIPTION:
URL:https://heracles-valkeakoski.fi/event/cross-training/2028-03-06/
LOCATION:Heracles Valkeakoski\, Lempääläntie 18 B\, Valkeakoski\, 37600\, Finland
CATEGORIES:Cross training
END:VEVENT
BEGIN:VEVENT
DTSTART;TZID=Europe/Helsinki:20280307T183000
DTEND;TZID=Europe/Helsinki:20280307T193000
DTSTAMP:20260420T060227
CREATED:20260115T132717Z
LAST-MODIFIED:20260115T132720Z
UID:10008305-1836066600-1836070200@heracles-valkeakoski.fi
SUMMARY:CT peruskurssi
DESCRIPTION:
URL:https://heracles-valkeakoski.fi/event/ct-peruskurssi-2-3-2/2028-03-07/
LOCATION:Heracles Valkeakoski\, Lempääläntie 18 B\, Valkeakoski\, 37600\, Finland
CATEGORIES:Cross training
END:VEVENT
BEGIN:VEVENT
DTSTART;TZID=Europe/Helsinki:20280308T173000
DTEND;TZID=Europe/Helsinki:20280308T183000
DTSTAMP:20260420T060227
CREATED:20240202T222430Z
LAST-MODIFIED:20250120T204615Z
UID:10004726-1836149400-1836153000@heracles-valkeakoski.fi
SUMMARY:Cross training
DESCRIPTION:
URL:https://heracles-valkeakoski.fi/event/cross-training-2/2028-03-08/
LOCATION:Heracles Valkeakoski\, Lempääläntie 18 B\, Valkeakoski\, 37600\, Finland
CATEGORIES:Cross training
END:VEVENT
BEGIN:VEVENT
DTSTART;TZID=Europe/Helsinki:20280309T173000
DTEND;TZID=Europe/Helsinki:20280309T183000
DTSTAMP:20260420T060227
CREATED:20240202T222752Z
LAST-MODIFIED:20240202T222752Z
UID:10002313-1836235800-1836239400@heracles-valkeakoski.fi
SUMMARY:Cross training
DESCRIPTION:
URL:https://heracles-valkeakoski.fi/event/cross-training-3/2028-03-09/
LOCATION:Heracles Valkeakoski\, Lempääläntie 18 B\, Valkeakoski\, 37600\, Finland
CATEGORIES:Cross training
END:VEVENT
BEGIN:VEVENT
DTSTART;TZID=Europe/Helsinki:20280309T183000
DTEND;TZID=Europe/Helsinki:20280309T193000
DTSTAMP:20260420T060227
CREATED:20250120T205215Z
LAST-MODIFIED:20250120T205741Z
UID:10004987-1836239400-1836243000@heracles-valkeakoski.fi
SUMMARY:CT peruskurssi
DESCRIPTION:
URL:https://heracles-valkeakoski.fi/event/cross-training-peruskurssi/2028-03-09/
LOCATION:Heracles Valkeakoski\, Lempääläntie 18 B\, Valkeakoski\, 37600\, Finland
CATEGORIES:Cross training
END:VEVENT
BEGIN:VEVENT
DTSTART;TZID=Europe/Helsinki:20280311T101500
DTEND;TZID=Europe/Helsinki:20280311T111500
DTSTAMP:20260420T060227
CREATED:20240202T222859Z
LAST-MODIFIED:20240202T222859Z
UID:10002576-1836382500-1836386100@heracles-valkeakoski.fi
SUMMARY:Cross training
DESCRIPTION:
URL:https://heracles-valkeakoski.fi/event/cross-training-4/2028-03-11/
LOCATION:Heracles Valkeakoski\, Lempääläntie 18 B\, Valkeakoski\, 37600\, Finland
CATEGORIES:Cross training
END:VEVENT
BEGIN:VEVENT
DTSTART;TZID=Europe/Helsinki:20280313T170000
DTEND;TZID=Europe/Helsinki:20280313T180000
DTSTAMP:20260420T060227
CREATED:20240123T223503Z
LAST-MODIFIED:20240123T223531Z
UID:10001002-1836579600-1836583200@heracles-valkeakoski.fi
SUMMARY:Cross training
DESCRIPTION:
URL:https://heracles-valkeakoski.fi/event/cross-training/2028-03-13/
LOCATION:Heracles Valkeakoski\, Lempääläntie 18 B\, Valkeakoski\, 37600\, Finland
CATEGORIES:Cross training
END:VEVENT
BEGIN:VEVENT
DTSTART;TZID=Europe/Helsinki:20280314T183000
DTEND;TZID=Europe/Helsinki:20280314T193000
DTSTAMP:20260420T060227
CREATED:20260115T132717Z
LAST-MODIFIED:20260115T132720Z
UID:10008306-1836671400-1836675000@heracles-valkeakoski.fi
SUMMARY:CT peruskurssi
DESCRIPTION:
URL:https://heracles-valkeakoski.fi/event/ct-peruskurssi-2-3-2/2028-03-14/
LOCATION:Heracles Valkeakoski\, Lempääläntie 18 B\, Valkeakoski\, 37600\, Finland
CATEGORIES:Cross training
END:VEVENT
BEGIN:VEVENT
DTSTART;TZID=Europe/Helsinki:20280315T173000
DTEND;TZID=Europe/Helsinki:20280315T183000
DTSTAMP:20260420T060227
CREATED:20240202T222430Z
LAST-MODIFIED:20250120T204615Z
UID:10004727-1836754200-1836757800@heracles-valkeakoski.fi
SUMMARY:Cross training
DESCRIPTION:
URL:https://heracles-valkeakoski.fi/event/cross-training-2/2028-03-15/
LOCATION:Heracles Valkeakoski\, Lempääläntie 18 B\, Valkeakoski\, 37600\, Finland
CATEGORIES:Cross training
END:VEVENT
BEGIN:VEVENT
DTSTART;TZID=Europe/Helsinki:20280316T173000
DTEND;TZID=Europe/Helsinki:20280316T183000
DTSTAMP:20260420T060227
CREATED:20240202T222752Z
LAST-MODIFIED:20240202T222752Z
UID:10002314-1836840600-1836844200@heracles-valkeakoski.fi
SUMMARY:Cross training
DESCRIPTION:
URL:https://heracles-valkeakoski.fi/event/cross-training-3/2028-03-16/
LOCATION:Heracles Valkeakoski\, Lempääläntie 18 B\, Valkeakoski\, 37600\, Finland
CATEGORIES:Cross training
END:VEVENT
BEGIN:VEVENT
DTSTART;TZID=Europe/Helsinki:20280316T183000
DTEND;TZID=Europe/Helsinki:20280316T193000
DTSTAMP:20260420T060227
CREATED:20250120T205215Z
LAST-MODIFIED:20250120T205741Z
UID:10004988-1836844200-1836847800@heracles-valkeakoski.fi
SUMMARY:CT peruskurssi
DESCRIPTION:
URL:https://heracles-valkeakoski.fi/event/cross-training-peruskurssi/2028-03-16/
LOCATION:Heracles Valkeakoski\, Lempääläntie 18 B\, Valkeakoski\, 37600\, Finland
CATEGORIES:Cross training
END:VEVENT
BEGIN:VEVENT
DTSTART;TZID=Europe/Helsinki:20280318T101500
DTEND;TZID=Europe/Helsinki:20280318T111500
DTSTAMP:20260420T060227
CREATED:20240202T222859Z
LAST-MODIFIED:20240202T222859Z
UID:10002577-1836987300-1836990900@heracles-valkeakoski.fi
SUMMARY:Cross training
DESCRIPTION:
URL:https://heracles-valkeakoski.fi/event/cross-training-4/2028-03-18/
LOCATION:Heracles Valkeakoski\, Lempääläntie 18 B\, Valkeakoski\, 37600\, Finland
CATEGORIES:Cross training
END:VEVENT
BEGIN:VEVENT
DTSTART;TZID=Europe/Helsinki:20280320T170000
DTEND;TZID=Europe/Helsinki:20280320T180000
DTSTAMP:20260420T060227
CREATED:20240123T223503Z
LAST-MODIFIED:20240123T223531Z
UID:10001003-1837184400-1837188000@heracles-valkeakoski.fi
SUMMARY:Cross training
DESCRIPTION:
URL:https://heracles-valkeakoski.fi/event/cross-training/2028-03-20/
LOCATION:Heracles Valkeakoski\, Lempääläntie 18 B\, Valkeakoski\, 37600\, Finland
CATEGORIES:Cross training
END:VEVENT
BEGIN:VEVENT
DTSTART;TZID=Europe/Helsinki:20280321T183000
DTEND;TZID=Europe/Helsinki:20280321T193000
DTSTAMP:20260420T060227
CREATED:20260115T132717Z
LAST-MODIFIED:20260115T132720Z
UID:10008307-1837276200-1837279800@heracles-valkeakoski.fi
SUMMARY:CT peruskurssi
DESCRIPTION:
URL:https://heracles-valkeakoski.fi/event/ct-peruskurssi-2-3-2/2028-03-21/
LOCATION:Heracles Valkeakoski\, Lempääläntie 18 B\, Valkeakoski\, 37600\, Finland
CATEGORIES:Cross training
END:VEVENT
BEGIN:VEVENT
DTSTART;TZID=Europe/Helsinki:20280322T173000
DTEND;TZID=Europe/Helsinki:20280322T183000
DTSTAMP:20260420T060227
CREATED:20240202T222430Z
LAST-MODIFIED:20250120T204615Z
UID:10004728-1837359000-1837362600@heracles-valkeakoski.fi
SUMMARY:Cross training
DESCRIPTION:
URL:https://heracles-valkeakoski.fi/event/cross-training-2/2028-03-22/
LOCATION:Heracles Valkeakoski\, Lempääläntie 18 B\, Valkeakoski\, 37600\, Finland
CATEGORIES:Cross training
END:VEVENT
BEGIN:VEVENT
DTSTART;TZID=Europe/Helsinki:20280323T173000
DTEND;TZID=Europe/Helsinki:20280323T183000
DTSTAMP:20260420T060227
CREATED:20240202T222752Z
LAST-MODIFIED:20240202T222752Z
UID:10002315-1837445400-1837449000@heracles-valkeakoski.fi
SUMMARY:Cross training
DESCRIPTION:
URL:https://heracles-valkeakoski.fi/event/cross-training-3/2028-03-23/
LOCATION:Heracles Valkeakoski\, Lempääläntie 18 B\, Valkeakoski\, 37600\, Finland
CATEGORIES:Cross training
END:VEVENT
BEGIN:VEVENT
DTSTART;TZID=Europe/Helsinki:20280323T183000
DTEND;TZID=Europe/Helsinki:20280323T193000
DTSTAMP:20260420T060227
CREATED:20250120T205215Z
LAST-MODIFIED:20250120T205741Z
UID:10004989-1837449000-1837452600@heracles-valkeakoski.fi
SUMMARY:CT peruskurssi
DESCRIPTION:
URL:https://heracles-valkeakoski.fi/event/cross-training-peruskurssi/2028-03-23/
LOCATION:Heracles Valkeakoski\, Lempääläntie 18 B\, Valkeakoski\, 37600\, Finland
CATEGORIES:Cross training
END:VEVENT
BEGIN:VEVENT
DTSTART;TZID=Europe/Helsinki:20280325T101500
DTEND;TZID=Europe/Helsinki:20280325T111500
DTSTAMP:20260420T060227
CREATED:20240202T222859Z
LAST-MODIFIED:20240202T222859Z
UID:10002578-1837592100-1837595700@heracles-valkeakoski.fi
SUMMARY:Cross training
DESCRIPTION:
URL:https://heracles-valkeakoski.fi/event/cross-training-4/2028-03-25/
LOCATION:Heracles Valkeakoski\, Lempääläntie 18 B\, Valkeakoski\, 37600\, Finland
CATEGORIES:Cross training
END:VEVENT
BEGIN:VEVENT
DTSTART;TZID=Europe/Helsinki:20280327T170000
DTEND;TZID=Europe/Helsinki:20280327T180000
DTSTAMP:20260420T060227
CREATED:20240123T223503Z
LAST-MODIFIED:20240123T223531Z
UID:10001004-1837789200-1837792800@heracles-valkeakoski.fi
SUMMARY:Cross training
DESCRIPTION:
URL:https://heracles-valkeakoski.fi/event/cross-training/2028-03-27/
LOCATION:Heracles Valkeakoski\, Lempääläntie 18 B\, Valkeakoski\, 37600\, Finland
CATEGORIES:Cross training
END:VEVENT
BEGIN:VEVENT
DTSTART;TZID=Europe/Helsinki:20280328T183000
DTEND;TZID=Europe/Helsinki:20280328T193000
DTSTAMP:20260420T060227
CREATED:20260115T132717Z
LAST-MODIFIED:20260115T132720Z
UID:10008308-1837881000-1837884600@heracles-valkeakoski.fi
SUMMARY:CT peruskurssi
DESCRIPTION:
URL:https://heracles-valkeakoski.fi/event/ct-peruskurssi-2-3-2/2028-03-28/
LOCATION:Heracles Valkeakoski\, Lempääläntie 18 B\, Valkeakoski\, 37600\, Finland
CATEGORIES:Cross training
END:VEVENT
BEGIN:VEVENT
DTSTART;TZID=Europe/Helsinki:20280329T173000
DTEND;TZID=Europe/Helsinki:20280329T183000
DTSTAMP:20260420T060227
CREATED:20240202T222430Z
LAST-MODIFIED:20250120T204615Z
UID:10004729-1837963800-1837967400@heracles-valkeakoski.fi
SUMMARY:Cross training
DESCRIPTION:
URL:https://heracles-valkeakoski.fi/event/cross-training-2/2028-03-29/
LOCATION:Heracles Valkeakoski\, Lempääläntie 18 B\, Valkeakoski\, 37600\, Finland
CATEGORIES:Cross training
END:VEVENT
BEGIN:VEVENT
DTSTART;TZID=Europe/Helsinki:20280330T173000
DTEND;TZID=Europe/Helsinki:20280330T183000
DTSTAMP:20260420T060227
CREATED:20240202T222752Z
LAST-MODIFIED:20240202T222752Z
UID:10002316-1838050200-1838053800@heracles-valkeakoski.fi
SUMMARY:Cross training
DESCRIPTION:
URL:https://heracles-valkeakoski.fi/event/cross-training-3/2028-03-30/
LOCATION:Heracles Valkeakoski\, Lempääläntie 18 B\, Valkeakoski\, 37600\, Finland
CATEGORIES:Cross training
END:VEVENT
BEGIN:VEVENT
DTSTART;TZID=Europe/Helsinki:20280330T183000
DTEND;TZID=Europe/Helsinki:20280330T193000
DTSTAMP:20260420T060227
CREATED:20250120T205215Z
LAST-MODIFIED:20250120T205741Z
UID:10004990-1838053800-1838057400@heracles-valkeakoski.fi
SUMMARY:CT peruskurssi
DESCRIPTION:
URL:https://heracles-valkeakoski.fi/event/cross-training-peruskurssi/2028-03-30/
LOCATION:Heracles Valkeakoski\, Lempääläntie 18 B\, Valkeakoski\, 37600\, Finland
CATEGORIES:Cross training
END:VEVENT
BEGIN:VEVENT
DTSTART;TZID=Europe/Helsinki:20280401T101500
DTEND;TZID=Europe/Helsinki:20280401T111500
DTSTAMP:20260420T060227
CREATED:20240202T222859Z
LAST-MODIFIED:20240202T222859Z
UID:10002579-1838196900-1838200500@heracles-valkeakoski.fi
SUMMARY:Cross training
DESCRIPTION:
URL:https://heracles-valkeakoski.fi/event/cross-training-4/2028-04-01/
LOCATION:Heracles Valkeakoski\, Lempääläntie 18 B\, Valkeakoski\, 37600\, Finland
CATEGORIES:Cross training
END:VEVENT
BEGIN:VEVENT
DTSTART;TZID=Europe/Helsinki:20280403T170000
DTEND;TZID=Europe/Helsinki:20280403T180000
DTSTAMP:20260420T060227
CREATED:20240123T223503Z
LAST-MODIFIED:20240123T223531Z
UID:10001005-1838394000-1838397600@heracles-valkeakoski.fi
SUMMARY:Cross training
DESCRIPTION:
URL:https://heracles-valkeakoski.fi/event/cross-training/2028-04-03/
LOCATION:Heracles Valkeakoski\, Lempääläntie 18 B\, Valkeakoski\, 37600\, Finland
CATEGORIES:Cross training
END:VEVENT
BEGIN:VEVENT
DTSTART;TZID=Europe/Helsinki:20280404T183000
DTEND;TZID=Europe/Helsinki:20280404T193000
DTSTAMP:20260420T060227
CREATED:20260115T132717Z
LAST-MODIFIED:20260115T132720Z
UID:10008309-1838485800-1838489400@heracles-valkeakoski.fi
SUMMARY:CT peruskurssi
DESCRIPTION:
URL:https://heracles-valkeakoski.fi/event/ct-peruskurssi-2-3-2/2028-04-04/
LOCATION:Heracles Valkeakoski\, Lempääläntie 18 B\, Valkeakoski\, 37600\, Finland
CATEGORIES:Cross training
END:VEVENT
BEGIN:VEVENT
DTSTART;TZID=Europe/Helsinki:20280405T173000
DTEND;TZID=Europe/Helsinki:20280405T183000
DTSTAMP:20260420T060227
CREATED:20240202T222430Z
LAST-MODIFIED:20250120T204615Z
UID:10004730-1838568600-1838572200@heracles-valkeakoski.fi
SUMMARY:Cross training
DESCRIPTION:
URL:https://heracles-valkeakoski.fi/event/cross-training-2/2028-04-05/
LOCATION:Heracles Valkeakoski\, Lempääläntie 18 B\, Valkeakoski\, 37600\, Finland
CATEGORIES:Cross training
END:VEVENT
BEGIN:VEVENT
DTSTART;TZID=Europe/Helsinki:20280406T173000
DTEND;TZID=Europe/Helsinki:20280406T183000
DTSTAMP:20260420T060227
CREATED:20240202T222752Z
LAST-MODIFIED:20240202T222752Z
UID:10002317-1838655000-1838658600@heracles-valkeakoski.fi
SUMMARY:Cross training
DESCRIPTION:
URL:https://heracles-valkeakoski.fi/event/cross-training-3/2028-04-06/
LOCATION:Heracles Valkeakoski\, Lempääläntie 18 B\, Valkeakoski\, 37600\, Finland
CATEGORIES:Cross training
END:VEVENT
BEGIN:VEVENT
DTSTART;TZID=Europe/Helsinki:20280406T183000
DTEND;TZID=Europe/Helsinki:20280406T193000
DTSTAMP:20260420T060227
CREATED:20250120T205215Z
LAST-MODIFIED:20250120T205741Z
UID:10004991-1838658600-1838662200@heracles-valkeakoski.fi
SUMMARY:CT peruskurssi
DESCRIPTION:
URL:https://heracles-valkeakoski.fi/event/cross-training-peruskurssi/2028-04-06/
LOCATION:Heracles Valkeakoski\, Lempääläntie 18 B\, Valkeakoski\, 37600\, Finland
CATEGORIES:Cross training
END:VEVENT
BEGIN:VEVENT
DTSTART;TZID=Europe/Helsinki:20280408T101500
DTEND;TZID=Europe/Helsinki:20280408T111500
DTSTAMP:20260420T060227
CREATED:20240202T222859Z
LAST-MODIFIED:20240202T222859Z
UID:10002580-1838801700-1838805300@heracles-valkeakoski.fi
SUMMARY:Cross training
DESCRIPTION:
URL:https://heracles-valkeakoski.fi/event/cross-training-4/2028-04-08/
LOCATION:Heracles Valkeakoski\, Lempääläntie 18 B\, Valkeakoski\, 37600\, Finland
CATEGORIES:Cross training
END:VEVENT
END:VCALENDAR