BEGIN:VCALENDAR
VERSION:2.0
PRODID:-//Defence &amp; Fightclub Heracles Valkeakoski - ECPv6.5.0//NONSGML v1.0//EN
CALSCALE:GREGORIAN
METHOD:PUBLISH
X-ORIGINAL-URL:https://heracles-valkeakoski.fi
X-WR-CALDESC:Events for Defence &amp; Fightclub Heracles Valkeakoski
REFRESH-INTERVAL;VALUE=DURATION:PT1H
X-Robots-Tag:noindex
X-PUBLISHED-TTL:PT1H
BEGIN:VTIMEZONE
TZID:Europe/Helsinki
BEGIN:DAYLIGHT
TZOFFSETFROM:+0200
TZOFFSETTO:+0300
TZNAME:EEST
DTSTART:20280326T010000
END:DAYLIGHT
BEGIN:STANDARD
TZOFFSETFROM:+0300
TZOFFSETTO:+0200
TZNAME:EET
DTSTART:20281029T010000
END:STANDARD
END:VTIMEZONE
BEGIN:VEVENT
DTSTART;TZID=Europe/Helsinki:20280406T173000
DTEND;TZID=Europe/Helsinki:20280406T183000
DTSTAMP:20260423T180938
CREATED:20240202T222752Z
LAST-MODIFIED:20240202T222752Z
UID:10002317-1838655000-1838658600@heracles-valkeakoski.fi
SUMMARY:Cross training
DESCRIPTION:
URL:https://heracles-valkeakoski.fi/event/cross-training-3/2028-04-06/
LOCATION:Heracles Valkeakoski\, Lempääläntie 18 B\, Valkeakoski\, 37600\, Finland
CATEGORIES:Cross training
END:VEVENT
BEGIN:VEVENT
DTSTART;TZID=Europe/Helsinki:20280406T183000
DTEND;TZID=Europe/Helsinki:20280406T193000
DTSTAMP:20260423T180938
CREATED:20250120T205215Z
LAST-MODIFIED:20250120T205741Z
UID:10004991-1838658600-1838662200@heracles-valkeakoski.fi
SUMMARY:CT peruskurssi
DESCRIPTION:
URL:https://heracles-valkeakoski.fi/event/cross-training-peruskurssi/2028-04-06/
LOCATION:Heracles Valkeakoski\, Lempääläntie 18 B\, Valkeakoski\, 37600\, Finland
CATEGORIES:Cross training
END:VEVENT
BEGIN:VEVENT
DTSTART;TZID=Europe/Helsinki:20280408T101500
DTEND;TZID=Europe/Helsinki:20280408T111500
DTSTAMP:20260423T180938
CREATED:20240202T222859Z
LAST-MODIFIED:20240202T222859Z
UID:10002580-1838801700-1838805300@heracles-valkeakoski.fi
SUMMARY:Cross training
DESCRIPTION:
URL:https://heracles-valkeakoski.fi/event/cross-training-4/2028-04-08/
LOCATION:Heracles Valkeakoski\, Lempääläntie 18 B\, Valkeakoski\, 37600\, Finland
CATEGORIES:Cross training
END:VEVENT
BEGIN:VEVENT
DTSTART;TZID=Europe/Helsinki:20280410T170000
DTEND;TZID=Europe/Helsinki:20280410T180000
DTSTAMP:20260423T180938
CREATED:20240123T223503Z
LAST-MODIFIED:20240123T223531Z
UID:10001006-1838998800-1839002400@heracles-valkeakoski.fi
SUMMARY:Cross training
DESCRIPTION:
URL:https://heracles-valkeakoski.fi/event/cross-training/2028-04-10/
LOCATION:Heracles Valkeakoski\, Lempääläntie 18 B\, Valkeakoski\, 37600\, Finland
CATEGORIES:Cross training
END:VEVENT
BEGIN:VEVENT
DTSTART;TZID=Europe/Helsinki:20280411T183000
DTEND;TZID=Europe/Helsinki:20280411T193000
DTSTAMP:20260423T180938
CREATED:20260115T132717Z
LAST-MODIFIED:20260115T132720Z
UID:10008310-1839090600-1839094200@heracles-valkeakoski.fi
SUMMARY:CT peruskurssi
DESCRIPTION:
URL:https://heracles-valkeakoski.fi/event/ct-peruskurssi-2-3-2/2028-04-11/
LOCATION:Heracles Valkeakoski\, Lempääläntie 18 B\, Valkeakoski\, 37600\, Finland
CATEGORIES:Cross training
END:VEVENT
BEGIN:VEVENT
DTSTART;TZID=Europe/Helsinki:20280412T173000
DTEND;TZID=Europe/Helsinki:20280412T183000
DTSTAMP:20260423T180938
CREATED:20240202T222430Z
LAST-MODIFIED:20250120T204615Z
UID:10004731-1839173400-1839177000@heracles-valkeakoski.fi
SUMMARY:Cross training
DESCRIPTION:
URL:https://heracles-valkeakoski.fi/event/cross-training-2/2028-04-12/
LOCATION:Heracles Valkeakoski\, Lempääläntie 18 B\, Valkeakoski\, 37600\, Finland
CATEGORIES:Cross training
END:VEVENT
BEGIN:VEVENT
DTSTART;TZID=Europe/Helsinki:20280413T173000
DTEND;TZID=Europe/Helsinki:20280413T183000
DTSTAMP:20260423T180938
CREATED:20240202T222752Z
LAST-MODIFIED:20240202T222752Z
UID:10002318-1839259800-1839263400@heracles-valkeakoski.fi
SUMMARY:Cross training
DESCRIPTION:
URL:https://heracles-valkeakoski.fi/event/cross-training-3/2028-04-13/
LOCATION:Heracles Valkeakoski\, Lempääläntie 18 B\, Valkeakoski\, 37600\, Finland
CATEGORIES:Cross training
END:VEVENT
BEGIN:VEVENT
DTSTART;TZID=Europe/Helsinki:20280413T183000
DTEND;TZID=Europe/Helsinki:20280413T193000
DTSTAMP:20260423T180938
CREATED:20250120T205215Z
LAST-MODIFIED:20250120T205741Z
UID:10004992-1839263400-1839267000@heracles-valkeakoski.fi
SUMMARY:CT peruskurssi
DESCRIPTION:
URL:https://heracles-valkeakoski.fi/event/cross-training-peruskurssi/2028-04-13/
LOCATION:Heracles Valkeakoski\, Lempääläntie 18 B\, Valkeakoski\, 37600\, Finland
CATEGORIES:Cross training
END:VEVENT
BEGIN:VEVENT
DTSTART;TZID=Europe/Helsinki:20280415T101500
DTEND;TZID=Europe/Helsinki:20280415T111500
DTSTAMP:20260423T180938
CREATED:20240202T222859Z
LAST-MODIFIED:20240202T222859Z
UID:10002581-1839406500-1839410100@heracles-valkeakoski.fi
SUMMARY:Cross training
DESCRIPTION:
URL:https://heracles-valkeakoski.fi/event/cross-training-4/2028-04-15/
LOCATION:Heracles Valkeakoski\, Lempääläntie 18 B\, Valkeakoski\, 37600\, Finland
CATEGORIES:Cross training
END:VEVENT
BEGIN:VEVENT
DTSTART;TZID=Europe/Helsinki:20280417T170000
DTEND;TZID=Europe/Helsinki:20280417T180000
DTSTAMP:20260423T180938
CREATED:20240123T223503Z
LAST-MODIFIED:20240123T223531Z
UID:10001007-1839603600-1839607200@heracles-valkeakoski.fi
SUMMARY:Cross training
DESCRIPTION:
URL:https://heracles-valkeakoski.fi/event/cross-training/2028-04-17/
LOCATION:Heracles Valkeakoski\, Lempääläntie 18 B\, Valkeakoski\, 37600\, Finland
CATEGORIES:Cross training
END:VEVENT
BEGIN:VEVENT
DTSTART;TZID=Europe/Helsinki:20280418T183000
DTEND;TZID=Europe/Helsinki:20280418T193000
DTSTAMP:20260423T180938
CREATED:20260115T132717Z
LAST-MODIFIED:20260115T132720Z
UID:10008311-1839695400-1839699000@heracles-valkeakoski.fi
SUMMARY:CT peruskurssi
DESCRIPTION:
URL:https://heracles-valkeakoski.fi/event/ct-peruskurssi-2-3-2/2028-04-18/
LOCATION:Heracles Valkeakoski\, Lempääläntie 18 B\, Valkeakoski\, 37600\, Finland
CATEGORIES:Cross training
END:VEVENT
BEGIN:VEVENT
DTSTART;TZID=Europe/Helsinki:20280419T173000
DTEND;TZID=Europe/Helsinki:20280419T183000
DTSTAMP:20260423T180938
CREATED:20240202T222430Z
LAST-MODIFIED:20250120T204615Z
UID:10004732-1839778200-1839781800@heracles-valkeakoski.fi
SUMMARY:Cross training
DESCRIPTION:
URL:https://heracles-valkeakoski.fi/event/cross-training-2/2028-04-19/
LOCATION:Heracles Valkeakoski\, Lempääläntie 18 B\, Valkeakoski\, 37600\, Finland
CATEGORIES:Cross training
END:VEVENT
BEGIN:VEVENT
DTSTART;TZID=Europe/Helsinki:20280420T173000
DTEND;TZID=Europe/Helsinki:20280420T183000
DTSTAMP:20260423T180938
CREATED:20240202T222752Z
LAST-MODIFIED:20240202T222752Z
UID:10002319-1839864600-1839868200@heracles-valkeakoski.fi
SUMMARY:Cross training
DESCRIPTION:
URL:https://heracles-valkeakoski.fi/event/cross-training-3/2028-04-20/
LOCATION:Heracles Valkeakoski\, Lempääläntie 18 B\, Valkeakoski\, 37600\, Finland
CATEGORIES:Cross training
END:VEVENT
BEGIN:VEVENT
DTSTART;TZID=Europe/Helsinki:20280420T183000
DTEND;TZID=Europe/Helsinki:20280420T193000
DTSTAMP:20260423T180938
CREATED:20250120T205215Z
LAST-MODIFIED:20250120T205741Z
UID:10004993-1839868200-1839871800@heracles-valkeakoski.fi
SUMMARY:CT peruskurssi
DESCRIPTION:
URL:https://heracles-valkeakoski.fi/event/cross-training-peruskurssi/2028-04-20/
LOCATION:Heracles Valkeakoski\, Lempääläntie 18 B\, Valkeakoski\, 37600\, Finland
CATEGORIES:Cross training
END:VEVENT
BEGIN:VEVENT
DTSTART;TZID=Europe/Helsinki:20280422T101500
DTEND;TZID=Europe/Helsinki:20280422T111500
DTSTAMP:20260423T180938
CREATED:20240202T222859Z
LAST-MODIFIED:20240202T222859Z
UID:10002582-1840011300-1840014900@heracles-valkeakoski.fi
SUMMARY:Cross training
DESCRIPTION:
URL:https://heracles-valkeakoski.fi/event/cross-training-4/2028-04-22/
LOCATION:Heracles Valkeakoski\, Lempääläntie 18 B\, Valkeakoski\, 37600\, Finland
CATEGORIES:Cross training
END:VEVENT
BEGIN:VEVENT
DTSTART;TZID=Europe/Helsinki:20280424T170000
DTEND;TZID=Europe/Helsinki:20280424T180000
DTSTAMP:20260423T180938
CREATED:20240123T223503Z
LAST-MODIFIED:20240123T223531Z
UID:10001008-1840208400-1840212000@heracles-valkeakoski.fi
SUMMARY:Cross training
DESCRIPTION:
URL:https://heracles-valkeakoski.fi/event/cross-training/2028-04-24/
LOCATION:Heracles Valkeakoski\, Lempääläntie 18 B\, Valkeakoski\, 37600\, Finland
CATEGORIES:Cross training
END:VEVENT
BEGIN:VEVENT
DTSTART;TZID=Europe/Helsinki:20280425T183000
DTEND;TZID=Europe/Helsinki:20280425T193000
DTSTAMP:20260423T180938
CREATED:20260115T132717Z
LAST-MODIFIED:20260115T132720Z
UID:10008312-1840300200-1840303800@heracles-valkeakoski.fi
SUMMARY:CT peruskurssi
DESCRIPTION:
URL:https://heracles-valkeakoski.fi/event/ct-peruskurssi-2-3-2/2028-04-25/
LOCATION:Heracles Valkeakoski\, Lempääläntie 18 B\, Valkeakoski\, 37600\, Finland
CATEGORIES:Cross training
END:VEVENT
BEGIN:VEVENT
DTSTART;TZID=Europe/Helsinki:20280426T173000
DTEND;TZID=Europe/Helsinki:20280426T183000
DTSTAMP:20260423T180938
CREATED:20240202T222430Z
LAST-MODIFIED:20250120T204615Z
UID:10004733-1840383000-1840386600@heracles-valkeakoski.fi
SUMMARY:Cross training
DESCRIPTION:
URL:https://heracles-valkeakoski.fi/event/cross-training-2/2028-04-26/
LOCATION:Heracles Valkeakoski\, Lempääläntie 18 B\, Valkeakoski\, 37600\, Finland
CATEGORIES:Cross training
END:VEVENT
BEGIN:VEVENT
DTSTART;TZID=Europe/Helsinki:20280427T173000
DTEND;TZID=Europe/Helsinki:20280427T183000
DTSTAMP:20260423T180938
CREATED:20240202T222752Z
LAST-MODIFIED:20240202T222752Z
UID:10002320-1840469400-1840473000@heracles-valkeakoski.fi
SUMMARY:Cross training
DESCRIPTION:
URL:https://heracles-valkeakoski.fi/event/cross-training-3/2028-04-27/
LOCATION:Heracles Valkeakoski\, Lempääläntie 18 B\, Valkeakoski\, 37600\, Finland
CATEGORIES:Cross training
END:VEVENT
BEGIN:VEVENT
DTSTART;TZID=Europe/Helsinki:20280427T183000
DTEND;TZID=Europe/Helsinki:20280427T193000
DTSTAMP:20260423T180938
CREATED:20250120T205215Z
LAST-MODIFIED:20250120T205741Z
UID:10004994-1840473000-1840476600@heracles-valkeakoski.fi
SUMMARY:CT peruskurssi
DESCRIPTION:
URL:https://heracles-valkeakoski.fi/event/cross-training-peruskurssi/2028-04-27/
LOCATION:Heracles Valkeakoski\, Lempääläntie 18 B\, Valkeakoski\, 37600\, Finland
CATEGORIES:Cross training
END:VEVENT
BEGIN:VEVENT
DTSTART;TZID=Europe/Helsinki:20280429T101500
DTEND;TZID=Europe/Helsinki:20280429T111500
DTSTAMP:20260423T180938
CREATED:20240202T222859Z
LAST-MODIFIED:20240202T222859Z
UID:10002583-1840616100-1840619700@heracles-valkeakoski.fi
SUMMARY:Cross training
DESCRIPTION:
URL:https://heracles-valkeakoski.fi/event/cross-training-4/2028-04-29/
LOCATION:Heracles Valkeakoski\, Lempääläntie 18 B\, Valkeakoski\, 37600\, Finland
CATEGORIES:Cross training
END:VEVENT
BEGIN:VEVENT
DTSTART;TZID=Europe/Helsinki:20280501T170000
DTEND;TZID=Europe/Helsinki:20280501T180000
DTSTAMP:20260423T180938
CREATED:20240123T223503Z
LAST-MODIFIED:20240123T223531Z
UID:10001009-1840813200-1840816800@heracles-valkeakoski.fi
SUMMARY:Cross training
DESCRIPTION:
URL:https://heracles-valkeakoski.fi/event/cross-training/2028-05-01/
LOCATION:Heracles Valkeakoski\, Lempääläntie 18 B\, Valkeakoski\, 37600\, Finland
CATEGORIES:Cross training
END:VEVENT
BEGIN:VEVENT
DTSTART;TZID=Europe/Helsinki:20280502T183000
DTEND;TZID=Europe/Helsinki:20280502T193000
DTSTAMP:20260423T180938
CREATED:20260115T132717Z
LAST-MODIFIED:20260115T132720Z
UID:10008313-1840905000-1840908600@heracles-valkeakoski.fi
SUMMARY:CT peruskurssi
DESCRIPTION:
URL:https://heracles-valkeakoski.fi/event/ct-peruskurssi-2-3-2/2028-05-02/
LOCATION:Heracles Valkeakoski\, Lempääläntie 18 B\, Valkeakoski\, 37600\, Finland
CATEGORIES:Cross training
END:VEVENT
BEGIN:VEVENT
DTSTART;TZID=Europe/Helsinki:20280503T173000
DTEND;TZID=Europe/Helsinki:20280503T183000
DTSTAMP:20260423T180938
CREATED:20240202T222430Z
LAST-MODIFIED:20250120T204615Z
UID:10004734-1840987800-1840991400@heracles-valkeakoski.fi
SUMMARY:Cross training
DESCRIPTION:
URL:https://heracles-valkeakoski.fi/event/cross-training-2/2028-05-03/
LOCATION:Heracles Valkeakoski\, Lempääläntie 18 B\, Valkeakoski\, 37600\, Finland
CATEGORIES:Cross training
END:VEVENT
BEGIN:VEVENT
DTSTART;TZID=Europe/Helsinki:20280504T173000
DTEND;TZID=Europe/Helsinki:20280504T183000
DTSTAMP:20260423T180938
CREATED:20240202T222752Z
LAST-MODIFIED:20240202T222752Z
UID:10002321-1841074200-1841077800@heracles-valkeakoski.fi
SUMMARY:Cross training
DESCRIPTION:
URL:https://heracles-valkeakoski.fi/event/cross-training-3/2028-05-04/
LOCATION:Heracles Valkeakoski\, Lempääläntie 18 B\, Valkeakoski\, 37600\, Finland
CATEGORIES:Cross training
END:VEVENT
BEGIN:VEVENT
DTSTART;TZID=Europe/Helsinki:20280504T183000
DTEND;TZID=Europe/Helsinki:20280504T193000
DTSTAMP:20260423T180938
CREATED:20250120T205215Z
LAST-MODIFIED:20250120T205741Z
UID:10004995-1841077800-1841081400@heracles-valkeakoski.fi
SUMMARY:CT peruskurssi
DESCRIPTION:
URL:https://heracles-valkeakoski.fi/event/cross-training-peruskurssi/2028-05-04/
LOCATION:Heracles Valkeakoski\, Lempääläntie 18 B\, Valkeakoski\, 37600\, Finland
CATEGORIES:Cross training
END:VEVENT
BEGIN:VEVENT
DTSTART;TZID=Europe/Helsinki:20280506T101500
DTEND;TZID=Europe/Helsinki:20280506T111500
DTSTAMP:20260423T180938
CREATED:20240202T222859Z
LAST-MODIFIED:20240202T222859Z
UID:10002584-1841220900-1841224500@heracles-valkeakoski.fi
SUMMARY:Cross training
DESCRIPTION:
URL:https://heracles-valkeakoski.fi/event/cross-training-4/2028-05-06/
LOCATION:Heracles Valkeakoski\, Lempääläntie 18 B\, Valkeakoski\, 37600\, Finland
CATEGORIES:Cross training
END:VEVENT
BEGIN:VEVENT
DTSTART;TZID=Europe/Helsinki:20280508T170000
DTEND;TZID=Europe/Helsinki:20280508T180000
DTSTAMP:20260423T180938
CREATED:20240123T223503Z
LAST-MODIFIED:20240123T223531Z
UID:10001010-1841418000-1841421600@heracles-valkeakoski.fi
SUMMARY:Cross training
DESCRIPTION:
URL:https://heracles-valkeakoski.fi/event/cross-training/2028-05-08/
LOCATION:Heracles Valkeakoski\, Lempääläntie 18 B\, Valkeakoski\, 37600\, Finland
CATEGORIES:Cross training
END:VEVENT
BEGIN:VEVENT
DTSTART;TZID=Europe/Helsinki:20280509T183000
DTEND;TZID=Europe/Helsinki:20280509T193000
DTSTAMP:20260423T180938
CREATED:20260115T132717Z
LAST-MODIFIED:20260115T132720Z
UID:10008314-1841509800-1841513400@heracles-valkeakoski.fi
SUMMARY:CT peruskurssi
DESCRIPTION:
URL:https://heracles-valkeakoski.fi/event/ct-peruskurssi-2-3-2/2028-05-09/
LOCATION:Heracles Valkeakoski\, Lempääläntie 18 B\, Valkeakoski\, 37600\, Finland
CATEGORIES:Cross training
END:VEVENT
BEGIN:VEVENT
DTSTART;TZID=Europe/Helsinki:20280510T173000
DTEND;TZID=Europe/Helsinki:20280510T183000
DTSTAMP:20260423T180938
CREATED:20240202T222430Z
LAST-MODIFIED:20250120T204615Z
UID:10004735-1841592600-1841596200@heracles-valkeakoski.fi
SUMMARY:Cross training
DESCRIPTION:
URL:https://heracles-valkeakoski.fi/event/cross-training-2/2028-05-10/
LOCATION:Heracles Valkeakoski\, Lempääläntie 18 B\, Valkeakoski\, 37600\, Finland
CATEGORIES:Cross training
END:VEVENT
END:VCALENDAR