BEGIN:VCALENDAR
VERSION:2.0
PRODID:-//Defence &amp; Fightclub Heracles Valkeakoski - ECPv6.5.0//NONSGML v1.0//EN
CALSCALE:GREGORIAN
METHOD:PUBLISH
X-ORIGINAL-URL:https://heracles-valkeakoski.fi
X-WR-CALDESC:Events for Defence &amp; Fightclub Heracles Valkeakoski
REFRESH-INTERVAL;VALUE=DURATION:PT1H
X-Robots-Tag:noindex
X-PUBLISHED-TTL:PT1H
BEGIN:VTIMEZONE
TZID:Europe/Helsinki
BEGIN:DAYLIGHT
TZOFFSETFROM:+0200
TZOFFSETTO:+0300
TZNAME:EEST
DTSTART:20240331T010000
END:DAYLIGHT
BEGIN:STANDARD
TZOFFSETFROM:+0300
TZOFFSETTO:+0200
TZNAME:EET
DTSTART:20241027T010000
END:STANDARD
END:VTIMEZONE
BEGIN:VEVENT
DTSTART;TZID=Europe/Helsinki:20241001T180000
DTEND;TZID=Europe/Helsinki:20241001T190000
DTSTAMP:20260420T112812
CREATED:20240123T222847Z
LAST-MODIFIED:20240123T222849Z
UID:10000559-1727805600-1727809200@heracles-valkeakoski.fi
SUMMARY:Defendo
DESCRIPTION:
URL:https://heracles-valkeakoski.fi/event/defendo-2/2024-10-01/
LOCATION:Heracles Valkeakoski\, Lempääläntie 18 B\, Valkeakoski\, 37600\, Finland
CATEGORIES:Defendo
END:VEVENT
BEGIN:VEVENT
DTSTART;TZID=Europe/Helsinki:20241003T183000
DTEND;TZID=Europe/Helsinki:20241003T194500
DTSTAMP:20260420T112812
CREATED:20240123T222056Z
LAST-MODIFIED:20250911T091241Z
UID:10000038-1727980200-1727984700@heracles-valkeakoski.fi
SUMMARY:Defendo
DESCRIPTION:
URL:https://heracles-valkeakoski.fi/event/defendo-harjoitus/2024-10-03/
LOCATION:Heracles Valkeakoski\, Lempääläntie 18 B\, Valkeakoski\, 37600\, Finland
CATEGORIES:Defendo
END:VEVENT
BEGIN:VEVENT
DTSTART;TZID=Europe/Helsinki:20241008T180000
DTEND;TZID=Europe/Helsinki:20241008T190000
DTSTAMP:20260420T112812
CREATED:20240123T222847Z
LAST-MODIFIED:20240123T222849Z
UID:10000560-1728410400-1728414000@heracles-valkeakoski.fi
SUMMARY:Defendo
DESCRIPTION:
URL:https://heracles-valkeakoski.fi/event/defendo-2/2024-10-08/
LOCATION:Heracles Valkeakoski\, Lempääläntie 18 B\, Valkeakoski\, 37600\, Finland
CATEGORIES:Defendo
END:VEVENT
BEGIN:VEVENT
DTSTART;TZID=Europe/Helsinki:20241010T183000
DTEND;TZID=Europe/Helsinki:20241010T194500
DTSTAMP:20260420T112812
CREATED:20240123T222056Z
LAST-MODIFIED:20250911T091241Z
UID:10000039-1728585000-1728589500@heracles-valkeakoski.fi
SUMMARY:Defendo
DESCRIPTION:
URL:https://heracles-valkeakoski.fi/event/defendo-harjoitus/2024-10-10/
LOCATION:Heracles Valkeakoski\, Lempääläntie 18 B\, Valkeakoski\, 37600\, Finland
CATEGORIES:Defendo
END:VEVENT
BEGIN:VEVENT
DTSTART;TZID=Europe/Helsinki:20241015T180000
DTEND;TZID=Europe/Helsinki:20241015T190000
DTSTAMP:20260420T112812
CREATED:20240123T222847Z
LAST-MODIFIED:20240123T222849Z
UID:10000561-1729015200-1729018800@heracles-valkeakoski.fi
SUMMARY:Defendo
DESCRIPTION:
URL:https://heracles-valkeakoski.fi/event/defendo-2/2024-10-15/
LOCATION:Heracles Valkeakoski\, Lempääläntie 18 B\, Valkeakoski\, 37600\, Finland
CATEGORIES:Defendo
END:VEVENT
BEGIN:VEVENT
DTSTART;TZID=Europe/Helsinki:20241017T183000
DTEND;TZID=Europe/Helsinki:20241017T194500
DTSTAMP:20260420T112812
CREATED:20240123T222056Z
LAST-MODIFIED:20250911T091241Z
UID:10000040-1729189800-1729194300@heracles-valkeakoski.fi
SUMMARY:Defendo
DESCRIPTION:
URL:https://heracles-valkeakoski.fi/event/defendo-harjoitus/2024-10-17/
LOCATION:Heracles Valkeakoski\, Lempääläntie 18 B\, Valkeakoski\, 37600\, Finland
CATEGORIES:Defendo
END:VEVENT
BEGIN:VEVENT
DTSTART;TZID=Europe/Helsinki:20241022T180000
DTEND;TZID=Europe/Helsinki:20241022T190000
DTSTAMP:20260420T112812
CREATED:20240123T222847Z
LAST-MODIFIED:20240123T222849Z
UID:10000562-1729620000-1729623600@heracles-valkeakoski.fi
SUMMARY:Defendo
DESCRIPTION:
URL:https://heracles-valkeakoski.fi/event/defendo-2/2024-10-22/
LOCATION:Heracles Valkeakoski\, Lempääläntie 18 B\, Valkeakoski\, 37600\, Finland
CATEGORIES:Defendo
END:VEVENT
BEGIN:VEVENT
DTSTART;TZID=Europe/Helsinki:20241024T183000
DTEND;TZID=Europe/Helsinki:20241024T194500
DTSTAMP:20260420T112812
CREATED:20240123T222056Z
LAST-MODIFIED:20250911T091241Z
UID:10000041-1729794600-1729799100@heracles-valkeakoski.fi
SUMMARY:Defendo
DESCRIPTION:
URL:https://heracles-valkeakoski.fi/event/defendo-harjoitus/2024-10-24/
LOCATION:Heracles Valkeakoski\, Lempääläntie 18 B\, Valkeakoski\, 37600\, Finland
CATEGORIES:Defendo
END:VEVENT
BEGIN:VEVENT
DTSTART;TZID=Europe/Helsinki:20241029T180000
DTEND;TZID=Europe/Helsinki:20241029T190000
DTSTAMP:20260420T112812
CREATED:20240123T222847Z
LAST-MODIFIED:20240123T222849Z
UID:10000563-1730224800-1730228400@heracles-valkeakoski.fi
SUMMARY:Defendo
DESCRIPTION:
URL:https://heracles-valkeakoski.fi/event/defendo-2/2024-10-29/
LOCATION:Heracles Valkeakoski\, Lempääläntie 18 B\, Valkeakoski\, 37600\, Finland
CATEGORIES:Defendo
END:VEVENT
BEGIN:VEVENT
DTSTART;TZID=Europe/Helsinki:20241031T183000
DTEND;TZID=Europe/Helsinki:20241031T194500
DTSTAMP:20260420T112812
CREATED:20240123T222056Z
LAST-MODIFIED:20250911T091241Z
UID:10000042-1730399400-1730403900@heracles-valkeakoski.fi
SUMMARY:Defendo
DESCRIPTION:
URL:https://heracles-valkeakoski.fi/event/defendo-harjoitus/2024-10-31/
LOCATION:Heracles Valkeakoski\, Lempääläntie 18 B\, Valkeakoski\, 37600\, Finland
CATEGORIES:Defendo
END:VEVENT
END:VCALENDAR