BEGIN:VCALENDAR
VERSION:2.0
PRODID:-//Defence &amp; Fightclub Heracles Valkeakoski - ECPv6.5.0//NONSGML v1.0//EN
CALSCALE:GREGORIAN
METHOD:PUBLISH
X-ORIGINAL-URL:https://heracles-valkeakoski.fi
X-WR-CALDESC:Events for Defence &amp; Fightclub Heracles Valkeakoski
REFRESH-INTERVAL;VALUE=DURATION:PT1H
X-Robots-Tag:noindex
X-PUBLISHED-TTL:PT1H
BEGIN:VTIMEZONE
TZID:Europe/Helsinki
BEGIN:DAYLIGHT
TZOFFSETFROM:+0200
TZOFFSETTO:+0300
TZNAME:EEST
DTSTART:20260329T010000
END:DAYLIGHT
BEGIN:STANDARD
TZOFFSETFROM:+0300
TZOFFSETTO:+0200
TZNAME:EET
DTSTART:20261025T010000
END:STANDARD
END:VTIMEZONE
BEGIN:VEVENT
DTSTART;TZID=Europe/Helsinki:20261201T180000
DTEND;TZID=Europe/Helsinki:20261201T190000
DTSTAMP:20260421T075100
CREATED:20240123T222847Z
LAST-MODIFIED:20240123T222849Z
UID:10000672-1796148000-1796151600@heracles-valkeakoski.fi
SUMMARY:Defendo
DESCRIPTION:
URL:https://heracles-valkeakoski.fi/event/defendo-2/2026-12-01/
LOCATION:Heracles Valkeakoski\, Lempääläntie 18 B\, Valkeakoski\, 37600\, Finland
CATEGORIES:Defendo
END:VEVENT
BEGIN:VEVENT
DTSTART;TZID=Europe/Helsinki:20261203T183000
DTEND;TZID=Europe/Helsinki:20261203T194500
DTSTAMP:20260421T075100
CREATED:20240123T222056Z
LAST-MODIFIED:20250911T091241Z
UID:10000151-1796322600-1796327100@heracles-valkeakoski.fi
SUMMARY:Defendo
DESCRIPTION:
URL:https://heracles-valkeakoski.fi/event/defendo-harjoitus/2026-12-03/
LOCATION:Heracles Valkeakoski\, Lempääläntie 18 B\, Valkeakoski\, 37600\, Finland
CATEGORIES:Defendo
END:VEVENT
BEGIN:VEVENT
DTSTART;TZID=Europe/Helsinki:20261208T180000
DTEND;TZID=Europe/Helsinki:20261208T190000
DTSTAMP:20260421T075100
CREATED:20240123T222847Z
LAST-MODIFIED:20240123T222849Z
UID:10000673-1796752800-1796756400@heracles-valkeakoski.fi
SUMMARY:Defendo
DESCRIPTION:
URL:https://heracles-valkeakoski.fi/event/defendo-2/2026-12-08/
LOCATION:Heracles Valkeakoski\, Lempääläntie 18 B\, Valkeakoski\, 37600\, Finland
CATEGORIES:Defendo
END:VEVENT
BEGIN:VEVENT
DTSTART;TZID=Europe/Helsinki:20261210T183000
DTEND;TZID=Europe/Helsinki:20261210T194500
DTSTAMP:20260421T075100
CREATED:20240123T222056Z
LAST-MODIFIED:20250911T091241Z
UID:10000152-1796927400-1796931900@heracles-valkeakoski.fi
SUMMARY:Defendo
DESCRIPTION:
URL:https://heracles-valkeakoski.fi/event/defendo-harjoitus/2026-12-10/
LOCATION:Heracles Valkeakoski\, Lempääläntie 18 B\, Valkeakoski\, 37600\, Finland
CATEGORIES:Defendo
END:VEVENT
BEGIN:VEVENT
DTSTART;TZID=Europe/Helsinki:20261215T180000
DTEND;TZID=Europe/Helsinki:20261215T190000
DTSTAMP:20260421T075100
CREATED:20240123T222847Z
LAST-MODIFIED:20240123T222849Z
UID:10000674-1797357600-1797361200@heracles-valkeakoski.fi
SUMMARY:Defendo
DESCRIPTION:
URL:https://heracles-valkeakoski.fi/event/defendo-2/2026-12-15/
LOCATION:Heracles Valkeakoski\, Lempääläntie 18 B\, Valkeakoski\, 37600\, Finland
CATEGORIES:Defendo
END:VEVENT
BEGIN:VEVENT
DTSTART;TZID=Europe/Helsinki:20261217T183000
DTEND;TZID=Europe/Helsinki:20261217T194500
DTSTAMP:20260421T075100
CREATED:20240123T222056Z
LAST-MODIFIED:20250911T091241Z
UID:10000153-1797532200-1797536700@heracles-valkeakoski.fi
SUMMARY:Defendo
DESCRIPTION:
URL:https://heracles-valkeakoski.fi/event/defendo-harjoitus/2026-12-17/
LOCATION:Heracles Valkeakoski\, Lempääläntie 18 B\, Valkeakoski\, 37600\, Finland
CATEGORIES:Defendo
END:VEVENT
BEGIN:VEVENT
DTSTART;TZID=Europe/Helsinki:20261222T180000
DTEND;TZID=Europe/Helsinki:20261222T190000
DTSTAMP:20260421T075100
CREATED:20240123T222847Z
LAST-MODIFIED:20240123T222849Z
UID:10000675-1797962400-1797966000@heracles-valkeakoski.fi
SUMMARY:Defendo
DESCRIPTION:
URL:https://heracles-valkeakoski.fi/event/defendo-2/2026-12-22/
LOCATION:Heracles Valkeakoski\, Lempääläntie 18 B\, Valkeakoski\, 37600\, Finland
CATEGORIES:Defendo
END:VEVENT
BEGIN:VEVENT
DTSTART;TZID=Europe/Helsinki:20261224T183000
DTEND;TZID=Europe/Helsinki:20261224T194500
DTSTAMP:20260421T075100
CREATED:20240123T222056Z
LAST-MODIFIED:20250911T091241Z
UID:10000154-1798137000-1798141500@heracles-valkeakoski.fi
SUMMARY:Defendo
DESCRIPTION:
URL:https://heracles-valkeakoski.fi/event/defendo-harjoitus/2026-12-24/
LOCATION:Heracles Valkeakoski\, Lempääläntie 18 B\, Valkeakoski\, 37600\, Finland
CATEGORIES:Defendo
END:VEVENT
BEGIN:VEVENT
DTSTART;TZID=Europe/Helsinki:20261229T180000
DTEND;TZID=Europe/Helsinki:20261229T190000
DTSTAMP:20260421T075100
CREATED:20240123T222847Z
LAST-MODIFIED:20240123T222849Z
UID:10000676-1798567200-1798570800@heracles-valkeakoski.fi
SUMMARY:Defendo
DESCRIPTION:
URL:https://heracles-valkeakoski.fi/event/defendo-2/2026-12-29/
LOCATION:Heracles Valkeakoski\, Lempääläntie 18 B\, Valkeakoski\, 37600\, Finland
CATEGORIES:Defendo
END:VEVENT
BEGIN:VEVENT
DTSTART;TZID=Europe/Helsinki:20261231T183000
DTEND;TZID=Europe/Helsinki:20261231T194500
DTSTAMP:20260421T075100
CREATED:20240123T222056Z
LAST-MODIFIED:20250911T091241Z
UID:10000155-1798741800-1798746300@heracles-valkeakoski.fi
SUMMARY:Defendo
DESCRIPTION:
URL:https://heracles-valkeakoski.fi/event/defendo-harjoitus/2026-12-31/
LOCATION:Heracles Valkeakoski\, Lempääläntie 18 B\, Valkeakoski\, 37600\, Finland
CATEGORIES:Defendo
END:VEVENT
END:VCALENDAR