BEGIN:VCALENDAR
VERSION:2.0
PRODID:-//Defence &amp; Fightclub Heracles Valkeakoski - ECPv6.5.0//NONSGML v1.0//EN
CALSCALE:GREGORIAN
METHOD:PUBLISH
X-ORIGINAL-URL:https://heracles-valkeakoski.fi
X-WR-CALDESC:Events for Defence &amp; Fightclub Heracles Valkeakoski
REFRESH-INTERVAL;VALUE=DURATION:PT1H
X-Robots-Tag:noindex
X-PUBLISHED-TTL:PT1H
BEGIN:VTIMEZONE
TZID:Europe/Helsinki
BEGIN:DAYLIGHT
TZOFFSETFROM:+0200
TZOFFSETTO:+0300
TZNAME:EEST
DTSTART:20270328T010000
END:DAYLIGHT
BEGIN:STANDARD
TZOFFSETFROM:+0300
TZOFFSETTO:+0200
TZNAME:EET
DTSTART:20271031T010000
END:STANDARD
END:VTIMEZONE
BEGIN:VEVENT
DTSTART;TZID=Europe/Helsinki:20270105T180000
DTEND;TZID=Europe/Helsinki:20270105T190000
DTSTAMP:20260421T075109
CREATED:20240123T222847Z
LAST-MODIFIED:20240123T222849Z
UID:10000677-1799172000-1799175600@heracles-valkeakoski.fi
SUMMARY:Defendo
DESCRIPTION:
URL:https://heracles-valkeakoski.fi/event/defendo-2/2027-01-05/
LOCATION:Heracles Valkeakoski\, Lempääläntie 18 B\, Valkeakoski\, 37600\, Finland
CATEGORIES:Defendo
END:VEVENT
BEGIN:VEVENT
DTSTART;TZID=Europe/Helsinki:20270107T183000
DTEND;TZID=Europe/Helsinki:20270107T194500
DTSTAMP:20260421T075109
CREATED:20240123T222056Z
LAST-MODIFIED:20250911T091241Z
UID:10000156-1799346600-1799351100@heracles-valkeakoski.fi
SUMMARY:Defendo
DESCRIPTION:
URL:https://heracles-valkeakoski.fi/event/defendo-harjoitus/2027-01-07/
LOCATION:Heracles Valkeakoski\, Lempääläntie 18 B\, Valkeakoski\, 37600\, Finland
CATEGORIES:Defendo
END:VEVENT
BEGIN:VEVENT
DTSTART;TZID=Europe/Helsinki:20270112T180000
DTEND;TZID=Europe/Helsinki:20270112T190000
DTSTAMP:20260421T075109
CREATED:20240123T222847Z
LAST-MODIFIED:20240123T222849Z
UID:10000678-1799776800-1799780400@heracles-valkeakoski.fi
SUMMARY:Defendo
DESCRIPTION:
URL:https://heracles-valkeakoski.fi/event/defendo-2/2027-01-12/
LOCATION:Heracles Valkeakoski\, Lempääläntie 18 B\, Valkeakoski\, 37600\, Finland
CATEGORIES:Defendo
END:VEVENT
BEGIN:VEVENT
DTSTART;TZID=Europe/Helsinki:20270114T183000
DTEND;TZID=Europe/Helsinki:20270114T194500
DTSTAMP:20260421T075109
CREATED:20240123T222056Z
LAST-MODIFIED:20250911T091241Z
UID:10000157-1799951400-1799955900@heracles-valkeakoski.fi
SUMMARY:Defendo
DESCRIPTION:
URL:https://heracles-valkeakoski.fi/event/defendo-harjoitus/2027-01-14/
LOCATION:Heracles Valkeakoski\, Lempääläntie 18 B\, Valkeakoski\, 37600\, Finland
CATEGORIES:Defendo
END:VEVENT
BEGIN:VEVENT
DTSTART;TZID=Europe/Helsinki:20270119T180000
DTEND;TZID=Europe/Helsinki:20270119T190000
DTSTAMP:20260421T075109
CREATED:20240123T222847Z
LAST-MODIFIED:20240123T222849Z
UID:10000679-1800381600-1800385200@heracles-valkeakoski.fi
SUMMARY:Defendo
DESCRIPTION:
URL:https://heracles-valkeakoski.fi/event/defendo-2/2027-01-19/
LOCATION:Heracles Valkeakoski\, Lempääläntie 18 B\, Valkeakoski\, 37600\, Finland
CATEGORIES:Defendo
END:VEVENT
BEGIN:VEVENT
DTSTART;TZID=Europe/Helsinki:20270121T183000
DTEND;TZID=Europe/Helsinki:20270121T194500
DTSTAMP:20260421T075109
CREATED:20240123T222056Z
LAST-MODIFIED:20250911T091241Z
UID:10000158-1800556200-1800560700@heracles-valkeakoski.fi
SUMMARY:Defendo
DESCRIPTION:
URL:https://heracles-valkeakoski.fi/event/defendo-harjoitus/2027-01-21/
LOCATION:Heracles Valkeakoski\, Lempääläntie 18 B\, Valkeakoski\, 37600\, Finland
CATEGORIES:Defendo
END:VEVENT
BEGIN:VEVENT
DTSTART;TZID=Europe/Helsinki:20270126T180000
DTEND;TZID=Europe/Helsinki:20270126T190000
DTSTAMP:20260421T075109
CREATED:20240123T222847Z
LAST-MODIFIED:20240123T222849Z
UID:10000680-1800986400-1800990000@heracles-valkeakoski.fi
SUMMARY:Defendo
DESCRIPTION:
URL:https://heracles-valkeakoski.fi/event/defendo-2/2027-01-26/
LOCATION:Heracles Valkeakoski\, Lempääläntie 18 B\, Valkeakoski\, 37600\, Finland
CATEGORIES:Defendo
END:VEVENT
BEGIN:VEVENT
DTSTART;TZID=Europe/Helsinki:20270128T183000
DTEND;TZID=Europe/Helsinki:20270128T194500
DTSTAMP:20260421T075109
CREATED:20240123T222056Z
LAST-MODIFIED:20250911T091241Z
UID:10000159-1801161000-1801165500@heracles-valkeakoski.fi
SUMMARY:Defendo
DESCRIPTION:
URL:https://heracles-valkeakoski.fi/event/defendo-harjoitus/2027-01-28/
LOCATION:Heracles Valkeakoski\, Lempääläntie 18 B\, Valkeakoski\, 37600\, Finland
CATEGORIES:Defendo
END:VEVENT
END:VCALENDAR