BEGIN:VCALENDAR
VERSION:2.0
PRODID:-//Defence &amp; Fightclub Heracles Valkeakoski - ECPv6.5.0//NONSGML v1.0//EN
CALSCALE:GREGORIAN
METHOD:PUBLISH
X-ORIGINAL-URL:https://heracles-valkeakoski.fi
X-WR-CALDESC:Events for Defence &amp; Fightclub Heracles Valkeakoski
REFRESH-INTERVAL;VALUE=DURATION:PT1H
X-Robots-Tag:noindex
X-PUBLISHED-TTL:PT1H
BEGIN:VTIMEZONE
TZID:Europe/Helsinki
BEGIN:DAYLIGHT
TZOFFSETFROM:+0200
TZOFFSETTO:+0300
TZNAME:EEST
DTSTART:20270328T010000
END:DAYLIGHT
BEGIN:STANDARD
TZOFFSETFROM:+0300
TZOFFSETTO:+0200
TZNAME:EET
DTSTART:20271031T010000
END:STANDARD
END:VTIMEZONE
BEGIN:VEVENT
DTSTART;TZID=Europe/Helsinki:20270202T180000
DTEND;TZID=Europe/Helsinki:20270202T190000
DTSTAMP:20260421T075111
CREATED:20240123T222847Z
LAST-MODIFIED:20240123T222849Z
UID:10000681-1801591200-1801594800@heracles-valkeakoski.fi
SUMMARY:Defendo
DESCRIPTION:
URL:https://heracles-valkeakoski.fi/event/defendo-2/2027-02-02/
LOCATION:Heracles Valkeakoski\, Lempääläntie 18 B\, Valkeakoski\, 37600\, Finland
CATEGORIES:Defendo
END:VEVENT
BEGIN:VEVENT
DTSTART;TZID=Europe/Helsinki:20270204T183000
DTEND;TZID=Europe/Helsinki:20270204T194500
DTSTAMP:20260421T075111
CREATED:20240123T222056Z
LAST-MODIFIED:20250911T091241Z
UID:10000160-1801765800-1801770300@heracles-valkeakoski.fi
SUMMARY:Defendo
DESCRIPTION:
URL:https://heracles-valkeakoski.fi/event/defendo-harjoitus/2027-02-04/
LOCATION:Heracles Valkeakoski\, Lempääläntie 18 B\, Valkeakoski\, 37600\, Finland
CATEGORIES:Defendo
END:VEVENT
BEGIN:VEVENT
DTSTART;TZID=Europe/Helsinki:20270209T180000
DTEND;TZID=Europe/Helsinki:20270209T190000
DTSTAMP:20260421T075111
CREATED:20240123T222847Z
LAST-MODIFIED:20240123T222849Z
UID:10000682-1802196000-1802199600@heracles-valkeakoski.fi
SUMMARY:Defendo
DESCRIPTION:
URL:https://heracles-valkeakoski.fi/event/defendo-2/2027-02-09/
LOCATION:Heracles Valkeakoski\, Lempääläntie 18 B\, Valkeakoski\, 37600\, Finland
CATEGORIES:Defendo
END:VEVENT
BEGIN:VEVENT
DTSTART;TZID=Europe/Helsinki:20270211T183000
DTEND;TZID=Europe/Helsinki:20270211T194500
DTSTAMP:20260421T075111
CREATED:20240123T222056Z
LAST-MODIFIED:20250911T091241Z
UID:10000161-1802370600-1802375100@heracles-valkeakoski.fi
SUMMARY:Defendo
DESCRIPTION:
URL:https://heracles-valkeakoski.fi/event/defendo-harjoitus/2027-02-11/
LOCATION:Heracles Valkeakoski\, Lempääläntie 18 B\, Valkeakoski\, 37600\, Finland
CATEGORIES:Defendo
END:VEVENT
BEGIN:VEVENT
DTSTART;TZID=Europe/Helsinki:20270216T180000
DTEND;TZID=Europe/Helsinki:20270216T190000
DTSTAMP:20260421T075111
CREATED:20240123T222847Z
LAST-MODIFIED:20240123T222849Z
UID:10000683-1802800800-1802804400@heracles-valkeakoski.fi
SUMMARY:Defendo
DESCRIPTION:
URL:https://heracles-valkeakoski.fi/event/defendo-2/2027-02-16/
LOCATION:Heracles Valkeakoski\, Lempääläntie 18 B\, Valkeakoski\, 37600\, Finland
CATEGORIES:Defendo
END:VEVENT
BEGIN:VEVENT
DTSTART;TZID=Europe/Helsinki:20270218T183000
DTEND;TZID=Europe/Helsinki:20270218T194500
DTSTAMP:20260421T075111
CREATED:20240123T222056Z
LAST-MODIFIED:20250911T091241Z
UID:10000162-1802975400-1802979900@heracles-valkeakoski.fi
SUMMARY:Defendo
DESCRIPTION:
URL:https://heracles-valkeakoski.fi/event/defendo-harjoitus/2027-02-18/
LOCATION:Heracles Valkeakoski\, Lempääläntie 18 B\, Valkeakoski\, 37600\, Finland
CATEGORIES:Defendo
END:VEVENT
BEGIN:VEVENT
DTSTART;TZID=Europe/Helsinki:20270223T180000
DTEND;TZID=Europe/Helsinki:20270223T190000
DTSTAMP:20260421T075111
CREATED:20240123T222847Z
LAST-MODIFIED:20240123T222849Z
UID:10000684-1803405600-1803409200@heracles-valkeakoski.fi
SUMMARY:Defendo
DESCRIPTION:
URL:https://heracles-valkeakoski.fi/event/defendo-2/2027-02-23/
LOCATION:Heracles Valkeakoski\, Lempääläntie 18 B\, Valkeakoski\, 37600\, Finland
CATEGORIES:Defendo
END:VEVENT
BEGIN:VEVENT
DTSTART;TZID=Europe/Helsinki:20270225T183000
DTEND;TZID=Europe/Helsinki:20270225T194500
DTSTAMP:20260421T075111
CREATED:20240123T222056Z
LAST-MODIFIED:20250911T091241Z
UID:10000163-1803580200-1803584700@heracles-valkeakoski.fi
SUMMARY:Defendo
DESCRIPTION:
URL:https://heracles-valkeakoski.fi/event/defendo-harjoitus/2027-02-25/
LOCATION:Heracles Valkeakoski\, Lempääläntie 18 B\, Valkeakoski\, 37600\, Finland
CATEGORIES:Defendo
END:VEVENT
END:VCALENDAR