BEGIN:VCALENDAR
VERSION:2.0
PRODID:-//Defence &amp; Fightclub Heracles Valkeakoski - ECPv6.5.0//NONSGML v1.0//EN
CALSCALE:GREGORIAN
METHOD:PUBLISH
X-ORIGINAL-URL:https://heracles-valkeakoski.fi
X-WR-CALDESC:Events for Defence &amp; Fightclub Heracles Valkeakoski
REFRESH-INTERVAL;VALUE=DURATION:PT1H
X-Robots-Tag:noindex
X-PUBLISHED-TTL:PT1H
BEGIN:VTIMEZONE
TZID:Europe/Helsinki
BEGIN:DAYLIGHT
TZOFFSETFROM:+0200
TZOFFSETTO:+0300
TZNAME:EEST
DTSTART:20270328T010000
END:DAYLIGHT
BEGIN:STANDARD
TZOFFSETFROM:+0300
TZOFFSETTO:+0200
TZNAME:EET
DTSTART:20271031T010000
END:STANDARD
END:VTIMEZONE
BEGIN:VEVENT
DTSTART;TZID=Europe/Helsinki:20270601T180000
DTEND;TZID=Europe/Helsinki:20270601T190000
DTSTAMP:20260423T220909
CREATED:20240123T222847Z
LAST-MODIFIED:20240123T222849Z
UID:10000698-1811872800-1811876400@heracles-valkeakoski.fi
SUMMARY:Defendo
DESCRIPTION:
URL:https://heracles-valkeakoski.fi/event/defendo-2/2027-06-01/
LOCATION:Heracles Valkeakoski\, Lempääläntie 18 B\, Valkeakoski\, 37600\, Finland
CATEGORIES:Defendo
END:VEVENT
BEGIN:VEVENT
DTSTART;TZID=Europe/Helsinki:20270603T183000
DTEND;TZID=Europe/Helsinki:20270603T194500
DTSTAMP:20260423T220909
CREATED:20240123T222056Z
LAST-MODIFIED:20250911T091241Z
UID:10000177-1812047400-1812051900@heracles-valkeakoski.fi
SUMMARY:Defendo
DESCRIPTION:
URL:https://heracles-valkeakoski.fi/event/defendo-harjoitus/2027-06-03/
LOCATION:Heracles Valkeakoski\, Lempääläntie 18 B\, Valkeakoski\, 37600\, Finland
CATEGORIES:Defendo
END:VEVENT
BEGIN:VEVENT
DTSTART;TZID=Europe/Helsinki:20270608T180000
DTEND;TZID=Europe/Helsinki:20270608T190000
DTSTAMP:20260423T220909
CREATED:20240123T222847Z
LAST-MODIFIED:20240123T222849Z
UID:10000699-1812477600-1812481200@heracles-valkeakoski.fi
SUMMARY:Defendo
DESCRIPTION:
URL:https://heracles-valkeakoski.fi/event/defendo-2/2027-06-08/
LOCATION:Heracles Valkeakoski\, Lempääläntie 18 B\, Valkeakoski\, 37600\, Finland
CATEGORIES:Defendo
END:VEVENT
BEGIN:VEVENT
DTSTART;TZID=Europe/Helsinki:20270610T183000
DTEND;TZID=Europe/Helsinki:20270610T194500
DTSTAMP:20260423T220909
CREATED:20240123T222056Z
LAST-MODIFIED:20250911T091241Z
UID:10000178-1812652200-1812656700@heracles-valkeakoski.fi
SUMMARY:Defendo
DESCRIPTION:
URL:https://heracles-valkeakoski.fi/event/defendo-harjoitus/2027-06-10/
LOCATION:Heracles Valkeakoski\, Lempääläntie 18 B\, Valkeakoski\, 37600\, Finland
CATEGORIES:Defendo
END:VEVENT
BEGIN:VEVENT
DTSTART;TZID=Europe/Helsinki:20270615T180000
DTEND;TZID=Europe/Helsinki:20270615T190000
DTSTAMP:20260423T220909
CREATED:20240123T222847Z
LAST-MODIFIED:20240123T222849Z
UID:10000700-1813082400-1813086000@heracles-valkeakoski.fi
SUMMARY:Defendo
DESCRIPTION:
URL:https://heracles-valkeakoski.fi/event/defendo-2/2027-06-15/
LOCATION:Heracles Valkeakoski\, Lempääläntie 18 B\, Valkeakoski\, 37600\, Finland
CATEGORIES:Defendo
END:VEVENT
BEGIN:VEVENT
DTSTART;TZID=Europe/Helsinki:20270617T183000
DTEND;TZID=Europe/Helsinki:20270617T194500
DTSTAMP:20260423T220909
CREATED:20240123T222056Z
LAST-MODIFIED:20250911T091241Z
UID:10000179-1813257000-1813261500@heracles-valkeakoski.fi
SUMMARY:Defendo
DESCRIPTION:
URL:https://heracles-valkeakoski.fi/event/defendo-harjoitus/2027-06-17/
LOCATION:Heracles Valkeakoski\, Lempääläntie 18 B\, Valkeakoski\, 37600\, Finland
CATEGORIES:Defendo
END:VEVENT
BEGIN:VEVENT
DTSTART;TZID=Europe/Helsinki:20270622T180000
DTEND;TZID=Europe/Helsinki:20270622T190000
DTSTAMP:20260423T220909
CREATED:20240123T222847Z
LAST-MODIFIED:20240123T222849Z
UID:10000701-1813687200-1813690800@heracles-valkeakoski.fi
SUMMARY:Defendo
DESCRIPTION:
URL:https://heracles-valkeakoski.fi/event/defendo-2/2027-06-22/
LOCATION:Heracles Valkeakoski\, Lempääläntie 18 B\, Valkeakoski\, 37600\, Finland
CATEGORIES:Defendo
END:VEVENT
BEGIN:VEVENT
DTSTART;TZID=Europe/Helsinki:20270624T183000
DTEND;TZID=Europe/Helsinki:20270624T194500
DTSTAMP:20260423T220909
CREATED:20240123T222056Z
LAST-MODIFIED:20250911T091241Z
UID:10000180-1813861800-1813866300@heracles-valkeakoski.fi
SUMMARY:Defendo
DESCRIPTION:
URL:https://heracles-valkeakoski.fi/event/defendo-harjoitus/2027-06-24/
LOCATION:Heracles Valkeakoski\, Lempääläntie 18 B\, Valkeakoski\, 37600\, Finland
CATEGORIES:Defendo
END:VEVENT
BEGIN:VEVENT
DTSTART;TZID=Europe/Helsinki:20270629T180000
DTEND;TZID=Europe/Helsinki:20270629T190000
DTSTAMP:20260423T220909
CREATED:20240123T222847Z
LAST-MODIFIED:20240123T222849Z
UID:10000702-1814292000-1814295600@heracles-valkeakoski.fi
SUMMARY:Defendo
DESCRIPTION:
URL:https://heracles-valkeakoski.fi/event/defendo-2/2027-06-29/
LOCATION:Heracles Valkeakoski\, Lempääläntie 18 B\, Valkeakoski\, 37600\, Finland
CATEGORIES:Defendo
END:VEVENT
END:VCALENDAR