BEGIN:VCALENDAR
VERSION:2.0
PRODID:-//Defence &amp; Fightclub Heracles Valkeakoski - ECPv6.5.0//NONSGML v1.0//EN
CALSCALE:GREGORIAN
METHOD:PUBLISH
X-ORIGINAL-URL:https://heracles-valkeakoski.fi
X-WR-CALDESC:Events for Defence &amp; Fightclub Heracles Valkeakoski
REFRESH-INTERVAL;VALUE=DURATION:PT1H
X-Robots-Tag:noindex
X-PUBLISHED-TTL:PT1H
BEGIN:VTIMEZONE
TZID:Europe/Helsinki
BEGIN:DAYLIGHT
TZOFFSETFROM:+0200
TZOFFSETTO:+0300
TZNAME:EEST
DTSTART:20270328T010000
END:DAYLIGHT
BEGIN:STANDARD
TZOFFSETFROM:+0300
TZOFFSETTO:+0200
TZNAME:EET
DTSTART:20271031T010000
END:STANDARD
END:VTIMEZONE
BEGIN:VEVENT
DTSTART;TZID=Europe/Helsinki:20270701T183000
DTEND;TZID=Europe/Helsinki:20270701T194500
DTSTAMP:20260424T233143
CREATED:20240123T222056Z
LAST-MODIFIED:20250911T091241Z
UID:10000181-1814466600-1814471100@heracles-valkeakoski.fi
SUMMARY:Defendo
DESCRIPTION:
URL:https://heracles-valkeakoski.fi/event/defendo-harjoitus/2027-07-01/
LOCATION:Heracles Valkeakoski\, Lempääläntie 18 B\, Valkeakoski\, 37600\, Finland
CATEGORIES:Defendo
END:VEVENT
BEGIN:VEVENT
DTSTART;TZID=Europe/Helsinki:20270706T180000
DTEND;TZID=Europe/Helsinki:20270706T190000
DTSTAMP:20260424T233143
CREATED:20240123T222847Z
LAST-MODIFIED:20240123T222849Z
UID:10000703-1814896800-1814900400@heracles-valkeakoski.fi
SUMMARY:Defendo
DESCRIPTION:
URL:https://heracles-valkeakoski.fi/event/defendo-2/2027-07-06/
LOCATION:Heracles Valkeakoski\, Lempääläntie 18 B\, Valkeakoski\, 37600\, Finland
CATEGORIES:Defendo
END:VEVENT
BEGIN:VEVENT
DTSTART;TZID=Europe/Helsinki:20270708T183000
DTEND;TZID=Europe/Helsinki:20270708T194500
DTSTAMP:20260424T233143
CREATED:20240123T222056Z
LAST-MODIFIED:20250911T091241Z
UID:10000182-1815071400-1815075900@heracles-valkeakoski.fi
SUMMARY:Defendo
DESCRIPTION:
URL:https://heracles-valkeakoski.fi/event/defendo-harjoitus/2027-07-08/
LOCATION:Heracles Valkeakoski\, Lempääläntie 18 B\, Valkeakoski\, 37600\, Finland
CATEGORIES:Defendo
END:VEVENT
BEGIN:VEVENT
DTSTART;TZID=Europe/Helsinki:20270713T180000
DTEND;TZID=Europe/Helsinki:20270713T190000
DTSTAMP:20260424T233143
CREATED:20240123T222847Z
LAST-MODIFIED:20240123T222849Z
UID:10000704-1815501600-1815505200@heracles-valkeakoski.fi
SUMMARY:Defendo
DESCRIPTION:
URL:https://heracles-valkeakoski.fi/event/defendo-2/2027-07-13/
LOCATION:Heracles Valkeakoski\, Lempääläntie 18 B\, Valkeakoski\, 37600\, Finland
CATEGORIES:Defendo
END:VEVENT
BEGIN:VEVENT
DTSTART;TZID=Europe/Helsinki:20270715T183000
DTEND;TZID=Europe/Helsinki:20270715T194500
DTSTAMP:20260424T233143
CREATED:20240123T222056Z
LAST-MODIFIED:20250911T091241Z
UID:10000183-1815676200-1815680700@heracles-valkeakoski.fi
SUMMARY:Defendo
DESCRIPTION:
URL:https://heracles-valkeakoski.fi/event/defendo-harjoitus/2027-07-15/
LOCATION:Heracles Valkeakoski\, Lempääläntie 18 B\, Valkeakoski\, 37600\, Finland
CATEGORIES:Defendo
END:VEVENT
BEGIN:VEVENT
DTSTART;TZID=Europe/Helsinki:20270720T180000
DTEND;TZID=Europe/Helsinki:20270720T190000
DTSTAMP:20260424T233143
CREATED:20240123T222847Z
LAST-MODIFIED:20240123T222849Z
UID:10000705-1816106400-1816110000@heracles-valkeakoski.fi
SUMMARY:Defendo
DESCRIPTION:
URL:https://heracles-valkeakoski.fi/event/defendo-2/2027-07-20/
LOCATION:Heracles Valkeakoski\, Lempääläntie 18 B\, Valkeakoski\, 37600\, Finland
CATEGORIES:Defendo
END:VEVENT
BEGIN:VEVENT
DTSTART;TZID=Europe/Helsinki:20270722T183000
DTEND;TZID=Europe/Helsinki:20270722T194500
DTSTAMP:20260424T233143
CREATED:20240123T222056Z
LAST-MODIFIED:20250911T091241Z
UID:10000184-1816281000-1816285500@heracles-valkeakoski.fi
SUMMARY:Defendo
DESCRIPTION:
URL:https://heracles-valkeakoski.fi/event/defendo-harjoitus/2027-07-22/
LOCATION:Heracles Valkeakoski\, Lempääläntie 18 B\, Valkeakoski\, 37600\, Finland
CATEGORIES:Defendo
END:VEVENT
BEGIN:VEVENT
DTSTART;TZID=Europe/Helsinki:20270727T180000
DTEND;TZID=Europe/Helsinki:20270727T190000
DTSTAMP:20260424T233143
CREATED:20240123T222847Z
LAST-MODIFIED:20240123T222849Z
UID:10000706-1816711200-1816714800@heracles-valkeakoski.fi
SUMMARY:Defendo
DESCRIPTION:
URL:https://heracles-valkeakoski.fi/event/defendo-2/2027-07-27/
LOCATION:Heracles Valkeakoski\, Lempääläntie 18 B\, Valkeakoski\, 37600\, Finland
CATEGORIES:Defendo
END:VEVENT
BEGIN:VEVENT
DTSTART;TZID=Europe/Helsinki:20270729T183000
DTEND;TZID=Europe/Helsinki:20270729T194500
DTSTAMP:20260424T233143
CREATED:20240123T222056Z
LAST-MODIFIED:20250911T091241Z
UID:10000185-1816885800-1816890300@heracles-valkeakoski.fi
SUMMARY:Defendo
DESCRIPTION:
URL:https://heracles-valkeakoski.fi/event/defendo-harjoitus/2027-07-29/
LOCATION:Heracles Valkeakoski\, Lempääläntie 18 B\, Valkeakoski\, 37600\, Finland
CATEGORIES:Defendo
END:VEVENT
END:VCALENDAR