BEGIN:VCALENDAR
VERSION:2.0
PRODID:-//Defence &amp; Fightclub Heracles Valkeakoski - ECPv6.5.0//NONSGML v1.0//EN
CALSCALE:GREGORIAN
METHOD:PUBLISH
X-ORIGINAL-URL:https://heracles-valkeakoski.fi
X-WR-CALDESC:Events for Defence &amp; Fightclub Heracles Valkeakoski
REFRESH-INTERVAL;VALUE=DURATION:PT1H
X-Robots-Tag:noindex
X-PUBLISHED-TTL:PT1H
BEGIN:VTIMEZONE
TZID:Europe/Helsinki
BEGIN:DAYLIGHT
TZOFFSETFROM:+0200
TZOFFSETTO:+0300
TZNAME:EEST
DTSTART:20240331T010000
END:DAYLIGHT
BEGIN:STANDARD
TZOFFSETFROM:+0300
TZOFFSETTO:+0200
TZNAME:EET
DTSTART:20241027T010000
END:STANDARD
BEGIN:DAYLIGHT
TZOFFSETFROM:+0200
TZOFFSETTO:+0300
TZNAME:EEST
DTSTART:20250330T010000
END:DAYLIGHT
BEGIN:STANDARD
TZOFFSETFROM:+0300
TZOFFSETTO:+0200
TZNAME:EET
DTSTART:20251026T010000
END:STANDARD
END:VTIMEZONE
BEGIN:VEVENT
DTSTART;TZID=Europe/Helsinki:20241217T180000
DTEND;TZID=Europe/Helsinki:20241217T190000
DTSTAMP:20260421T032803
CREATED:20240123T222847Z
LAST-MODIFIED:20240123T222849Z
UID:10000570-1734458400-1734462000@heracles-valkeakoski.fi
SUMMARY:Defendo
DESCRIPTION:
URL:https://heracles-valkeakoski.fi/event/defendo-2/2024-12-17/
LOCATION:Heracles Valkeakoski\, Lempääläntie 18 B\, Valkeakoski\, 37600\, Finland
CATEGORIES:Defendo
END:VEVENT
BEGIN:VEVENT
DTSTART;TZID=Europe/Helsinki:20241219T183000
DTEND;TZID=Europe/Helsinki:20241219T194500
DTSTAMP:20260421T032803
CREATED:20240123T222056Z
LAST-MODIFIED:20250911T091241Z
UID:10000049-1734633000-1734637500@heracles-valkeakoski.fi
SUMMARY:Defendo
DESCRIPTION:
URL:https://heracles-valkeakoski.fi/event/defendo-harjoitus/2024-12-19/
LOCATION:Heracles Valkeakoski\, Lempääläntie 18 B\, Valkeakoski\, 37600\, Finland
CATEGORIES:Defendo
END:VEVENT
BEGIN:VEVENT
DTSTART;TZID=Europe/Helsinki:20241224T180000
DTEND;TZID=Europe/Helsinki:20241224T190000
DTSTAMP:20260421T032803
CREATED:20240123T222847Z
LAST-MODIFIED:20240123T222849Z
UID:10000571-1735063200-1735066800@heracles-valkeakoski.fi
SUMMARY:Defendo
DESCRIPTION:
URL:https://heracles-valkeakoski.fi/event/defendo-2/2024-12-24/
LOCATION:Heracles Valkeakoski\, Lempääläntie 18 B\, Valkeakoski\, 37600\, Finland
CATEGORIES:Defendo
END:VEVENT
BEGIN:VEVENT
DTSTART;TZID=Europe/Helsinki:20241226T183000
DTEND;TZID=Europe/Helsinki:20241226T194500
DTSTAMP:20260421T032803
CREATED:20240123T222056Z
LAST-MODIFIED:20250911T091241Z
UID:10000050-1735237800-1735242300@heracles-valkeakoski.fi
SUMMARY:Defendo
DESCRIPTION:
URL:https://heracles-valkeakoski.fi/event/defendo-harjoitus/2024-12-26/
LOCATION:Heracles Valkeakoski\, Lempääläntie 18 B\, Valkeakoski\, 37600\, Finland
CATEGORIES:Defendo
END:VEVENT
BEGIN:VEVENT
DTSTART;TZID=Europe/Helsinki:20241231T180000
DTEND;TZID=Europe/Helsinki:20241231T190000
DTSTAMP:20260421T032803
CREATED:20240123T222847Z
LAST-MODIFIED:20240123T222849Z
UID:10000572-1735668000-1735671600@heracles-valkeakoski.fi
SUMMARY:Defendo
DESCRIPTION:
URL:https://heracles-valkeakoski.fi/event/defendo-2/2024-12-31/
LOCATION:Heracles Valkeakoski\, Lempääläntie 18 B\, Valkeakoski\, 37600\, Finland
CATEGORIES:Defendo
END:VEVENT
BEGIN:VEVENT
DTSTART;TZID=Europe/Helsinki:20250102T183000
DTEND;TZID=Europe/Helsinki:20250102T194500
DTSTAMP:20260421T032803
CREATED:20240123T222056Z
LAST-MODIFIED:20250911T091241Z
UID:10000051-1735842600-1735847100@heracles-valkeakoski.fi
SUMMARY:Defendo
DESCRIPTION:
URL:https://heracles-valkeakoski.fi/event/defendo-harjoitus/2025-01-02/
LOCATION:Heracles Valkeakoski\, Lempääläntie 18 B\, Valkeakoski\, 37600\, Finland
CATEGORIES:Defendo
END:VEVENT
BEGIN:VEVENT
DTSTART;TZID=Europe/Helsinki:20250107T180000
DTEND;TZID=Europe/Helsinki:20250107T190000
DTSTAMP:20260421T032803
CREATED:20240123T222847Z
LAST-MODIFIED:20240123T222849Z
UID:10000573-1736272800-1736276400@heracles-valkeakoski.fi
SUMMARY:Defendo
DESCRIPTION:
URL:https://heracles-valkeakoski.fi/event/defendo-2/2025-01-07/
LOCATION:Heracles Valkeakoski\, Lempääläntie 18 B\, Valkeakoski\, 37600\, Finland
CATEGORIES:Defendo
END:VEVENT
BEGIN:VEVENT
DTSTART;TZID=Europe/Helsinki:20250109T183000
DTEND;TZID=Europe/Helsinki:20250109T194500
DTSTAMP:20260421T032803
CREATED:20240123T222056Z
LAST-MODIFIED:20250911T091241Z
UID:10000052-1736447400-1736451900@heracles-valkeakoski.fi
SUMMARY:Defendo
DESCRIPTION:
URL:https://heracles-valkeakoski.fi/event/defendo-harjoitus/2025-01-09/
LOCATION:Heracles Valkeakoski\, Lempääläntie 18 B\, Valkeakoski\, 37600\, Finland
CATEGORIES:Defendo
END:VEVENT
BEGIN:VEVENT
DTSTART;TZID=Europe/Helsinki:20250114T180000
DTEND;TZID=Europe/Helsinki:20250114T190000
DTSTAMP:20260421T032803
CREATED:20240123T222847Z
LAST-MODIFIED:20240123T222849Z
UID:10000574-1736877600-1736881200@heracles-valkeakoski.fi
SUMMARY:Defendo
DESCRIPTION:
URL:https://heracles-valkeakoski.fi/event/defendo-2/2025-01-14/
LOCATION:Heracles Valkeakoski\, Lempääläntie 18 B\, Valkeakoski\, 37600\, Finland
CATEGORIES:Defendo
END:VEVENT
BEGIN:VEVENT
DTSTART;TZID=Europe/Helsinki:20250116T183000
DTEND;TZID=Europe/Helsinki:20250116T194500
DTSTAMP:20260421T032803
CREATED:20240123T222056Z
LAST-MODIFIED:20250911T091241Z
UID:10000053-1737052200-1737056700@heracles-valkeakoski.fi
SUMMARY:Defendo
DESCRIPTION:
URL:https://heracles-valkeakoski.fi/event/defendo-harjoitus/2025-01-16/
LOCATION:Heracles Valkeakoski\, Lempääläntie 18 B\, Valkeakoski\, 37600\, Finland
CATEGORIES:Defendo
END:VEVENT
BEGIN:VEVENT
DTSTART;TZID=Europe/Helsinki:20250121T180000
DTEND;TZID=Europe/Helsinki:20250121T190000
DTSTAMP:20260421T032803
CREATED:20240123T222847Z
LAST-MODIFIED:20240123T222849Z
UID:10000575-1737482400-1737486000@heracles-valkeakoski.fi
SUMMARY:Defendo
DESCRIPTION:
URL:https://heracles-valkeakoski.fi/event/defendo-2/2025-01-21/
LOCATION:Heracles Valkeakoski\, Lempääläntie 18 B\, Valkeakoski\, 37600\, Finland
CATEGORIES:Defendo
END:VEVENT
BEGIN:VEVENT
DTSTART;TZID=Europe/Helsinki:20250123T183000
DTEND;TZID=Europe/Helsinki:20250123T194500
DTSTAMP:20260421T032803
CREATED:20240123T222056Z
LAST-MODIFIED:20250911T091241Z
UID:10000054-1737657000-1737661500@heracles-valkeakoski.fi
SUMMARY:Defendo
DESCRIPTION:
URL:https://heracles-valkeakoski.fi/event/defendo-harjoitus/2025-01-23/
LOCATION:Heracles Valkeakoski\, Lempääläntie 18 B\, Valkeakoski\, 37600\, Finland
CATEGORIES:Defendo
END:VEVENT
BEGIN:VEVENT
DTSTART;TZID=Europe/Helsinki:20250128T180000
DTEND;TZID=Europe/Helsinki:20250128T190000
DTSTAMP:20260421T032803
CREATED:20240123T222847Z
LAST-MODIFIED:20240123T222849Z
UID:10000576-1738087200-1738090800@heracles-valkeakoski.fi
SUMMARY:Defendo
DESCRIPTION:
URL:https://heracles-valkeakoski.fi/event/defendo-2/2025-01-28/
LOCATION:Heracles Valkeakoski\, Lempääläntie 18 B\, Valkeakoski\, 37600\, Finland
CATEGORIES:Defendo
END:VEVENT
BEGIN:VEVENT
DTSTART;TZID=Europe/Helsinki:20250130T183000
DTEND;TZID=Europe/Helsinki:20250130T194500
DTSTAMP:20260421T032803
CREATED:20240123T222056Z
LAST-MODIFIED:20250911T091241Z
UID:10000055-1738261800-1738266300@heracles-valkeakoski.fi
SUMMARY:Defendo
DESCRIPTION:
URL:https://heracles-valkeakoski.fi/event/defendo-harjoitus/2025-01-30/
LOCATION:Heracles Valkeakoski\, Lempääläntie 18 B\, Valkeakoski\, 37600\, Finland
CATEGORIES:Defendo
END:VEVENT
BEGIN:VEVENT
DTSTART;TZID=Europe/Helsinki:20250204T180000
DTEND;TZID=Europe/Helsinki:20250204T190000
DTSTAMP:20260421T032803
CREATED:20240123T222847Z
LAST-MODIFIED:20240123T222849Z
UID:10000577-1738692000-1738695600@heracles-valkeakoski.fi
SUMMARY:Defendo
DESCRIPTION:
URL:https://heracles-valkeakoski.fi/event/defendo-2/2025-02-04/
LOCATION:Heracles Valkeakoski\, Lempääläntie 18 B\, Valkeakoski\, 37600\, Finland
CATEGORIES:Defendo
END:VEVENT
BEGIN:VEVENT
DTSTART;TZID=Europe/Helsinki:20250206T183000
DTEND;TZID=Europe/Helsinki:20250206T194500
DTSTAMP:20260421T032803
CREATED:20240123T222056Z
LAST-MODIFIED:20250911T091241Z
UID:10000056-1738866600-1738871100@heracles-valkeakoski.fi
SUMMARY:Defendo
DESCRIPTION:
URL:https://heracles-valkeakoski.fi/event/defendo-harjoitus/2025-02-06/
LOCATION:Heracles Valkeakoski\, Lempääläntie 18 B\, Valkeakoski\, 37600\, Finland
CATEGORIES:Defendo
END:VEVENT
BEGIN:VEVENT
DTSTART;TZID=Europe/Helsinki:20250211T180000
DTEND;TZID=Europe/Helsinki:20250211T190000
DTSTAMP:20260421T032803
CREATED:20240123T222847Z
LAST-MODIFIED:20240123T222849Z
UID:10000578-1739296800-1739300400@heracles-valkeakoski.fi
SUMMARY:Defendo
DESCRIPTION:
URL:https://heracles-valkeakoski.fi/event/defendo-2/2025-02-11/
LOCATION:Heracles Valkeakoski\, Lempääläntie 18 B\, Valkeakoski\, 37600\, Finland
CATEGORIES:Defendo
END:VEVENT
BEGIN:VEVENT
DTSTART;TZID=Europe/Helsinki:20250213T183000
DTEND;TZID=Europe/Helsinki:20250213T194500
DTSTAMP:20260421T032803
CREATED:20240123T222056Z
LAST-MODIFIED:20250911T091241Z
UID:10000057-1739471400-1739475900@heracles-valkeakoski.fi
SUMMARY:Defendo
DESCRIPTION:
URL:https://heracles-valkeakoski.fi/event/defendo-harjoitus/2025-02-13/
LOCATION:Heracles Valkeakoski\, Lempääläntie 18 B\, Valkeakoski\, 37600\, Finland
CATEGORIES:Defendo
END:VEVENT
BEGIN:VEVENT
DTSTART;TZID=Europe/Helsinki:20250218T180000
DTEND;TZID=Europe/Helsinki:20250218T190000
DTSTAMP:20260421T032803
CREATED:20240123T222847Z
LAST-MODIFIED:20240123T222849Z
UID:10000579-1739901600-1739905200@heracles-valkeakoski.fi
SUMMARY:Defendo
DESCRIPTION:
URL:https://heracles-valkeakoski.fi/event/defendo-2/2025-02-18/
LOCATION:Heracles Valkeakoski\, Lempääläntie 18 B\, Valkeakoski\, 37600\, Finland
CATEGORIES:Defendo
END:VEVENT
BEGIN:VEVENT
DTSTART;TZID=Europe/Helsinki:20250220T183000
DTEND;TZID=Europe/Helsinki:20250220T194500
DTSTAMP:20260421T032803
CREATED:20240123T222056Z
LAST-MODIFIED:20250911T091241Z
UID:10000058-1740076200-1740080700@heracles-valkeakoski.fi
SUMMARY:Defendo
DESCRIPTION:
URL:https://heracles-valkeakoski.fi/event/defendo-harjoitus/2025-02-20/
LOCATION:Heracles Valkeakoski\, Lempääläntie 18 B\, Valkeakoski\, 37600\, Finland
CATEGORIES:Defendo
END:VEVENT
BEGIN:VEVENT
DTSTART;TZID=Europe/Helsinki:20250225T180000
DTEND;TZID=Europe/Helsinki:20250225T190000
DTSTAMP:20260421T032803
CREATED:20240123T222847Z
LAST-MODIFIED:20240123T222849Z
UID:10000580-1740506400-1740510000@heracles-valkeakoski.fi
SUMMARY:Defendo
DESCRIPTION:
URL:https://heracles-valkeakoski.fi/event/defendo-2/2025-02-25/
LOCATION:Heracles Valkeakoski\, Lempääläntie 18 B\, Valkeakoski\, 37600\, Finland
CATEGORIES:Defendo
END:VEVENT
BEGIN:VEVENT
DTSTART;TZID=Europe/Helsinki:20250227T183000
DTEND;TZID=Europe/Helsinki:20250227T194500
DTSTAMP:20260421T032803
CREATED:20240123T222056Z
LAST-MODIFIED:20250911T091241Z
UID:10000059-1740681000-1740685500@heracles-valkeakoski.fi
SUMMARY:Defendo
DESCRIPTION:
URL:https://heracles-valkeakoski.fi/event/defendo-harjoitus/2025-02-27/
LOCATION:Heracles Valkeakoski\, Lempääläntie 18 B\, Valkeakoski\, 37600\, Finland
CATEGORIES:Defendo
END:VEVENT
BEGIN:VEVENT
DTSTART;TZID=Europe/Helsinki:20250304T180000
DTEND;TZID=Europe/Helsinki:20250304T190000
DTSTAMP:20260421T032803
CREATED:20240123T222847Z
LAST-MODIFIED:20240123T222849Z
UID:10000581-1741111200-1741114800@heracles-valkeakoski.fi
SUMMARY:Defendo
DESCRIPTION:
URL:https://heracles-valkeakoski.fi/event/defendo-2/2025-03-04/
LOCATION:Heracles Valkeakoski\, Lempääläntie 18 B\, Valkeakoski\, 37600\, Finland
CATEGORIES:Defendo
END:VEVENT
BEGIN:VEVENT
DTSTART;TZID=Europe/Helsinki:20250306T183000
DTEND;TZID=Europe/Helsinki:20250306T194500
DTSTAMP:20260421T032803
CREATED:20240123T222056Z
LAST-MODIFIED:20250911T091241Z
UID:10000060-1741285800-1741290300@heracles-valkeakoski.fi
SUMMARY:Defendo
DESCRIPTION:
URL:https://heracles-valkeakoski.fi/event/defendo-harjoitus/2025-03-06/
LOCATION:Heracles Valkeakoski\, Lempääläntie 18 B\, Valkeakoski\, 37600\, Finland
CATEGORIES:Defendo
END:VEVENT
BEGIN:VEVENT
DTSTART;TZID=Europe/Helsinki:20250311T180000
DTEND;TZID=Europe/Helsinki:20250311T190000
DTSTAMP:20260421T032803
CREATED:20240123T222847Z
LAST-MODIFIED:20240123T222849Z
UID:10000582-1741716000-1741719600@heracles-valkeakoski.fi
SUMMARY:Defendo
DESCRIPTION:
URL:https://heracles-valkeakoski.fi/event/defendo-2/2025-03-11/
LOCATION:Heracles Valkeakoski\, Lempääläntie 18 B\, Valkeakoski\, 37600\, Finland
CATEGORIES:Defendo
END:VEVENT
BEGIN:VEVENT
DTSTART;TZID=Europe/Helsinki:20250313T183000
DTEND;TZID=Europe/Helsinki:20250313T194500
DTSTAMP:20260421T032803
CREATED:20240123T222056Z
LAST-MODIFIED:20250911T091241Z
UID:10000061-1741890600-1741895100@heracles-valkeakoski.fi
SUMMARY:Defendo
DESCRIPTION:
URL:https://heracles-valkeakoski.fi/event/defendo-harjoitus/2025-03-13/
LOCATION:Heracles Valkeakoski\, Lempääläntie 18 B\, Valkeakoski\, 37600\, Finland
CATEGORIES:Defendo
END:VEVENT
BEGIN:VEVENT
DTSTART;TZID=Europe/Helsinki:20250318T180000
DTEND;TZID=Europe/Helsinki:20250318T190000
DTSTAMP:20260421T032803
CREATED:20240123T222847Z
LAST-MODIFIED:20240123T222849Z
UID:10000583-1742320800-1742324400@heracles-valkeakoski.fi
SUMMARY:Defendo
DESCRIPTION:
URL:https://heracles-valkeakoski.fi/event/defendo-2/2025-03-18/
LOCATION:Heracles Valkeakoski\, Lempääläntie 18 B\, Valkeakoski\, 37600\, Finland
CATEGORIES:Defendo
END:VEVENT
BEGIN:VEVENT
DTSTART;TZID=Europe/Helsinki:20250320T183000
DTEND;TZID=Europe/Helsinki:20250320T194500
DTSTAMP:20260421T032803
CREATED:20240123T222056Z
LAST-MODIFIED:20250911T091241Z
UID:10000062-1742495400-1742499900@heracles-valkeakoski.fi
SUMMARY:Defendo
DESCRIPTION:
URL:https://heracles-valkeakoski.fi/event/defendo-harjoitus/2025-03-20/
LOCATION:Heracles Valkeakoski\, Lempääläntie 18 B\, Valkeakoski\, 37600\, Finland
CATEGORIES:Defendo
END:VEVENT
BEGIN:VEVENT
DTSTART;TZID=Europe/Helsinki:20250325T180000
DTEND;TZID=Europe/Helsinki:20250325T190000
DTSTAMP:20260421T032803
CREATED:20240123T222847Z
LAST-MODIFIED:20240123T222849Z
UID:10000584-1742925600-1742929200@heracles-valkeakoski.fi
SUMMARY:Defendo
DESCRIPTION:
URL:https://heracles-valkeakoski.fi/event/defendo-2/2025-03-25/
LOCATION:Heracles Valkeakoski\, Lempääläntie 18 B\, Valkeakoski\, 37600\, Finland
CATEGORIES:Defendo
END:VEVENT
BEGIN:VEVENT
DTSTART;TZID=Europe/Helsinki:20250327T183000
DTEND;TZID=Europe/Helsinki:20250327T194500
DTSTAMP:20260421T032804
CREATED:20240123T222056Z
LAST-MODIFIED:20250911T091241Z
UID:10000063-1743100200-1743104700@heracles-valkeakoski.fi
SUMMARY:Defendo
DESCRIPTION:
URL:https://heracles-valkeakoski.fi/event/defendo-harjoitus/2025-03-27/
LOCATION:Heracles Valkeakoski\, Lempääläntie 18 B\, Valkeakoski\, 37600\, Finland
CATEGORIES:Defendo
END:VEVENT
END:VCALENDAR