BEGIN:VCALENDAR
VERSION:2.0
PRODID:-//Defence &amp; Fightclub Heracles Valkeakoski - ECPv6.5.0//NONSGML v1.0//EN
CALSCALE:GREGORIAN
METHOD:PUBLISH
X-WR-CALNAME:Defence &amp; Fightclub Heracles Valkeakoski
X-ORIGINAL-URL:https://heracles-valkeakoski.fi
X-WR-CALDESC:Events for Defence &amp; Fightclub Heracles Valkeakoski
REFRESH-INTERVAL;VALUE=DURATION:PT1H
X-Robots-Tag:noindex
X-PUBLISHED-TTL:PT1H
BEGIN:VTIMEZONE
TZID:Europe/Helsinki
BEGIN:DAYLIGHT
TZOFFSETFROM:+0200
TZOFFSETTO:+0300
TZNAME:EEST
DTSTART:20270328T010000
END:DAYLIGHT
BEGIN:STANDARD
TZOFFSETFROM:+0300
TZOFFSETTO:+0200
TZNAME:EET
DTSTART:20271031T010000
END:STANDARD
END:VTIMEZONE
BEGIN:VEVENT
DTSTART;TZID=Europe/Helsinki:20270602T190000
DTEND;TZID=Europe/Helsinki:20270602T200000
DTSTAMP:20260422T140104
CREATED:20250127T221654Z
LAST-MODIFIED:20250127T221654Z
UID:10006378-1811962800-1811966400@heracles-valkeakoski.fi
SUMMARY:Kali
DESCRIPTION:
URL:https://heracles-valkeakoski.fi/event/kali/2027-06-02/
LOCATION:Heracles Valkeakoski\, Lempääläntie 18 B\, Valkeakoski\, 37600\, Finland
CATEGORIES:Kali
ORGANIZER;CN="Heracles Valkeakoski":MAILTO:info@heracles-valkeakoski.fi
END:VEVENT
BEGIN:VEVENT
DTSTART;TZID=Europe/Helsinki:20270607T190000
DTEND;TZID=Europe/Helsinki:20270607T200000
DTSTAMP:20260422T140104
CREATED:20250127T221654Z
LAST-MODIFIED:20250127T221654Z
UID:10006379-1812394800-1812398400@heracles-valkeakoski.fi
SUMMARY:Kali
DESCRIPTION:
URL:https://heracles-valkeakoski.fi/event/kali/2027-06-07/
LOCATION:Heracles Valkeakoski\, Lempääläntie 18 B\, Valkeakoski\, 37600\, Finland
CATEGORIES:Kali
ORGANIZER;CN="Heracles Valkeakoski":MAILTO:info@heracles-valkeakoski.fi
END:VEVENT
BEGIN:VEVENT
DTSTART;TZID=Europe/Helsinki:20270609T190000
DTEND;TZID=Europe/Helsinki:20270609T200000
DTSTAMP:20260422T140104
CREATED:20250127T221654Z
LAST-MODIFIED:20250127T221654Z
UID:10006380-1812567600-1812571200@heracles-valkeakoski.fi
SUMMARY:Kali
DESCRIPTION:
URL:https://heracles-valkeakoski.fi/event/kali/2027-06-09/
LOCATION:Heracles Valkeakoski\, Lempääläntie 18 B\, Valkeakoski\, 37600\, Finland
CATEGORIES:Kali
ORGANIZER;CN="Heracles Valkeakoski":MAILTO:info@heracles-valkeakoski.fi
END:VEVENT
BEGIN:VEVENT
DTSTART;TZID=Europe/Helsinki:20270614T190000
DTEND;TZID=Europe/Helsinki:20270614T200000
DTSTAMP:20260422T140104
CREATED:20250127T221654Z
LAST-MODIFIED:20250127T221654Z
UID:10006381-1812999600-1813003200@heracles-valkeakoski.fi
SUMMARY:Kali
DESCRIPTION:
URL:https://heracles-valkeakoski.fi/event/kali/2027-06-14/
LOCATION:Heracles Valkeakoski\, Lempääläntie 18 B\, Valkeakoski\, 37600\, Finland
CATEGORIES:Kali
ORGANIZER;CN="Heracles Valkeakoski":MAILTO:info@heracles-valkeakoski.fi
END:VEVENT
BEGIN:VEVENT
DTSTART;TZID=Europe/Helsinki:20270616T190000
DTEND;TZID=Europe/Helsinki:20270616T200000
DTSTAMP:20260422T140104
CREATED:20250127T221654Z
LAST-MODIFIED:20250127T221654Z
UID:10006382-1813172400-1813176000@heracles-valkeakoski.fi
SUMMARY:Kali
DESCRIPTION:
URL:https://heracles-valkeakoski.fi/event/kali/2027-06-16/
LOCATION:Heracles Valkeakoski\, Lempääläntie 18 B\, Valkeakoski\, 37600\, Finland
CATEGORIES:Kali
ORGANIZER;CN="Heracles Valkeakoski":MAILTO:info@heracles-valkeakoski.fi
END:VEVENT
BEGIN:VEVENT
DTSTART;TZID=Europe/Helsinki:20270621T190000
DTEND;TZID=Europe/Helsinki:20270621T200000
DTSTAMP:20260422T140104
CREATED:20250127T221654Z
LAST-MODIFIED:20250127T221654Z
UID:10006383-1813604400-1813608000@heracles-valkeakoski.fi
SUMMARY:Kali
DESCRIPTION:
URL:https://heracles-valkeakoski.fi/event/kali/2027-06-21/
LOCATION:Heracles Valkeakoski\, Lempääläntie 18 B\, Valkeakoski\, 37600\, Finland
CATEGORIES:Kali
ORGANIZER;CN="Heracles Valkeakoski":MAILTO:info@heracles-valkeakoski.fi
END:VEVENT
BEGIN:VEVENT
DTSTART;TZID=Europe/Helsinki:20270623T190000
DTEND;TZID=Europe/Helsinki:20270623T200000
DTSTAMP:20260422T140104
CREATED:20250127T221654Z
LAST-MODIFIED:20250127T221654Z
UID:10006384-1813777200-1813780800@heracles-valkeakoski.fi
SUMMARY:Kali
DESCRIPTION:
URL:https://heracles-valkeakoski.fi/event/kali/2027-06-23/
LOCATION:Heracles Valkeakoski\, Lempääläntie 18 B\, Valkeakoski\, 37600\, Finland
CATEGORIES:Kali
ORGANIZER;CN="Heracles Valkeakoski":MAILTO:info@heracles-valkeakoski.fi
END:VEVENT
BEGIN:VEVENT
DTSTART;TZID=Europe/Helsinki:20270628T190000
DTEND;TZID=Europe/Helsinki:20270628T200000
DTSTAMP:20260422T140104
CREATED:20250127T221654Z
LAST-MODIFIED:20250127T221654Z
UID:10006385-1814209200-1814212800@heracles-valkeakoski.fi
SUMMARY:Kali
DESCRIPTION:
URL:https://heracles-valkeakoski.fi/event/kali/2027-06-28/
LOCATION:Heracles Valkeakoski\, Lempääläntie 18 B\, Valkeakoski\, 37600\, Finland
CATEGORIES:Kali
ORGANIZER;CN="Heracles Valkeakoski":MAILTO:info@heracles-valkeakoski.fi
END:VEVENT
BEGIN:VEVENT
DTSTART;TZID=Europe/Helsinki:20270630T190000
DTEND;TZID=Europe/Helsinki:20270630T200000
DTSTAMP:20260422T140104
CREATED:20250127T221654Z
LAST-MODIFIED:20250127T221654Z
UID:10006386-1814382000-1814385600@heracles-valkeakoski.fi
SUMMARY:Kali
DESCRIPTION:
URL:https://heracles-valkeakoski.fi/event/kali/2027-06-30/
LOCATION:Heracles Valkeakoski\, Lempääläntie 18 B\, Valkeakoski\, 37600\, Finland
CATEGORIES:Kali
ORGANIZER;CN="Heracles Valkeakoski":MAILTO:info@heracles-valkeakoski.fi
END:VEVENT
END:VCALENDAR