BEGIN:VCALENDAR
VERSION:2.0
PRODID:-//Defence &amp; Fightclub Heracles Valkeakoski - ECPv6.5.0//NONSGML v1.0//EN
CALSCALE:GREGORIAN
METHOD:PUBLISH
X-WR-CALNAME:Defence &amp; Fightclub Heracles Valkeakoski
X-ORIGINAL-URL:https://heracles-valkeakoski.fi
X-WR-CALDESC:Events for Defence &amp; Fightclub Heracles Valkeakoski
REFRESH-INTERVAL;VALUE=DURATION:PT1H
X-Robots-Tag:noindex
X-PUBLISHED-TTL:PT1H
BEGIN:VTIMEZONE
TZID:Europe/Helsinki
BEGIN:DAYLIGHT
TZOFFSETFROM:+0200
TZOFFSETTO:+0300
TZNAME:EEST
DTSTART:20270328T010000
END:DAYLIGHT
BEGIN:STANDARD
TZOFFSETFROM:+0300
TZOFFSETTO:+0200
TZNAME:EET
DTSTART:20271031T010000
END:STANDARD
END:VTIMEZONE
BEGIN:VEVENT
DTSTART;TZID=Europe/Helsinki:20271004T173000
DTEND;TZID=Europe/Helsinki:20271004T184500
DTSTAMP:20260424T102816
CREATED:20250120T211442Z
LAST-MODIFIED:20250316T192044Z
UID:10005487-1822671000-1822675500@heracles-valkeakoski.fi
SUMMARY:Potkunyrkkeily
DESCRIPTION:
URL:https://heracles-valkeakoski.fi/event/potkunyrkkeily-3/2027-10-04/
CATEGORIES:Potkunyrkkeily
END:VEVENT
BEGIN:VEVENT
DTSTART;TZID=Europe/Helsinki:20271005T164500
DTEND;TZID=Europe/Helsinki:20271005T180000
DTSTAMP:20260424T102816
CREATED:20251216T122107Z
LAST-MODIFIED:20251216T122107Z
UID:10008028-1822754700-1822759200@heracles-valkeakoski.fi
SUMMARY:Potkunyrkkeily
DESCRIPTION:
URL:https://heracles-valkeakoski.fi/event/potkunyrkkeily/2027-10-05/
CATEGORIES:Potkunyrkkeily
ORGANIZER;CN="Heracles Valkeakoski":MAILTO:info@heracles-valkeakoski.fi
END:VEVENT
BEGIN:VEVENT
DTSTART;TZID=Europe/Helsinki:20271006T173000
DTEND;TZID=Europe/Helsinki:20271006T183000
DTSTAMP:20260424T102816
CREATED:20250120T211547Z
LAST-MODIFIED:20250120T211848Z
UID:10005747-1822843800-1822847400@heracles-valkeakoski.fi
SUMMARY:Potkunyrkkeily
DESCRIPTION:
URL:https://heracles-valkeakoski.fi/event/potkunyrkkeily-4/2027-10-06/
CATEGORIES:Potkunyrkkeily
END:VEVENT
BEGIN:VEVENT
DTSTART;TZID=Europe/Helsinki:20271011T173000
DTEND;TZID=Europe/Helsinki:20271011T184500
DTSTAMP:20260424T102816
CREATED:20250120T211442Z
LAST-MODIFIED:20250316T192044Z
UID:10005488-1823275800-1823280300@heracles-valkeakoski.fi
SUMMARY:Potkunyrkkeily
DESCRIPTION:
URL:https://heracles-valkeakoski.fi/event/potkunyrkkeily-3/2027-10-11/
CATEGORIES:Potkunyrkkeily
END:VEVENT
BEGIN:VEVENT
DTSTART;TZID=Europe/Helsinki:20271012T164500
DTEND;TZID=Europe/Helsinki:20271012T180000
DTSTAMP:20260424T102816
CREATED:20251216T122107Z
LAST-MODIFIED:20251216T122107Z
UID:10008029-1823359500-1823364000@heracles-valkeakoski.fi
SUMMARY:Potkunyrkkeily
DESCRIPTION:
URL:https://heracles-valkeakoski.fi/event/potkunyrkkeily/2027-10-12/
CATEGORIES:Potkunyrkkeily
ORGANIZER;CN="Heracles Valkeakoski":MAILTO:info@heracles-valkeakoski.fi
END:VEVENT
BEGIN:VEVENT
DTSTART;TZID=Europe/Helsinki:20271013T173000
DTEND;TZID=Europe/Helsinki:20271013T183000
DTSTAMP:20260424T102816
CREATED:20250120T211547Z
LAST-MODIFIED:20250120T211848Z
UID:10005748-1823448600-1823452200@heracles-valkeakoski.fi
SUMMARY:Potkunyrkkeily
DESCRIPTION:
URL:https://heracles-valkeakoski.fi/event/potkunyrkkeily-4/2027-10-13/
CATEGORIES:Potkunyrkkeily
END:VEVENT
BEGIN:VEVENT
DTSTART;TZID=Europe/Helsinki:20271018T173000
DTEND;TZID=Europe/Helsinki:20271018T184500
DTSTAMP:20260424T102816
CREATED:20250120T211442Z
LAST-MODIFIED:20250316T192044Z
UID:10005489-1823880600-1823885100@heracles-valkeakoski.fi
SUMMARY:Potkunyrkkeily
DESCRIPTION:
URL:https://heracles-valkeakoski.fi/event/potkunyrkkeily-3/2027-10-18/
CATEGORIES:Potkunyrkkeily
END:VEVENT
BEGIN:VEVENT
DTSTART;TZID=Europe/Helsinki:20271019T164500
DTEND;TZID=Europe/Helsinki:20271019T180000
DTSTAMP:20260424T102816
CREATED:20251216T122107Z
LAST-MODIFIED:20251216T122107Z
UID:10008030-1823964300-1823968800@heracles-valkeakoski.fi
SUMMARY:Potkunyrkkeily
DESCRIPTION:
URL:https://heracles-valkeakoski.fi/event/potkunyrkkeily/2027-10-19/
CATEGORIES:Potkunyrkkeily
ORGANIZER;CN="Heracles Valkeakoski":MAILTO:info@heracles-valkeakoski.fi
END:VEVENT
BEGIN:VEVENT
DTSTART;TZID=Europe/Helsinki:20271020T173000
DTEND;TZID=Europe/Helsinki:20271020T183000
DTSTAMP:20260424T102816
CREATED:20250120T211547Z
LAST-MODIFIED:20250120T211848Z
UID:10005749-1824053400-1824057000@heracles-valkeakoski.fi
SUMMARY:Potkunyrkkeily
DESCRIPTION:
URL:https://heracles-valkeakoski.fi/event/potkunyrkkeily-4/2027-10-20/
CATEGORIES:Potkunyrkkeily
END:VEVENT
BEGIN:VEVENT
DTSTART;TZID=Europe/Helsinki:20271025T173000
DTEND;TZID=Europe/Helsinki:20271025T184500
DTSTAMP:20260424T102816
CREATED:20250120T211442Z
LAST-MODIFIED:20250316T192044Z
UID:10005490-1824485400-1824489900@heracles-valkeakoski.fi
SUMMARY:Potkunyrkkeily
DESCRIPTION:
URL:https://heracles-valkeakoski.fi/event/potkunyrkkeily-3/2027-10-25/
CATEGORIES:Potkunyrkkeily
END:VEVENT
BEGIN:VEVENT
DTSTART;TZID=Europe/Helsinki:20271026T164500
DTEND;TZID=Europe/Helsinki:20271026T180000
DTSTAMP:20260424T102816
CREATED:20251216T122107Z
LAST-MODIFIED:20251216T122107Z
UID:10008031-1824569100-1824573600@heracles-valkeakoski.fi
SUMMARY:Potkunyrkkeily
DESCRIPTION:
URL:https://heracles-valkeakoski.fi/event/potkunyrkkeily/2027-10-26/
CATEGORIES:Potkunyrkkeily
ORGANIZER;CN="Heracles Valkeakoski":MAILTO:info@heracles-valkeakoski.fi
END:VEVENT
BEGIN:VEVENT
DTSTART;TZID=Europe/Helsinki:20271027T173000
DTEND;TZID=Europe/Helsinki:20271027T183000
DTSTAMP:20260424T102816
CREATED:20250120T211547Z
LAST-MODIFIED:20250120T211848Z
UID:10005750-1824658200-1824661800@heracles-valkeakoski.fi
SUMMARY:Potkunyrkkeily
DESCRIPTION:
URL:https://heracles-valkeakoski.fi/event/potkunyrkkeily-4/2027-10-27/
CATEGORIES:Potkunyrkkeily
END:VEVENT
END:VCALENDAR