BEGIN:VCALENDAR
VERSION:2.0
PRODID:-//Defence &amp; Fightclub Heracles Valkeakoski - ECPv6.5.0//NONSGML v1.0//EN
CALSCALE:GREGORIAN
METHOD:PUBLISH
X-ORIGINAL-URL:https://heracles-valkeakoski.fi
X-WR-CALDESC:Events for Defence &amp; Fightclub Heracles Valkeakoski
REFRESH-INTERVAL;VALUE=DURATION:PT1H
X-Robots-Tag:noindex
X-PUBLISHED-TTL:PT1H
BEGIN:VTIMEZONE
TZID:Europe/Helsinki
BEGIN:DAYLIGHT
TZOFFSETFROM:+0200
TZOFFSETTO:+0300
TZNAME:EEST
DTSTART:20280326T010000
END:DAYLIGHT
BEGIN:STANDARD
TZOFFSETFROM:+0300
TZOFFSETTO:+0200
TZNAME:EET
DTSTART:20281029T010000
END:STANDARD
END:VTIMEZONE
BEGIN:VEVENT
DTSTART;TZID=Europe/Helsinki:20280201T164500
DTEND;TZID=Europe/Helsinki:20280201T180000
DTSTAMP:20260425T190852
CREATED:20251216T122107Z
LAST-MODIFIED:20251216T122107Z
UID:10008045-1833036300-1833040800@heracles-valkeakoski.fi
SUMMARY:Potkunyrkkeily
DESCRIPTION:
URL:https://heracles-valkeakoski.fi/event/potkunyrkkeily/2028-02-01/
CATEGORIES:Potkunyrkkeily
ORGANIZER;CN="Heracles Valkeakoski":MAILTO:info@heracles-valkeakoski.fi
END:VEVENT
BEGIN:VEVENT
DTSTART;TZID=Europe/Helsinki:20280202T173000
DTEND;TZID=Europe/Helsinki:20280202T183000
DTSTAMP:20260425T190852
CREATED:20250120T211547Z
LAST-MODIFIED:20250120T211848Z
UID:10005764-1833125400-1833129000@heracles-valkeakoski.fi
SUMMARY:Potkunyrkkeily
DESCRIPTION:
URL:https://heracles-valkeakoski.fi/event/potkunyrkkeily-4/2028-02-02/
CATEGORIES:Potkunyrkkeily
END:VEVENT
BEGIN:VEVENT
DTSTART;TZID=Europe/Helsinki:20280207T173000
DTEND;TZID=Europe/Helsinki:20280207T184500
DTSTAMP:20260425T190852
CREATED:20250120T211442Z
LAST-MODIFIED:20250316T192044Z
UID:10005505-1833557400-1833561900@heracles-valkeakoski.fi
SUMMARY:Potkunyrkkeily
DESCRIPTION:
URL:https://heracles-valkeakoski.fi/event/potkunyrkkeily-3/2028-02-07/
CATEGORIES:Potkunyrkkeily
END:VEVENT
BEGIN:VEVENT
DTSTART;TZID=Europe/Helsinki:20280208T164500
DTEND;TZID=Europe/Helsinki:20280208T180000
DTSTAMP:20260425T190852
CREATED:20251216T122107Z
LAST-MODIFIED:20251216T122107Z
UID:10008046-1833641100-1833645600@heracles-valkeakoski.fi
SUMMARY:Potkunyrkkeily
DESCRIPTION:
URL:https://heracles-valkeakoski.fi/event/potkunyrkkeily/2028-02-08/
CATEGORIES:Potkunyrkkeily
ORGANIZER;CN="Heracles Valkeakoski":MAILTO:info@heracles-valkeakoski.fi
END:VEVENT
BEGIN:VEVENT
DTSTART;TZID=Europe/Helsinki:20280209T173000
DTEND;TZID=Europe/Helsinki:20280209T183000
DTSTAMP:20260425T190852
CREATED:20250120T211547Z
LAST-MODIFIED:20250120T211848Z
UID:10005765-1833730200-1833733800@heracles-valkeakoski.fi
SUMMARY:Potkunyrkkeily
DESCRIPTION:
URL:https://heracles-valkeakoski.fi/event/potkunyrkkeily-4/2028-02-09/
CATEGORIES:Potkunyrkkeily
END:VEVENT
BEGIN:VEVENT
DTSTART;TZID=Europe/Helsinki:20280214T173000
DTEND;TZID=Europe/Helsinki:20280214T184500
DTSTAMP:20260425T190852
CREATED:20250120T211442Z
LAST-MODIFIED:20250316T192044Z
UID:10005506-1834162200-1834166700@heracles-valkeakoski.fi
SUMMARY:Potkunyrkkeily
DESCRIPTION:
URL:https://heracles-valkeakoski.fi/event/potkunyrkkeily-3/2028-02-14/
CATEGORIES:Potkunyrkkeily
END:VEVENT
BEGIN:VEVENT
DTSTART;TZID=Europe/Helsinki:20280215T164500
DTEND;TZID=Europe/Helsinki:20280215T180000
DTSTAMP:20260425T190852
CREATED:20251216T122107Z
LAST-MODIFIED:20251216T122107Z
UID:10008047-1834245900-1834250400@heracles-valkeakoski.fi
SUMMARY:Potkunyrkkeily
DESCRIPTION:
URL:https://heracles-valkeakoski.fi/event/potkunyrkkeily/2028-02-15/
CATEGORIES:Potkunyrkkeily
ORGANIZER;CN="Heracles Valkeakoski":MAILTO:info@heracles-valkeakoski.fi
END:VEVENT
BEGIN:VEVENT
DTSTART;TZID=Europe/Helsinki:20280216T173000
DTEND;TZID=Europe/Helsinki:20280216T183000
DTSTAMP:20260425T190852
CREATED:20250120T211547Z
LAST-MODIFIED:20250120T211848Z
UID:10005766-1834335000-1834338600@heracles-valkeakoski.fi
SUMMARY:Potkunyrkkeily
DESCRIPTION:
URL:https://heracles-valkeakoski.fi/event/potkunyrkkeily-4/2028-02-16/
CATEGORIES:Potkunyrkkeily
END:VEVENT
BEGIN:VEVENT
DTSTART;TZID=Europe/Helsinki:20280221T173000
DTEND;TZID=Europe/Helsinki:20280221T184500
DTSTAMP:20260425T190852
CREATED:20250120T211442Z
LAST-MODIFIED:20250316T192044Z
UID:10005507-1834767000-1834771500@heracles-valkeakoski.fi
SUMMARY:Potkunyrkkeily
DESCRIPTION:
URL:https://heracles-valkeakoski.fi/event/potkunyrkkeily-3/2028-02-21/
CATEGORIES:Potkunyrkkeily
END:VEVENT
BEGIN:VEVENT
DTSTART;TZID=Europe/Helsinki:20280222T164500
DTEND;TZID=Europe/Helsinki:20280222T180000
DTSTAMP:20260425T190852
CREATED:20251216T122107Z
LAST-MODIFIED:20251216T122107Z
UID:10008048-1834850700-1834855200@heracles-valkeakoski.fi
SUMMARY:Potkunyrkkeily
DESCRIPTION:
URL:https://heracles-valkeakoski.fi/event/potkunyrkkeily/2028-02-22/
CATEGORIES:Potkunyrkkeily
ORGANIZER;CN="Heracles Valkeakoski":MAILTO:info@heracles-valkeakoski.fi
END:VEVENT
BEGIN:VEVENT
DTSTART;TZID=Europe/Helsinki:20280223T173000
DTEND;TZID=Europe/Helsinki:20280223T183000
DTSTAMP:20260425T190852
CREATED:20250120T211547Z
LAST-MODIFIED:20250120T211848Z
UID:10005767-1834939800-1834943400@heracles-valkeakoski.fi
SUMMARY:Potkunyrkkeily
DESCRIPTION:
URL:https://heracles-valkeakoski.fi/event/potkunyrkkeily-4/2028-02-23/
CATEGORIES:Potkunyrkkeily
END:VEVENT
BEGIN:VEVENT
DTSTART;TZID=Europe/Helsinki:20280228T173000
DTEND;TZID=Europe/Helsinki:20280228T184500
DTSTAMP:20260425T190852
CREATED:20250120T211442Z
LAST-MODIFIED:20250316T192044Z
UID:10005508-1835371800-1835376300@heracles-valkeakoski.fi
SUMMARY:Potkunyrkkeily
DESCRIPTION:
URL:https://heracles-valkeakoski.fi/event/potkunyrkkeily-3/2028-02-28/
CATEGORIES:Potkunyrkkeily
END:VEVENT
BEGIN:VEVENT
DTSTART;TZID=Europe/Helsinki:20280229T164500
DTEND;TZID=Europe/Helsinki:20280229T180000
DTSTAMP:20260425T190852
CREATED:20251216T122107Z
LAST-MODIFIED:20251216T122107Z
UID:10008049-1835455500-1835460000@heracles-valkeakoski.fi
SUMMARY:Potkunyrkkeily
DESCRIPTION:
URL:https://heracles-valkeakoski.fi/event/potkunyrkkeily/2028-02-29/
CATEGORIES:Potkunyrkkeily
ORGANIZER;CN="Heracles Valkeakoski":MAILTO:info@heracles-valkeakoski.fi
END:VEVENT
END:VCALENDAR