BEGIN:VCALENDAR
VERSION:2.0
PRODID:-//Defence &amp; Fightclub Heracles Valkeakoski - ECPv6.5.0//NONSGML v1.0//EN
CALSCALE:GREGORIAN
METHOD:PUBLISH
X-WR-CALNAME:Defence &amp; Fightclub Heracles Valkeakoski
X-ORIGINAL-URL:https://heracles-valkeakoski.fi
X-WR-CALDESC:Events for Defence &amp; Fightclub Heracles Valkeakoski
REFRESH-INTERVAL;VALUE=DURATION:PT1H
X-Robots-Tag:noindex
X-PUBLISHED-TTL:PT1H
BEGIN:VTIMEZONE
TZID:Europe/Helsinki
BEGIN:DAYLIGHT
TZOFFSETFROM:+0200
TZOFFSETTO:+0300
TZNAME:EEST
DTSTART:20290325T010000
END:DAYLIGHT
BEGIN:STANDARD
TZOFFSETFROM:+0300
TZOFFSETTO:+0200
TZNAME:EET
DTSTART:20291028T010000
END:STANDARD
BEGIN:DAYLIGHT
TZOFFSETFROM:+0200
TZOFFSETTO:+0300
TZNAME:EEST
DTSTART:20300331T010000
END:DAYLIGHT
BEGIN:STANDARD
TZOFFSETFROM:+0300
TZOFFSETTO:+0200
TZNAME:EET
DTSTART:20301027T010000
END:STANDARD
END:VTIMEZONE
BEGIN:VEVENT
DTSTART;TZID=Europe/Helsinki:20291225T164500
DTEND;TZID=Europe/Helsinki:20291225T180000
DTSTAMP:20260421T175842
CREATED:20251216T122107Z
LAST-MODIFIED:20251216T122107Z
UID:10008144-1892911500-1892916000@heracles-valkeakoski.fi
SUMMARY:Potkunyrkkeily
DESCRIPTION:
URL:https://heracles-valkeakoski.fi/event/potkunyrkkeily/2029-12-25/
CATEGORIES:Potkunyrkkeily
ORGANIZER;CN="Heracles Valkeakoski":MAILTO:info@heracles-valkeakoski.fi
END:VEVENT
BEGIN:VEVENT
DTSTART;TZID=Europe/Helsinki:20291226T173000
DTEND;TZID=Europe/Helsinki:20291226T183000
DTSTAMP:20260421T175842
CREATED:20250120T211547Z
LAST-MODIFIED:20250120T211848Z
UID:10005863-1893000600-1893004200@heracles-valkeakoski.fi
SUMMARY:Potkunyrkkeily
DESCRIPTION:
URL:https://heracles-valkeakoski.fi/event/potkunyrkkeily-4/2029-12-26/
CATEGORIES:Potkunyrkkeily
END:VEVENT
BEGIN:VEVENT
DTSTART;TZID=Europe/Helsinki:20291231T173000
DTEND;TZID=Europe/Helsinki:20291231T184500
DTSTAMP:20260421T175842
CREATED:20250120T211442Z
LAST-MODIFIED:20250316T192044Z
UID:10005604-1893432600-1893437100@heracles-valkeakoski.fi
SUMMARY:Potkunyrkkeily
DESCRIPTION:
URL:https://heracles-valkeakoski.fi/event/potkunyrkkeily-3/2029-12-31/
CATEGORIES:Potkunyrkkeily
END:VEVENT
BEGIN:VEVENT
DTSTART;TZID=Europe/Helsinki:20300101T164500
DTEND;TZID=Europe/Helsinki:20300101T180000
DTSTAMP:20260421T175842
CREATED:20251216T122107Z
LAST-MODIFIED:20251216T122107Z
UID:10008145-1893516300-1893520800@heracles-valkeakoski.fi
SUMMARY:Potkunyrkkeily
DESCRIPTION:
URL:https://heracles-valkeakoski.fi/event/potkunyrkkeily/2030-01-01/
CATEGORIES:Potkunyrkkeily
ORGANIZER;CN="Heracles Valkeakoski":MAILTO:info@heracles-valkeakoski.fi
END:VEVENT
BEGIN:VEVENT
DTSTART;TZID=Europe/Helsinki:20300102T173000
DTEND;TZID=Europe/Helsinki:20300102T183000
DTSTAMP:20260421T175842
CREATED:20250120T211547Z
LAST-MODIFIED:20250120T211848Z
UID:10005864-1893605400-1893609000@heracles-valkeakoski.fi
SUMMARY:Potkunyrkkeily
DESCRIPTION:
URL:https://heracles-valkeakoski.fi/event/potkunyrkkeily-4/2030-01-02/
CATEGORIES:Potkunyrkkeily
END:VEVENT
BEGIN:VEVENT
DTSTART;TZID=Europe/Helsinki:20300107T173000
DTEND;TZID=Europe/Helsinki:20300107T184500
DTSTAMP:20260421T175842
CREATED:20250120T211442Z
LAST-MODIFIED:20250316T192044Z
UID:10005605-1894037400-1894041900@heracles-valkeakoski.fi
SUMMARY:Potkunyrkkeily
DESCRIPTION:
URL:https://heracles-valkeakoski.fi/event/potkunyrkkeily-3/2030-01-07/
CATEGORIES:Potkunyrkkeily
END:VEVENT
BEGIN:VEVENT
DTSTART;TZID=Europe/Helsinki:20300108T164500
DTEND;TZID=Europe/Helsinki:20300108T180000
DTSTAMP:20260421T175842
CREATED:20251216T122107Z
LAST-MODIFIED:20251216T122107Z
UID:10008146-1894121100-1894125600@heracles-valkeakoski.fi
SUMMARY:Potkunyrkkeily
DESCRIPTION:
URL:https://heracles-valkeakoski.fi/event/potkunyrkkeily/2030-01-08/
CATEGORIES:Potkunyrkkeily
ORGANIZER;CN="Heracles Valkeakoski":MAILTO:info@heracles-valkeakoski.fi
END:VEVENT
BEGIN:VEVENT
DTSTART;TZID=Europe/Helsinki:20300109T173000
DTEND;TZID=Europe/Helsinki:20300109T183000
DTSTAMP:20260421T175842
CREATED:20250120T211547Z
LAST-MODIFIED:20250120T211848Z
UID:10005865-1894210200-1894213800@heracles-valkeakoski.fi
SUMMARY:Potkunyrkkeily
DESCRIPTION:
URL:https://heracles-valkeakoski.fi/event/potkunyrkkeily-4/2030-01-09/
CATEGORIES:Potkunyrkkeily
END:VEVENT
BEGIN:VEVENT
DTSTART;TZID=Europe/Helsinki:20300114T173000
DTEND;TZID=Europe/Helsinki:20300114T184500
DTSTAMP:20260421T175842
CREATED:20250120T211442Z
LAST-MODIFIED:20250316T192044Z
UID:10005606-1894642200-1894646700@heracles-valkeakoski.fi
SUMMARY:Potkunyrkkeily
DESCRIPTION:
URL:https://heracles-valkeakoski.fi/event/potkunyrkkeily-3/2030-01-14/
CATEGORIES:Potkunyrkkeily
END:VEVENT
BEGIN:VEVENT
DTSTART;TZID=Europe/Helsinki:20300115T164500
DTEND;TZID=Europe/Helsinki:20300115T180000
DTSTAMP:20260421T175842
CREATED:20251216T122107Z
LAST-MODIFIED:20251216T122107Z
UID:10008147-1894725900-1894730400@heracles-valkeakoski.fi
SUMMARY:Potkunyrkkeily
DESCRIPTION:
URL:https://heracles-valkeakoski.fi/event/potkunyrkkeily/2030-01-15/
CATEGORIES:Potkunyrkkeily
ORGANIZER;CN="Heracles Valkeakoski":MAILTO:info@heracles-valkeakoski.fi
END:VEVENT
BEGIN:VEVENT
DTSTART;TZID=Europe/Helsinki:20300116T173000
DTEND;TZID=Europe/Helsinki:20300116T183000
DTSTAMP:20260421T175842
CREATED:20250120T211547Z
LAST-MODIFIED:20250120T211848Z
UID:10005866-1894815000-1894818600@heracles-valkeakoski.fi
SUMMARY:Potkunyrkkeily
DESCRIPTION:
URL:https://heracles-valkeakoski.fi/event/potkunyrkkeily-4/2030-01-16/
CATEGORIES:Potkunyrkkeily
END:VEVENT
BEGIN:VEVENT
DTSTART;TZID=Europe/Helsinki:20300121T173000
DTEND;TZID=Europe/Helsinki:20300121T184500
DTSTAMP:20260421T175842
CREATED:20250120T211442Z
LAST-MODIFIED:20250316T192044Z
UID:10006938-1895247000-1895251500@heracles-valkeakoski.fi
SUMMARY:Potkunyrkkeily
DESCRIPTION:
URL:https://heracles-valkeakoski.fi/event/potkunyrkkeily-3/2030-01-21/
CATEGORIES:Potkunyrkkeily
END:VEVENT
BEGIN:VEVENT
DTSTART;TZID=Europe/Helsinki:20300122T164500
DTEND;TZID=Europe/Helsinki:20300122T180000
DTSTAMP:20260421T175842
CREATED:20251216T122107Z
LAST-MODIFIED:20251216T122107Z
UID:10008148-1895330700-1895335200@heracles-valkeakoski.fi
SUMMARY:Potkunyrkkeily
DESCRIPTION:
URL:https://heracles-valkeakoski.fi/event/potkunyrkkeily/2030-01-22/
CATEGORIES:Potkunyrkkeily
ORGANIZER;CN="Heracles Valkeakoski":MAILTO:info@heracles-valkeakoski.fi
END:VEVENT
BEGIN:VEVENT
DTSTART;TZID=Europe/Helsinki:20300128T173000
DTEND;TZID=Europe/Helsinki:20300128T184500
DTSTAMP:20260421T175842
CREATED:20250120T211442Z
LAST-MODIFIED:20250316T192044Z
UID:10006939-1895851800-1895856300@heracles-valkeakoski.fi
SUMMARY:Potkunyrkkeily
DESCRIPTION:
URL:https://heracles-valkeakoski.fi/event/potkunyrkkeily-3/2030-01-28/
CATEGORIES:Potkunyrkkeily
END:VEVENT
BEGIN:VEVENT
DTSTART;TZID=Europe/Helsinki:20300129T164500
DTEND;TZID=Europe/Helsinki:20300129T180000
DTSTAMP:20260421T175842
CREATED:20251216T122107Z
LAST-MODIFIED:20251216T122107Z
UID:10008149-1895935500-1895940000@heracles-valkeakoski.fi
SUMMARY:Potkunyrkkeily
DESCRIPTION:
URL:https://heracles-valkeakoski.fi/event/potkunyrkkeily/2030-01-29/
CATEGORIES:Potkunyrkkeily
ORGANIZER;CN="Heracles Valkeakoski":MAILTO:info@heracles-valkeakoski.fi
END:VEVENT
BEGIN:VEVENT
DTSTART;TZID=Europe/Helsinki:20300204T173000
DTEND;TZID=Europe/Helsinki:20300204T184500
DTSTAMP:20260421T175842
CREATED:20250120T211442Z
LAST-MODIFIED:20250316T192044Z
UID:10006940-1896456600-1896461100@heracles-valkeakoski.fi
SUMMARY:Potkunyrkkeily
DESCRIPTION:
URL:https://heracles-valkeakoski.fi/event/potkunyrkkeily-3/2030-02-04/
CATEGORIES:Potkunyrkkeily
END:VEVENT
BEGIN:VEVENT
DTSTART;TZID=Europe/Helsinki:20300205T164500
DTEND;TZID=Europe/Helsinki:20300205T180000
DTSTAMP:20260421T175842
CREATED:20251216T122107Z
LAST-MODIFIED:20251216T122107Z
UID:10008150-1896540300-1896544800@heracles-valkeakoski.fi
SUMMARY:Potkunyrkkeily
DESCRIPTION:
URL:https://heracles-valkeakoski.fi/event/potkunyrkkeily/2030-02-05/
CATEGORIES:Potkunyrkkeily
ORGANIZER;CN="Heracles Valkeakoski":MAILTO:info@heracles-valkeakoski.fi
END:VEVENT
BEGIN:VEVENT
DTSTART;TZID=Europe/Helsinki:20300211T173000
DTEND;TZID=Europe/Helsinki:20300211T184500
DTSTAMP:20260421T175842
CREATED:20250120T211442Z
LAST-MODIFIED:20250316T192044Z
UID:10006941-1897061400-1897065900@heracles-valkeakoski.fi
SUMMARY:Potkunyrkkeily
DESCRIPTION:
URL:https://heracles-valkeakoski.fi/event/potkunyrkkeily-3/2030-02-11/
CATEGORIES:Potkunyrkkeily
END:VEVENT
BEGIN:VEVENT
DTSTART;TZID=Europe/Helsinki:20300212T164500
DTEND;TZID=Europe/Helsinki:20300212T180000
DTSTAMP:20260421T175842
CREATED:20251216T122107Z
LAST-MODIFIED:20251216T122107Z
UID:10008151-1897145100-1897149600@heracles-valkeakoski.fi
SUMMARY:Potkunyrkkeily
DESCRIPTION:
URL:https://heracles-valkeakoski.fi/event/potkunyrkkeily/2030-02-12/
CATEGORIES:Potkunyrkkeily
ORGANIZER;CN="Heracles Valkeakoski":MAILTO:info@heracles-valkeakoski.fi
END:VEVENT
BEGIN:VEVENT
DTSTART;TZID=Europe/Helsinki:20300218T173000
DTEND;TZID=Europe/Helsinki:20300218T184500
DTSTAMP:20260421T175842
CREATED:20250120T211442Z
LAST-MODIFIED:20250316T192044Z
UID:10006942-1897666200-1897670700@heracles-valkeakoski.fi
SUMMARY:Potkunyrkkeily
DESCRIPTION:
URL:https://heracles-valkeakoski.fi/event/potkunyrkkeily-3/2030-02-18/
CATEGORIES:Potkunyrkkeily
END:VEVENT
BEGIN:VEVENT
DTSTART;TZID=Europe/Helsinki:20300219T164500
DTEND;TZID=Europe/Helsinki:20300219T180000
DTSTAMP:20260421T175842
CREATED:20251216T122107Z
LAST-MODIFIED:20251216T122107Z
UID:10008152-1897749900-1897754400@heracles-valkeakoski.fi
SUMMARY:Potkunyrkkeily
DESCRIPTION:
URL:https://heracles-valkeakoski.fi/event/potkunyrkkeily/2030-02-19/
CATEGORIES:Potkunyrkkeily
ORGANIZER;CN="Heracles Valkeakoski":MAILTO:info@heracles-valkeakoski.fi
END:VEVENT
BEGIN:VEVENT
DTSTART;TZID=Europe/Helsinki:20300225T173000
DTEND;TZID=Europe/Helsinki:20300225T184500
DTSTAMP:20260421T175842
CREATED:20250120T211442Z
LAST-MODIFIED:20250316T192044Z
UID:10006943-1898271000-1898275500@heracles-valkeakoski.fi
SUMMARY:Potkunyrkkeily
DESCRIPTION:
URL:https://heracles-valkeakoski.fi/event/potkunyrkkeily-3/2030-02-25/
CATEGORIES:Potkunyrkkeily
END:VEVENT
BEGIN:VEVENT
DTSTART;TZID=Europe/Helsinki:20300226T164500
DTEND;TZID=Europe/Helsinki:20300226T180000
DTSTAMP:20260421T175842
CREATED:20251216T122107Z
LAST-MODIFIED:20251216T122107Z
UID:10008153-1898354700-1898359200@heracles-valkeakoski.fi
SUMMARY:Potkunyrkkeily
DESCRIPTION:
URL:https://heracles-valkeakoski.fi/event/potkunyrkkeily/2030-02-26/
CATEGORIES:Potkunyrkkeily
ORGANIZER;CN="Heracles Valkeakoski":MAILTO:info@heracles-valkeakoski.fi
END:VEVENT
BEGIN:VEVENT
DTSTART;TZID=Europe/Helsinki:20300304T173000
DTEND;TZID=Europe/Helsinki:20300304T184500
DTSTAMP:20260421T175842
CREATED:20250120T211442Z
LAST-MODIFIED:20250316T192044Z
UID:10006944-1898875800-1898880300@heracles-valkeakoski.fi
SUMMARY:Potkunyrkkeily
DESCRIPTION:
URL:https://heracles-valkeakoski.fi/event/potkunyrkkeily-3/2030-03-04/
CATEGORIES:Potkunyrkkeily
END:VEVENT
BEGIN:VEVENT
DTSTART;TZID=Europe/Helsinki:20300305T164500
DTEND;TZID=Europe/Helsinki:20300305T180000
DTSTAMP:20260421T175842
CREATED:20251216T122107Z
LAST-MODIFIED:20251216T122107Z
UID:10008154-1898959500-1898964000@heracles-valkeakoski.fi
SUMMARY:Potkunyrkkeily
DESCRIPTION:
URL:https://heracles-valkeakoski.fi/event/potkunyrkkeily/2030-03-05/
CATEGORIES:Potkunyrkkeily
ORGANIZER;CN="Heracles Valkeakoski":MAILTO:info@heracles-valkeakoski.fi
END:VEVENT
BEGIN:VEVENT
DTSTART;TZID=Europe/Helsinki:20300311T173000
DTEND;TZID=Europe/Helsinki:20300311T184500
DTSTAMP:20260421T175842
CREATED:20250120T211442Z
LAST-MODIFIED:20250316T192044Z
UID:10006945-1899480600-1899485100@heracles-valkeakoski.fi
SUMMARY:Potkunyrkkeily
DESCRIPTION:
URL:https://heracles-valkeakoski.fi/event/potkunyrkkeily-3/2030-03-11/
CATEGORIES:Potkunyrkkeily
END:VEVENT
BEGIN:VEVENT
DTSTART;TZID=Europe/Helsinki:20300312T164500
DTEND;TZID=Europe/Helsinki:20300312T180000
DTSTAMP:20260421T175842
CREATED:20251216T122107Z
LAST-MODIFIED:20251216T122107Z
UID:10008155-1899564300-1899568800@heracles-valkeakoski.fi
SUMMARY:Potkunyrkkeily
DESCRIPTION:
URL:https://heracles-valkeakoski.fi/event/potkunyrkkeily/2030-03-12/
CATEGORIES:Potkunyrkkeily
ORGANIZER;CN="Heracles Valkeakoski":MAILTO:info@heracles-valkeakoski.fi
END:VEVENT
BEGIN:VEVENT
DTSTART;TZID=Europe/Helsinki:20300319T164500
DTEND;TZID=Europe/Helsinki:20300319T180000
DTSTAMP:20260421T175842
CREATED:20251216T122107Z
LAST-MODIFIED:20251216T122107Z
UID:10008156-1900169100-1900173600@heracles-valkeakoski.fi
SUMMARY:Potkunyrkkeily
DESCRIPTION:
URL:https://heracles-valkeakoski.fi/event/potkunyrkkeily/2030-03-19/
CATEGORIES:Potkunyrkkeily
ORGANIZER;CN="Heracles Valkeakoski":MAILTO:info@heracles-valkeakoski.fi
END:VEVENT
BEGIN:VEVENT
DTSTART;TZID=Europe/Helsinki:20300326T164500
DTEND;TZID=Europe/Helsinki:20300326T180000
DTSTAMP:20260421T175842
CREATED:20251216T122107Z
LAST-MODIFIED:20251216T122107Z
UID:10008157-1900773900-1900778400@heracles-valkeakoski.fi
SUMMARY:Potkunyrkkeily
DESCRIPTION:
URL:https://heracles-valkeakoski.fi/event/potkunyrkkeily/2030-03-26/
CATEGORIES:Potkunyrkkeily
ORGANIZER;CN="Heracles Valkeakoski":MAILTO:info@heracles-valkeakoski.fi
END:VEVENT
BEGIN:VEVENT
DTSTART;TZID=Europe/Helsinki:20300402T164500
DTEND;TZID=Europe/Helsinki:20300402T180000
DTSTAMP:20260421T175842
CREATED:20251216T122107Z
LAST-MODIFIED:20251216T122107Z
UID:10008158-1901378700-1901383200@heracles-valkeakoski.fi
SUMMARY:Potkunyrkkeily
DESCRIPTION:
URL:https://heracles-valkeakoski.fi/event/potkunyrkkeily/2030-04-02/
CATEGORIES:Potkunyrkkeily
ORGANIZER;CN="Heracles Valkeakoski":MAILTO:info@heracles-valkeakoski.fi
END:VEVENT
END:VCALENDAR