BEGIN:VCALENDAR
VERSION:2.0
PRODID:-//Defence &amp; Fightclub Heracles Valkeakoski - ECPv6.5.0//NONSGML v1.0//EN
CALSCALE:GREGORIAN
METHOD:PUBLISH
X-WR-CALNAME:Defence &amp; Fightclub Heracles Valkeakoski
X-ORIGINAL-URL:https://heracles-valkeakoski.fi
X-WR-CALDESC:Events for Defence &amp; Fightclub Heracles Valkeakoski
REFRESH-INTERVAL;VALUE=DURATION:PT1H
X-Robots-Tag:noindex
X-PUBLISHED-TTL:PT1H
BEGIN:VTIMEZONE
TZID:Europe/Helsinki
BEGIN:DAYLIGHT
TZOFFSETFROM:+0200
TZOFFSETTO:+0300
TZNAME:EEST
DTSTART:20300331T010000
END:DAYLIGHT
BEGIN:STANDARD
TZOFFSETFROM:+0300
TZOFFSETTO:+0200
TZNAME:EET
DTSTART:20301027T010000
END:STANDARD
END:VTIMEZONE
BEGIN:VEVENT
DTSTART;TZID=Europe/Helsinki:20300604T164500
DTEND;TZID=Europe/Helsinki:20300604T180000
DTSTAMP:20260424T012531
CREATED:20251216T122107Z
LAST-MODIFIED:20251216T122107Z
UID:10008167-1906821900-1906826400@heracles-valkeakoski.fi
SUMMARY:Potkunyrkkeily
DESCRIPTION:
URL:https://heracles-valkeakoski.fi/event/potkunyrkkeily/2030-06-04/
CATEGORIES:Potkunyrkkeily
ORGANIZER;CN="Heracles Valkeakoski":MAILTO:info@heracles-valkeakoski.fi
END:VEVENT
BEGIN:VEVENT
DTSTART;TZID=Europe/Helsinki:20300611T164500
DTEND;TZID=Europe/Helsinki:20300611T180000
DTSTAMP:20260424T012531
CREATED:20251216T122107Z
LAST-MODIFIED:20251216T122107Z
UID:10008168-1907426700-1907431200@heracles-valkeakoski.fi
SUMMARY:Potkunyrkkeily
DESCRIPTION:
URL:https://heracles-valkeakoski.fi/event/potkunyrkkeily/2030-06-11/
CATEGORIES:Potkunyrkkeily
ORGANIZER;CN="Heracles Valkeakoski":MAILTO:info@heracles-valkeakoski.fi
END:VEVENT
BEGIN:VEVENT
DTSTART;TZID=Europe/Helsinki:20300618T164500
DTEND;TZID=Europe/Helsinki:20300618T180000
DTSTAMP:20260424T012531
CREATED:20251216T122107Z
LAST-MODIFIED:20251216T122107Z
UID:10008169-1908031500-1908036000@heracles-valkeakoski.fi
SUMMARY:Potkunyrkkeily
DESCRIPTION:
URL:https://heracles-valkeakoski.fi/event/potkunyrkkeily/2030-06-18/
CATEGORIES:Potkunyrkkeily
ORGANIZER;CN="Heracles Valkeakoski":MAILTO:info@heracles-valkeakoski.fi
END:VEVENT
BEGIN:VEVENT
DTSTART;TZID=Europe/Helsinki:20300625T164500
DTEND;TZID=Europe/Helsinki:20300625T180000
DTSTAMP:20260424T012531
CREATED:20251216T122107Z
LAST-MODIFIED:20251216T122107Z
UID:10008170-1908636300-1908640800@heracles-valkeakoski.fi
SUMMARY:Potkunyrkkeily
DESCRIPTION:
URL:https://heracles-valkeakoski.fi/event/potkunyrkkeily/2030-06-25/
CATEGORIES:Potkunyrkkeily
ORGANIZER;CN="Heracles Valkeakoski":MAILTO:info@heracles-valkeakoski.fi
END:VEVENT
BEGIN:VEVENT
DTSTART;TZID=Europe/Helsinki:20300702T164500
DTEND;TZID=Europe/Helsinki:20300702T180000
DTSTAMP:20260424T012531
CREATED:20251216T122107Z
LAST-MODIFIED:20251216T122107Z
UID:10008171-1909241100-1909245600@heracles-valkeakoski.fi
SUMMARY:Potkunyrkkeily
DESCRIPTION:
URL:https://heracles-valkeakoski.fi/event/potkunyrkkeily/2030-07-02/
CATEGORIES:Potkunyrkkeily
ORGANIZER;CN="Heracles Valkeakoski":MAILTO:info@heracles-valkeakoski.fi
END:VEVENT
BEGIN:VEVENT
DTSTART;TZID=Europe/Helsinki:20300709T164500
DTEND;TZID=Europe/Helsinki:20300709T180000
DTSTAMP:20260424T012531
CREATED:20251216T122107Z
LAST-MODIFIED:20251216T122107Z
UID:10008172-1909845900-1909850400@heracles-valkeakoski.fi
SUMMARY:Potkunyrkkeily
DESCRIPTION:
URL:https://heracles-valkeakoski.fi/event/potkunyrkkeily/2030-07-09/
CATEGORIES:Potkunyrkkeily
ORGANIZER;CN="Heracles Valkeakoski":MAILTO:info@heracles-valkeakoski.fi
END:VEVENT
BEGIN:VEVENT
DTSTART;TZID=Europe/Helsinki:20300716T164500
DTEND;TZID=Europe/Helsinki:20300716T180000
DTSTAMP:20260424T012531
CREATED:20251216T122107Z
LAST-MODIFIED:20251216T122107Z
UID:10008173-1910450700-1910455200@heracles-valkeakoski.fi
SUMMARY:Potkunyrkkeily
DESCRIPTION:
URL:https://heracles-valkeakoski.fi/event/potkunyrkkeily/2030-07-16/
CATEGORIES:Potkunyrkkeily
ORGANIZER;CN="Heracles Valkeakoski":MAILTO:info@heracles-valkeakoski.fi
END:VEVENT
BEGIN:VEVENT
DTSTART;TZID=Europe/Helsinki:20300723T164500
DTEND;TZID=Europe/Helsinki:20300723T180000
DTSTAMP:20260424T012531
CREATED:20251216T122107Z
LAST-MODIFIED:20251216T122107Z
UID:10008174-1911055500-1911060000@heracles-valkeakoski.fi
SUMMARY:Potkunyrkkeily
DESCRIPTION:
URL:https://heracles-valkeakoski.fi/event/potkunyrkkeily/2030-07-23/
CATEGORIES:Potkunyrkkeily
ORGANIZER;CN="Heracles Valkeakoski":MAILTO:info@heracles-valkeakoski.fi
END:VEVENT
BEGIN:VEVENT
DTSTART;TZID=Europe/Helsinki:20300730T164500
DTEND;TZID=Europe/Helsinki:20300730T180000
DTSTAMP:20260424T012531
CREATED:20251216T122107Z
LAST-MODIFIED:20251216T122107Z
UID:10008175-1911660300-1911664800@heracles-valkeakoski.fi
SUMMARY:Potkunyrkkeily
DESCRIPTION:
URL:https://heracles-valkeakoski.fi/event/potkunyrkkeily/2030-07-30/
CATEGORIES:Potkunyrkkeily
ORGANIZER;CN="Heracles Valkeakoski":MAILTO:info@heracles-valkeakoski.fi
END:VEVENT
BEGIN:VEVENT
DTSTART;TZID=Europe/Helsinki:20300806T164500
DTEND;TZID=Europe/Helsinki:20300806T180000
DTSTAMP:20260424T012531
CREATED:20251216T122107Z
LAST-MODIFIED:20251216T122107Z
UID:10008176-1912265100-1912269600@heracles-valkeakoski.fi
SUMMARY:Potkunyrkkeily
DESCRIPTION:
URL:https://heracles-valkeakoski.fi/event/potkunyrkkeily/2030-08-06/
CATEGORIES:Potkunyrkkeily
ORGANIZER;CN="Heracles Valkeakoski":MAILTO:info@heracles-valkeakoski.fi
END:VEVENT
BEGIN:VEVENT
DTSTART;TZID=Europe/Helsinki:20300813T164500
DTEND;TZID=Europe/Helsinki:20300813T180000
DTSTAMP:20260424T012531
CREATED:20251216T122107Z
LAST-MODIFIED:20251216T122107Z
UID:10008177-1912869900-1912874400@heracles-valkeakoski.fi
SUMMARY:Potkunyrkkeily
DESCRIPTION:
URL:https://heracles-valkeakoski.fi/event/potkunyrkkeily/2030-08-13/
CATEGORIES:Potkunyrkkeily
ORGANIZER;CN="Heracles Valkeakoski":MAILTO:info@heracles-valkeakoski.fi
END:VEVENT
BEGIN:VEVENT
DTSTART;TZID=Europe/Helsinki:20300820T164500
DTEND;TZID=Europe/Helsinki:20300820T180000
DTSTAMP:20260424T012531
CREATED:20251216T122107Z
LAST-MODIFIED:20251216T122107Z
UID:10008178-1913474700-1913479200@heracles-valkeakoski.fi
SUMMARY:Potkunyrkkeily
DESCRIPTION:
URL:https://heracles-valkeakoski.fi/event/potkunyrkkeily/2030-08-20/
CATEGORIES:Potkunyrkkeily
ORGANIZER;CN="Heracles Valkeakoski":MAILTO:info@heracles-valkeakoski.fi
END:VEVENT
BEGIN:VEVENT
DTSTART;TZID=Europe/Helsinki:20300827T164500
DTEND;TZID=Europe/Helsinki:20300827T180000
DTSTAMP:20260424T012531
CREATED:20251216T122107Z
LAST-MODIFIED:20251216T122107Z
UID:10008179-1914079500-1914084000@heracles-valkeakoski.fi
SUMMARY:Potkunyrkkeily
DESCRIPTION:
URL:https://heracles-valkeakoski.fi/event/potkunyrkkeily/2030-08-27/
CATEGORIES:Potkunyrkkeily
ORGANIZER;CN="Heracles Valkeakoski":MAILTO:info@heracles-valkeakoski.fi
END:VEVENT
BEGIN:VEVENT
DTSTART;TZID=Europe/Helsinki:20300903T164500
DTEND;TZID=Europe/Helsinki:20300903T180000
DTSTAMP:20260424T012531
CREATED:20251216T122107Z
LAST-MODIFIED:20251216T122107Z
UID:10008180-1914684300-1914688800@heracles-valkeakoski.fi
SUMMARY:Potkunyrkkeily
DESCRIPTION:
URL:https://heracles-valkeakoski.fi/event/potkunyrkkeily/2030-09-03/
CATEGORIES:Potkunyrkkeily
ORGANIZER;CN="Heracles Valkeakoski":MAILTO:info@heracles-valkeakoski.fi
END:VEVENT
BEGIN:VEVENT
DTSTART;TZID=Europe/Helsinki:20300910T164500
DTEND;TZID=Europe/Helsinki:20300910T180000
DTSTAMP:20260424T012531
CREATED:20251216T122107Z
LAST-MODIFIED:20251216T122107Z
UID:10008181-1915289100-1915293600@heracles-valkeakoski.fi
SUMMARY:Potkunyrkkeily
DESCRIPTION:
URL:https://heracles-valkeakoski.fi/event/potkunyrkkeily/2030-09-10/
CATEGORIES:Potkunyrkkeily
ORGANIZER;CN="Heracles Valkeakoski":MAILTO:info@heracles-valkeakoski.fi
END:VEVENT
BEGIN:VEVENT
DTSTART;TZID=Europe/Helsinki:20300917T164500
DTEND;TZID=Europe/Helsinki:20300917T180000
DTSTAMP:20260424T012531
CREATED:20251216T122107Z
LAST-MODIFIED:20251216T122107Z
UID:10008182-1915893900-1915898400@heracles-valkeakoski.fi
SUMMARY:Potkunyrkkeily
DESCRIPTION:
URL:https://heracles-valkeakoski.fi/event/potkunyrkkeily/2030-09-17/
CATEGORIES:Potkunyrkkeily
ORGANIZER;CN="Heracles Valkeakoski":MAILTO:info@heracles-valkeakoski.fi
END:VEVENT
BEGIN:VEVENT
DTSTART;TZID=Europe/Helsinki:20300924T164500
DTEND;TZID=Europe/Helsinki:20300924T180000
DTSTAMP:20260424T012531
CREATED:20251216T122107Z
LAST-MODIFIED:20251216T122107Z
UID:10008183-1916498700-1916503200@heracles-valkeakoski.fi
SUMMARY:Potkunyrkkeily
DESCRIPTION:
URL:https://heracles-valkeakoski.fi/event/potkunyrkkeily/2030-09-24/
CATEGORIES:Potkunyrkkeily
ORGANIZER;CN="Heracles Valkeakoski":MAILTO:info@heracles-valkeakoski.fi
END:VEVENT
BEGIN:VEVENT
DTSTART;TZID=Europe/Helsinki:20301001T164500
DTEND;TZID=Europe/Helsinki:20301001T180000
DTSTAMP:20260424T012531
CREATED:20251216T122107Z
LAST-MODIFIED:20251216T122107Z
UID:10008184-1917103500-1917108000@heracles-valkeakoski.fi
SUMMARY:Potkunyrkkeily
DESCRIPTION:
URL:https://heracles-valkeakoski.fi/event/potkunyrkkeily/2030-10-01/
CATEGORIES:Potkunyrkkeily
ORGANIZER;CN="Heracles Valkeakoski":MAILTO:info@heracles-valkeakoski.fi
END:VEVENT
BEGIN:VEVENT
DTSTART;TZID=Europe/Helsinki:20301008T164500
DTEND;TZID=Europe/Helsinki:20301008T180000
DTSTAMP:20260424T012531
CREATED:20251216T122107Z
LAST-MODIFIED:20251216T122107Z
UID:10008185-1917708300-1917712800@heracles-valkeakoski.fi
SUMMARY:Potkunyrkkeily
DESCRIPTION:
URL:https://heracles-valkeakoski.fi/event/potkunyrkkeily/2030-10-08/
CATEGORIES:Potkunyrkkeily
ORGANIZER;CN="Heracles Valkeakoski":MAILTO:info@heracles-valkeakoski.fi
END:VEVENT
BEGIN:VEVENT
DTSTART;TZID=Europe/Helsinki:20301015T164500
DTEND;TZID=Europe/Helsinki:20301015T180000
DTSTAMP:20260424T012531
CREATED:20251216T122107Z
LAST-MODIFIED:20251216T122107Z
UID:10008186-1918313100-1918317600@heracles-valkeakoski.fi
SUMMARY:Potkunyrkkeily
DESCRIPTION:
URL:https://heracles-valkeakoski.fi/event/potkunyrkkeily/2030-10-15/
CATEGORIES:Potkunyrkkeily
ORGANIZER;CN="Heracles Valkeakoski":MAILTO:info@heracles-valkeakoski.fi
END:VEVENT
BEGIN:VEVENT
DTSTART;TZID=Europe/Helsinki:20301022T164500
DTEND;TZID=Europe/Helsinki:20301022T180000
DTSTAMP:20260424T012531
CREATED:20251216T122107Z
LAST-MODIFIED:20251216T122107Z
UID:10008187-1918917900-1918922400@heracles-valkeakoski.fi
SUMMARY:Potkunyrkkeily
DESCRIPTION:
URL:https://heracles-valkeakoski.fi/event/potkunyrkkeily/2030-10-22/
CATEGORIES:Potkunyrkkeily
ORGANIZER;CN="Heracles Valkeakoski":MAILTO:info@heracles-valkeakoski.fi
END:VEVENT
BEGIN:VEVENT
DTSTART;TZID=Europe/Helsinki:20301029T164500
DTEND;TZID=Europe/Helsinki:20301029T180000
DTSTAMP:20260424T012531
CREATED:20251216T122107Z
LAST-MODIFIED:20251216T122107Z
UID:10008188-1919522700-1919527200@heracles-valkeakoski.fi
SUMMARY:Potkunyrkkeily
DESCRIPTION:
URL:https://heracles-valkeakoski.fi/event/potkunyrkkeily/2030-10-29/
CATEGORIES:Potkunyrkkeily
ORGANIZER;CN="Heracles Valkeakoski":MAILTO:info@heracles-valkeakoski.fi
END:VEVENT
BEGIN:VEVENT
DTSTART;TZID=Europe/Helsinki:20301105T164500
DTEND;TZID=Europe/Helsinki:20301105T180000
DTSTAMP:20260424T012531
CREATED:20251216T122107Z
LAST-MODIFIED:20251216T122107Z
UID:10008189-1920127500-1920132000@heracles-valkeakoski.fi
SUMMARY:Potkunyrkkeily
DESCRIPTION:
URL:https://heracles-valkeakoski.fi/event/potkunyrkkeily/2030-11-05/
CATEGORIES:Potkunyrkkeily
ORGANIZER;CN="Heracles Valkeakoski":MAILTO:info@heracles-valkeakoski.fi
END:VEVENT
BEGIN:VEVENT
DTSTART;TZID=Europe/Helsinki:20301112T164500
DTEND;TZID=Europe/Helsinki:20301112T180000
DTSTAMP:20260424T012531
CREATED:20251216T122107Z
LAST-MODIFIED:20251216T122107Z
UID:10008190-1920732300-1920736800@heracles-valkeakoski.fi
SUMMARY:Potkunyrkkeily
DESCRIPTION:
URL:https://heracles-valkeakoski.fi/event/potkunyrkkeily/2030-11-12/
CATEGORIES:Potkunyrkkeily
ORGANIZER;CN="Heracles Valkeakoski":MAILTO:info@heracles-valkeakoski.fi
END:VEVENT
BEGIN:VEVENT
DTSTART;TZID=Europe/Helsinki:20301119T164500
DTEND;TZID=Europe/Helsinki:20301119T180000
DTSTAMP:20260424T012531
CREATED:20251216T122107Z
LAST-MODIFIED:20251216T122107Z
UID:10008191-1921337100-1921341600@heracles-valkeakoski.fi
SUMMARY:Potkunyrkkeily
DESCRIPTION:
URL:https://heracles-valkeakoski.fi/event/potkunyrkkeily/2030-11-19/
CATEGORIES:Potkunyrkkeily
ORGANIZER;CN="Heracles Valkeakoski":MAILTO:info@heracles-valkeakoski.fi
END:VEVENT
BEGIN:VEVENT
DTSTART;TZID=Europe/Helsinki:20301126T164500
DTEND;TZID=Europe/Helsinki:20301126T180000
DTSTAMP:20260424T012531
CREATED:20251216T122107Z
LAST-MODIFIED:20251216T122107Z
UID:10008192-1921941900-1921946400@heracles-valkeakoski.fi
SUMMARY:Potkunyrkkeily
DESCRIPTION:
URL:https://heracles-valkeakoski.fi/event/potkunyrkkeily/2030-11-26/
CATEGORIES:Potkunyrkkeily
ORGANIZER;CN="Heracles Valkeakoski":MAILTO:info@heracles-valkeakoski.fi
END:VEVENT
BEGIN:VEVENT
DTSTART;TZID=Europe/Helsinki:20301203T164500
DTEND;TZID=Europe/Helsinki:20301203T180000
DTSTAMP:20260424T012531
CREATED:20251216T122107Z
LAST-MODIFIED:20251216T122107Z
UID:10008193-1922546700-1922551200@heracles-valkeakoski.fi
SUMMARY:Potkunyrkkeily
DESCRIPTION:
URL:https://heracles-valkeakoski.fi/event/potkunyrkkeily/2030-12-03/
CATEGORIES:Potkunyrkkeily
ORGANIZER;CN="Heracles Valkeakoski":MAILTO:info@heracles-valkeakoski.fi
END:VEVENT
BEGIN:VEVENT
DTSTART;TZID=Europe/Helsinki:20301210T164500
DTEND;TZID=Europe/Helsinki:20301210T180000
DTSTAMP:20260424T012531
CREATED:20251216T122107Z
LAST-MODIFIED:20251216T122107Z
UID:10008194-1923151500-1923156000@heracles-valkeakoski.fi
SUMMARY:Potkunyrkkeily
DESCRIPTION:
URL:https://heracles-valkeakoski.fi/event/potkunyrkkeily/2030-12-10/
CATEGORIES:Potkunyrkkeily
ORGANIZER;CN="Heracles Valkeakoski":MAILTO:info@heracles-valkeakoski.fi
END:VEVENT
END:VCALENDAR