BEGIN:VCALENDAR
VERSION:2.0
PRODID:-//Defence &amp; Fightclub Heracles Valkeakoski - ECPv6.5.0//NONSGML v1.0//EN
CALSCALE:GREGORIAN
METHOD:PUBLISH
X-ORIGINAL-URL:https://heracles-valkeakoski.fi
X-WR-CALDESC:Events for Defence &amp; Fightclub Heracles Valkeakoski
REFRESH-INTERVAL;VALUE=DURATION:PT1H
X-Robots-Tag:noindex
X-PUBLISHED-TTL:PT1H
BEGIN:VTIMEZONE
TZID:Europe/Helsinki
BEGIN:DAYLIGHT
TZOFFSETFROM:+0200
TZOFFSETTO:+0300
TZNAME:EEST
DTSTART:20270328T010000
END:DAYLIGHT
BEGIN:STANDARD
TZOFFSETFROM:+0300
TZOFFSETTO:+0200
TZNAME:EET
DTSTART:20271031T010000
END:STANDARD
END:VTIMEZONE
BEGIN:VEVENT
DTSTART;TZID=Europe/Helsinki:20270819T173000
DTEND;TZID=Europe/Helsinki:20270819T183000
DTSTAMP:20260426T000517
CREATED:20240202T222752Z
LAST-MODIFIED:20240202T222752Z
UID:10002284-1818696600-1818700200@heracles-valkeakoski.fi
SUMMARY:Cross training
DESCRIPTION:
URL:https://heracles-valkeakoski.fi/event/cross-training-3/2027-08-19/
LOCATION:Heracles Valkeakoski\, Lempääläntie 18 B\, Valkeakoski\, 37600\, Finland
CATEGORIES:Cross training
END:VEVENT
BEGIN:VEVENT
DTSTART;TZID=Europe/Helsinki:20270819T183000
DTEND;TZID=Europe/Helsinki:20270819T193000
DTSTAMP:20260426T000517
CREATED:20250120T205215Z
LAST-MODIFIED:20250120T205741Z
UID:10004958-1818700200-1818703800@heracles-valkeakoski.fi
SUMMARY:CT peruskurssi
DESCRIPTION:
URL:https://heracles-valkeakoski.fi/event/cross-training-peruskurssi/2027-08-19/
LOCATION:Heracles Valkeakoski\, Lempääläntie 18 B\, Valkeakoski\, 37600\, Finland
CATEGORIES:Cross training
END:VEVENT
BEGIN:VEVENT
DTSTART;TZID=Europe/Helsinki:20270819T183000
DTEND;TZID=Europe/Helsinki:20270819T194500
DTSTAMP:20260426T000517
CREATED:20240123T222056Z
LAST-MODIFIED:20250911T091241Z
UID:10000188-1818700200-1818704700@heracles-valkeakoski.fi
SUMMARY:Defendo
DESCRIPTION:
URL:https://heracles-valkeakoski.fi/event/defendo-harjoitus/2027-08-19/
LOCATION:Heracles Valkeakoski\, Lempääläntie 18 B\, Valkeakoski\, 37600\, Finland
CATEGORIES:Defendo
END:VEVENT
BEGIN:VEVENT
DTSTART;TZID=Europe/Helsinki:20270820T161500
DTEND;TZID=Europe/Helsinki:20270820T173000
DTSTAMP:20260426T000517
CREATED:20240202T223231Z
LAST-MODIFIED:20251216T121554Z
UID:10003599-1818778500-1818783000@heracles-valkeakoski.fi
SUMMARY:Lukkopaini
DESCRIPTION:
URL:https://heracles-valkeakoski.fi/event/bjj-3/2027-08-20/
LOCATION:Heracles Valkeakoski\, Lempääläntie 18 B\, Valkeakoski\, 37600\, Finland
CATEGORIES:BJJ
END:VEVENT
BEGIN:VEVENT
DTSTART;TZID=Europe/Helsinki:20270820T173000
DTEND;TZID=Europe/Helsinki:20270820T184500
DTSTAMP:20260426T000517
CREATED:20240202T223634Z
LAST-MODIFIED:20240202T223634Z
UID:10003862-1818783000-1818787500@heracles-valkeakoski.fi
SUMMARY:Lasten BJJ
DESCRIPTION:
URL:https://heracles-valkeakoski.fi/event/lasten-bjj/2027-08-20/
LOCATION:Heracles Valkeakoski\, Lempääläntie 18 B\, Valkeakoski\, 37600\, Finland
CATEGORIES:BJJ
END:VEVENT
BEGIN:VEVENT
DTSTART;TZID=Europe/Helsinki:20270821T101500
DTEND;TZID=Europe/Helsinki:20270821T111500
DTSTAMP:20260426T000517
CREATED:20240202T222859Z
LAST-MODIFIED:20240202T222859Z
UID:10002547-1818843300-1818846900@heracles-valkeakoski.fi
SUMMARY:Cross training
DESCRIPTION:
URL:https://heracles-valkeakoski.fi/event/cross-training-4/2027-08-21/
LOCATION:Heracles Valkeakoski\, Lempääläntie 18 B\, Valkeakoski\, 37600\, Finland
CATEGORIES:Cross training
END:VEVENT
BEGIN:VEVENT
DTSTART;TZID=Europe/Helsinki:20270823T170000
DTEND;TZID=Europe/Helsinki:20270823T180000
DTSTAMP:20260426T000517
CREATED:20240123T223503Z
LAST-MODIFIED:20240123T223531Z
UID:10000973-1819040400-1819044000@heracles-valkeakoski.fi
SUMMARY:Cross training
DESCRIPTION:
URL:https://heracles-valkeakoski.fi/event/cross-training/2027-08-23/
LOCATION:Heracles Valkeakoski\, Lempääläntie 18 B\, Valkeakoski\, 37600\, Finland
CATEGORIES:Cross training
END:VEVENT
BEGIN:VEVENT
DTSTART;TZID=Europe/Helsinki:20270823T173000
DTEND;TZID=Europe/Helsinki:20270823T184500
DTSTAMP:20260426T000517
CREATED:20250120T211442Z
LAST-MODIFIED:20250316T192044Z
UID:10005481-1819042200-1819046700@heracles-valkeakoski.fi
SUMMARY:Potkunyrkkeily
DESCRIPTION:
URL:https://heracles-valkeakoski.fi/event/potkunyrkkeily-3/2027-08-23/
CATEGORIES:Potkunyrkkeily
END:VEVENT
BEGIN:VEVENT
DTSTART;TZID=Europe/Helsinki:20270823T184500
DTEND;TZID=Europe/Helsinki:20270823T200000
DTSTAMP:20260426T000517
CREATED:20250127T221918Z
LAST-MODIFIED:20251216T121441Z
UID:10007080-1819046700-1819051200@heracles-valkeakoski.fi
SUMMARY:Lukkopaini
DESCRIPTION:
URL:https://heracles-valkeakoski.fi/event/bjj-4/2027-08-23/
LOCATION:Heracles Valkeakoski\, Lempääläntie 18 B\, Valkeakoski\, 37600\, Finland
CATEGORIES:BJJ
ORGANIZER;CN="Heracles Valkeakoski":MAILTO:info@heracles-valkeakoski.fi
END:VEVENT
BEGIN:VEVENT
DTSTART;TZID=Europe/Helsinki:20270823T190000
DTEND;TZID=Europe/Helsinki:20270823T200000
DTSTAMP:20260426T000517
CREATED:20250127T221654Z
LAST-MODIFIED:20250127T221654Z
UID:10006401-1819047600-1819051200@heracles-valkeakoski.fi
SUMMARY:Kali
DESCRIPTION:
URL:https://heracles-valkeakoski.fi/event/kali/2027-08-23/
LOCATION:Heracles Valkeakoski\, Lempääläntie 18 B\, Valkeakoski\, 37600\, Finland
CATEGORIES:Kali
ORGANIZER;CN="Heracles Valkeakoski":MAILTO:info@heracles-valkeakoski.fi
END:VEVENT
BEGIN:VEVENT
DTSTART;TZID=Europe/Helsinki:20270824T164500
DTEND;TZID=Europe/Helsinki:20270824T180000
DTSTAMP:20260426T000517
CREATED:20251216T122107Z
LAST-MODIFIED:20251216T122107Z
UID:10008022-1819125900-1819130400@heracles-valkeakoski.fi
SUMMARY:Potkunyrkkeily
DESCRIPTION:
URL:https://heracles-valkeakoski.fi/event/potkunyrkkeily/2027-08-24/
CATEGORIES:Potkunyrkkeily
ORGANIZER;CN="Heracles Valkeakoski":MAILTO:info@heracles-valkeakoski.fi
END:VEVENT
BEGIN:VEVENT
DTSTART;TZID=Europe/Helsinki:20270824T180000
DTEND;TZID=Europe/Helsinki:20270824T190000
DTSTAMP:20260426T000517
CREATED:20240123T222847Z
LAST-MODIFIED:20240123T222849Z
UID:10000710-1819130400-1819134000@heracles-valkeakoski.fi
SUMMARY:Defendo
DESCRIPTION:
URL:https://heracles-valkeakoski.fi/event/defendo-2/2027-08-24/
LOCATION:Heracles Valkeakoski\, Lempääläntie 18 B\, Valkeakoski\, 37600\, Finland
CATEGORIES:Defendo
END:VEVENT
BEGIN:VEVENT
DTSTART;TZID=Europe/Helsinki:20270824T183000
DTEND;TZID=Europe/Helsinki:20270824T193000
DTSTAMP:20260426T000517
CREATED:20260115T132717Z
LAST-MODIFIED:20260115T132720Z
UID:10008277-1819132200-1819135800@heracles-valkeakoski.fi
SUMMARY:CT peruskurssi
DESCRIPTION:
URL:https://heracles-valkeakoski.fi/event/ct-peruskurssi-2-3-2/2027-08-24/
LOCATION:Heracles Valkeakoski\, Lempääläntie 18 B\, Valkeakoski\, 37600\, Finland
CATEGORIES:Cross training
END:VEVENT
BEGIN:VEVENT
DTSTART;TZID=Europe/Helsinki:20270824T190000
DTEND;TZID=Europe/Helsinki:20270824T203000
DTSTAMP:20260426T000517
CREATED:20240202T223030Z
LAST-MODIFIED:20251216T121628Z
UID:10004411-1819134000-1819139400@heracles-valkeakoski.fi
SUMMARY:BJJ
DESCRIPTION:
URL:https://heracles-valkeakoski.fi/event/bjj/2027-08-24/
LOCATION:Heracles Valkeakoski\, Lempääläntie 18 B\, Valkeakoski\, 37600\, Finland
CATEGORIES:BJJ
END:VEVENT
BEGIN:VEVENT
DTSTART;TZID=Europe/Helsinki:20270825T173000
DTEND;TZID=Europe/Helsinki:20270825T183000
DTSTAMP:20260426T000517
CREATED:20240202T222430Z
LAST-MODIFIED:20250120T204615Z
UID:10004698-1819215000-1819218600@heracles-valkeakoski.fi
SUMMARY:Cross training
DESCRIPTION:
URL:https://heracles-valkeakoski.fi/event/cross-training-2/2027-08-25/
LOCATION:Heracles Valkeakoski\, Lempääläntie 18 B\, Valkeakoski\, 37600\, Finland
CATEGORIES:Cross training
END:VEVENT
BEGIN:VEVENT
DTSTART;TZID=Europe/Helsinki:20270825T173000
DTEND;TZID=Europe/Helsinki:20270825T183000
DTSTAMP:20260426T000517
CREATED:20250120T211547Z
LAST-MODIFIED:20250120T211848Z
UID:10005741-1819215000-1819218600@heracles-valkeakoski.fi
SUMMARY:Potkunyrkkeily
DESCRIPTION:
URL:https://heracles-valkeakoski.fi/event/potkunyrkkeily-4/2027-08-25/
CATEGORIES:Potkunyrkkeily
END:VEVENT
BEGIN:VEVENT
DTSTART;TZID=Europe/Helsinki:20270825T190000
DTEND;TZID=Europe/Helsinki:20270825T200000
DTSTAMP:20260426T000517
CREATED:20250127T221654Z
LAST-MODIFIED:20250127T221654Z
UID:10006402-1819220400-1819224000@heracles-valkeakoski.fi
SUMMARY:Kali
DESCRIPTION:
URL:https://heracles-valkeakoski.fi/event/kali/2027-08-25/
LOCATION:Heracles Valkeakoski\, Lempääläntie 18 B\, Valkeakoski\, 37600\, Finland
CATEGORIES:Kali
ORGANIZER;CN="Heracles Valkeakoski":MAILTO:info@heracles-valkeakoski.fi
END:VEVENT
BEGIN:VEVENT
DTSTART;TZID=Europe/Helsinki:20270826T170000
DTEND;TZID=Europe/Helsinki:20270826T183000
DTSTAMP:20260426T000517
CREATED:20240202T223136Z
LAST-MODIFIED:20251216T121614Z
UID:10003074-1819299600-1819305000@heracles-valkeakoski.fi
SUMMARY:BJJ
DESCRIPTION:
URL:https://heracles-valkeakoski.fi/event/bjj-2/2027-08-26/
LOCATION:Heracles Valkeakoski\, Lempääläntie 18 B\, Valkeakoski\, 37600\, Finland
CATEGORIES:BJJ
END:VEVENT
BEGIN:VEVENT
DTSTART;TZID=Europe/Helsinki:20270826T173000
DTEND;TZID=Europe/Helsinki:20270826T183000
DTSTAMP:20260426T000517
CREATED:20240202T222752Z
LAST-MODIFIED:20240202T222752Z
UID:10002285-1819301400-1819305000@heracles-valkeakoski.fi
SUMMARY:Cross training
DESCRIPTION:
URL:https://heracles-valkeakoski.fi/event/cross-training-3/2027-08-26/
LOCATION:Heracles Valkeakoski\, Lempääläntie 18 B\, Valkeakoski\, 37600\, Finland
CATEGORIES:Cross training
END:VEVENT
BEGIN:VEVENT
DTSTART;TZID=Europe/Helsinki:20270826T183000
DTEND;TZID=Europe/Helsinki:20270826T193000
DTSTAMP:20260426T000517
CREATED:20250120T205215Z
LAST-MODIFIED:20250120T205741Z
UID:10004959-1819305000-1819308600@heracles-valkeakoski.fi
SUMMARY:CT peruskurssi
DESCRIPTION:
URL:https://heracles-valkeakoski.fi/event/cross-training-peruskurssi/2027-08-26/
LOCATION:Heracles Valkeakoski\, Lempääläntie 18 B\, Valkeakoski\, 37600\, Finland
CATEGORIES:Cross training
END:VEVENT
BEGIN:VEVENT
DTSTART;TZID=Europe/Helsinki:20270826T183000
DTEND;TZID=Europe/Helsinki:20270826T194500
DTSTAMP:20260426T000517
CREATED:20240123T222056Z
LAST-MODIFIED:20250911T091241Z
UID:10000189-1819305000-1819309500@heracles-valkeakoski.fi
SUMMARY:Defendo
DESCRIPTION:
URL:https://heracles-valkeakoski.fi/event/defendo-harjoitus/2027-08-26/
LOCATION:Heracles Valkeakoski\, Lempääläntie 18 B\, Valkeakoski\, 37600\, Finland
CATEGORIES:Defendo
END:VEVENT
BEGIN:VEVENT
DTSTART;TZID=Europe/Helsinki:20270827T161500
DTEND;TZID=Europe/Helsinki:20270827T173000
DTSTAMP:20260426T000517
CREATED:20240202T223231Z
LAST-MODIFIED:20251216T121554Z
UID:10003600-1819383300-1819387800@heracles-valkeakoski.fi
SUMMARY:Lukkopaini
DESCRIPTION:
URL:https://heracles-valkeakoski.fi/event/bjj-3/2027-08-27/
LOCATION:Heracles Valkeakoski\, Lempääläntie 18 B\, Valkeakoski\, 37600\, Finland
CATEGORIES:BJJ
END:VEVENT
BEGIN:VEVENT
DTSTART;TZID=Europe/Helsinki:20270827T173000
DTEND;TZID=Europe/Helsinki:20270827T184500
DTSTAMP:20260426T000517
CREATED:20240202T223634Z
LAST-MODIFIED:20240202T223634Z
UID:10003863-1819387800-1819392300@heracles-valkeakoski.fi
SUMMARY:Lasten BJJ
DESCRIPTION:
URL:https://heracles-valkeakoski.fi/event/lasten-bjj/2027-08-27/
LOCATION:Heracles Valkeakoski\, Lempääläntie 18 B\, Valkeakoski\, 37600\, Finland
CATEGORIES:BJJ
END:VEVENT
BEGIN:VEVENT
DTSTART;TZID=Europe/Helsinki:20270828T101500
DTEND;TZID=Europe/Helsinki:20270828T111500
DTSTAMP:20260426T000517
CREATED:20240202T222859Z
LAST-MODIFIED:20240202T222859Z
UID:10002548-1819448100-1819451700@heracles-valkeakoski.fi
SUMMARY:Cross training
DESCRIPTION:
URL:https://heracles-valkeakoski.fi/event/cross-training-4/2027-08-28/
LOCATION:Heracles Valkeakoski\, Lempääläntie 18 B\, Valkeakoski\, 37600\, Finland
CATEGORIES:Cross training
END:VEVENT
BEGIN:VEVENT
DTSTART;TZID=Europe/Helsinki:20270830T170000
DTEND;TZID=Europe/Helsinki:20270830T180000
DTSTAMP:20260426T000517
CREATED:20240123T223503Z
LAST-MODIFIED:20240123T223531Z
UID:10000974-1819645200-1819648800@heracles-valkeakoski.fi
SUMMARY:Cross training
DESCRIPTION:
URL:https://heracles-valkeakoski.fi/event/cross-training/2027-08-30/
LOCATION:Heracles Valkeakoski\, Lempääläntie 18 B\, Valkeakoski\, 37600\, Finland
CATEGORIES:Cross training
END:VEVENT
BEGIN:VEVENT
DTSTART;TZID=Europe/Helsinki:20270830T173000
DTEND;TZID=Europe/Helsinki:20270830T184500
DTSTAMP:20260426T000517
CREATED:20250120T211442Z
LAST-MODIFIED:20250316T192044Z
UID:10005482-1819647000-1819651500@heracles-valkeakoski.fi
SUMMARY:Potkunyrkkeily
DESCRIPTION:
URL:https://heracles-valkeakoski.fi/event/potkunyrkkeily-3/2027-08-30/
CATEGORIES:Potkunyrkkeily
END:VEVENT
BEGIN:VEVENT
DTSTART;TZID=Europe/Helsinki:20270830T184500
DTEND;TZID=Europe/Helsinki:20270830T200000
DTSTAMP:20260426T000517
CREATED:20250127T221918Z
LAST-MODIFIED:20251216T121441Z
UID:10007081-1819651500-1819656000@heracles-valkeakoski.fi
SUMMARY:Lukkopaini
DESCRIPTION:
URL:https://heracles-valkeakoski.fi/event/bjj-4/2027-08-30/
LOCATION:Heracles Valkeakoski\, Lempääläntie 18 B\, Valkeakoski\, 37600\, Finland
CATEGORIES:BJJ
ORGANIZER;CN="Heracles Valkeakoski":MAILTO:info@heracles-valkeakoski.fi
END:VEVENT
BEGIN:VEVENT
DTSTART;TZID=Europe/Helsinki:20270830T190000
DTEND;TZID=Europe/Helsinki:20270830T200000
DTSTAMP:20260426T000517
CREATED:20250127T221654Z
LAST-MODIFIED:20250127T221654Z
UID:10006403-1819652400-1819656000@heracles-valkeakoski.fi
SUMMARY:Kali
DESCRIPTION:
URL:https://heracles-valkeakoski.fi/event/kali/2027-08-30/
LOCATION:Heracles Valkeakoski\, Lempääläntie 18 B\, Valkeakoski\, 37600\, Finland
CATEGORIES:Kali
ORGANIZER;CN="Heracles Valkeakoski":MAILTO:info@heracles-valkeakoski.fi
END:VEVENT
BEGIN:VEVENT
DTSTART;TZID=Europe/Helsinki:20270831T164500
DTEND;TZID=Europe/Helsinki:20270831T180000
DTSTAMP:20260426T000517
CREATED:20251216T122107Z
LAST-MODIFIED:20251216T122107Z
UID:10008023-1819730700-1819735200@heracles-valkeakoski.fi
SUMMARY:Potkunyrkkeily
DESCRIPTION:
URL:https://heracles-valkeakoski.fi/event/potkunyrkkeily/2027-08-31/
CATEGORIES:Potkunyrkkeily
ORGANIZER;CN="Heracles Valkeakoski":MAILTO:info@heracles-valkeakoski.fi
END:VEVENT
BEGIN:VEVENT
DTSTART;TZID=Europe/Helsinki:20270831T180000
DTEND;TZID=Europe/Helsinki:20270831T190000
DTSTAMP:20260426T000517
CREATED:20240123T222847Z
LAST-MODIFIED:20240123T222849Z
UID:10000711-1819735200-1819738800@heracles-valkeakoski.fi
SUMMARY:Defendo
DESCRIPTION:
URL:https://heracles-valkeakoski.fi/event/defendo-2/2027-08-31/
LOCATION:Heracles Valkeakoski\, Lempääläntie 18 B\, Valkeakoski\, 37600\, Finland
CATEGORIES:Defendo
END:VEVENT
END:VCALENDAR