BEGIN:VCALENDAR
VERSION:2.0
PRODID:-//Defence &amp; Fightclub Heracles Valkeakoski - ECPv6.5.0//NONSGML v1.0//EN
CALSCALE:GREGORIAN
METHOD:PUBLISH
X-WR-CALNAME:Defence &amp; Fightclub Heracles Valkeakoski
X-ORIGINAL-URL:https://heracles-valkeakoski.fi
X-WR-CALDESC:Events for Defence &amp; Fightclub Heracles Valkeakoski
REFRESH-INTERVAL;VALUE=DURATION:PT1H
X-Robots-Tag:noindex
X-PUBLISHED-TTL:PT1H
BEGIN:VTIMEZONE
TZID:Europe/Helsinki
BEGIN:DAYLIGHT
TZOFFSETFROM:+0200
TZOFFSETTO:+0300
TZNAME:EEST
DTSTART:20270328T010000
END:DAYLIGHT
BEGIN:STANDARD
TZOFFSETFROM:+0300
TZOFFSETTO:+0200
TZNAME:EET
DTSTART:20271031T010000
END:STANDARD
END:VTIMEZONE
BEGIN:VEVENT
DTSTART;TZID=Europe/Helsinki:20270830T170000
DTEND;TZID=Europe/Helsinki:20270830T180000
DTSTAMP:20260426T055215
CREATED:20240123T223503Z
LAST-MODIFIED:20240123T223531Z
UID:10000974-1819645200-1819648800@heracles-valkeakoski.fi
SUMMARY:Cross training
DESCRIPTION:
URL:https://heracles-valkeakoski.fi/event/cross-training/2027-08-30/
LOCATION:Heracles Valkeakoski\, Lempääläntie 18 B\, Valkeakoski\, 37600\, Finland
CATEGORIES:Cross training
END:VEVENT
BEGIN:VEVENT
DTSTART;TZID=Europe/Helsinki:20270830T173000
DTEND;TZID=Europe/Helsinki:20270830T184500
DTSTAMP:20260426T055215
CREATED:20250120T211442Z
LAST-MODIFIED:20250316T192044Z
UID:10005482-1819647000-1819651500@heracles-valkeakoski.fi
SUMMARY:Potkunyrkkeily
DESCRIPTION:
URL:https://heracles-valkeakoski.fi/event/potkunyrkkeily-3/2027-08-30/
CATEGORIES:Potkunyrkkeily
END:VEVENT
BEGIN:VEVENT
DTSTART;TZID=Europe/Helsinki:20270830T184500
DTEND;TZID=Europe/Helsinki:20270830T200000
DTSTAMP:20260426T055215
CREATED:20250127T221918Z
LAST-MODIFIED:20251216T121441Z
UID:10007081-1819651500-1819656000@heracles-valkeakoski.fi
SUMMARY:Lukkopaini
DESCRIPTION:
URL:https://heracles-valkeakoski.fi/event/bjj-4/2027-08-30/
LOCATION:Heracles Valkeakoski\, Lempääläntie 18 B\, Valkeakoski\, 37600\, Finland
CATEGORIES:BJJ
ORGANIZER;CN="Heracles Valkeakoski":MAILTO:info@heracles-valkeakoski.fi
END:VEVENT
BEGIN:VEVENT
DTSTART;TZID=Europe/Helsinki:20270830T190000
DTEND;TZID=Europe/Helsinki:20270830T200000
DTSTAMP:20260426T055215
CREATED:20250127T221654Z
LAST-MODIFIED:20250127T221654Z
UID:10006403-1819652400-1819656000@heracles-valkeakoski.fi
SUMMARY:Kali
DESCRIPTION:
URL:https://heracles-valkeakoski.fi/event/kali/2027-08-30/
LOCATION:Heracles Valkeakoski\, Lempääläntie 18 B\, Valkeakoski\, 37600\, Finland
CATEGORIES:Kali
ORGANIZER;CN="Heracles Valkeakoski":MAILTO:info@heracles-valkeakoski.fi
END:VEVENT
BEGIN:VEVENT
DTSTART;TZID=Europe/Helsinki:20270831T164500
DTEND;TZID=Europe/Helsinki:20270831T180000
DTSTAMP:20260426T055215
CREATED:20251216T122107Z
LAST-MODIFIED:20251216T122107Z
UID:10008023-1819730700-1819735200@heracles-valkeakoski.fi
SUMMARY:Potkunyrkkeily
DESCRIPTION:
URL:https://heracles-valkeakoski.fi/event/potkunyrkkeily/2027-08-31/
CATEGORIES:Potkunyrkkeily
ORGANIZER;CN="Heracles Valkeakoski":MAILTO:info@heracles-valkeakoski.fi
END:VEVENT
BEGIN:VEVENT
DTSTART;TZID=Europe/Helsinki:20270831T180000
DTEND;TZID=Europe/Helsinki:20270831T190000
DTSTAMP:20260426T055215
CREATED:20240123T222847Z
LAST-MODIFIED:20240123T222849Z
UID:10000711-1819735200-1819738800@heracles-valkeakoski.fi
SUMMARY:Defendo
DESCRIPTION:
URL:https://heracles-valkeakoski.fi/event/defendo-2/2027-08-31/
LOCATION:Heracles Valkeakoski\, Lempääläntie 18 B\, Valkeakoski\, 37600\, Finland
CATEGORIES:Defendo
END:VEVENT
BEGIN:VEVENT
DTSTART;TZID=Europe/Helsinki:20270831T183000
DTEND;TZID=Europe/Helsinki:20270831T193000
DTSTAMP:20260426T055215
CREATED:20260115T132717Z
LAST-MODIFIED:20260115T132720Z
UID:10008278-1819737000-1819740600@heracles-valkeakoski.fi
SUMMARY:CT peruskurssi
DESCRIPTION:
URL:https://heracles-valkeakoski.fi/event/ct-peruskurssi-2-3-2/2027-08-31/
LOCATION:Heracles Valkeakoski\, Lempääläntie 18 B\, Valkeakoski\, 37600\, Finland
CATEGORIES:Cross training
END:VEVENT
BEGIN:VEVENT
DTSTART;TZID=Europe/Helsinki:20270831T190000
DTEND;TZID=Europe/Helsinki:20270831T203000
DTSTAMP:20260426T055215
CREATED:20240202T223030Z
LAST-MODIFIED:20251216T121628Z
UID:10004412-1819738800-1819744200@heracles-valkeakoski.fi
SUMMARY:BJJ
DESCRIPTION:
URL:https://heracles-valkeakoski.fi/event/bjj/2027-08-31/
LOCATION:Heracles Valkeakoski\, Lempääläntie 18 B\, Valkeakoski\, 37600\, Finland
CATEGORIES:BJJ
END:VEVENT
BEGIN:VEVENT
DTSTART;TZID=Europe/Helsinki:20270901T173000
DTEND;TZID=Europe/Helsinki:20270901T183000
DTSTAMP:20260426T055215
CREATED:20240202T222430Z
LAST-MODIFIED:20250120T204615Z
UID:10004699-1819819800-1819823400@heracles-valkeakoski.fi
SUMMARY:Cross training
DESCRIPTION:
URL:https://heracles-valkeakoski.fi/event/cross-training-2/2027-09-01/
LOCATION:Heracles Valkeakoski\, Lempääläntie 18 B\, Valkeakoski\, 37600\, Finland
CATEGORIES:Cross training
END:VEVENT
BEGIN:VEVENT
DTSTART;TZID=Europe/Helsinki:20270901T173000
DTEND;TZID=Europe/Helsinki:20270901T183000
DTSTAMP:20260426T055215
CREATED:20250120T211547Z
LAST-MODIFIED:20250120T211848Z
UID:10005742-1819819800-1819823400@heracles-valkeakoski.fi
SUMMARY:Potkunyrkkeily
DESCRIPTION:
URL:https://heracles-valkeakoski.fi/event/potkunyrkkeily-4/2027-09-01/
CATEGORIES:Potkunyrkkeily
END:VEVENT
BEGIN:VEVENT
DTSTART;TZID=Europe/Helsinki:20270901T190000
DTEND;TZID=Europe/Helsinki:20270901T200000
DTSTAMP:20260426T055215
CREATED:20250127T221654Z
LAST-MODIFIED:20250127T221654Z
UID:10006404-1819825200-1819828800@heracles-valkeakoski.fi
SUMMARY:Kali
DESCRIPTION:
URL:https://heracles-valkeakoski.fi/event/kali/2027-09-01/
LOCATION:Heracles Valkeakoski\, Lempääläntie 18 B\, Valkeakoski\, 37600\, Finland
CATEGORIES:Kali
ORGANIZER;CN="Heracles Valkeakoski":MAILTO:info@heracles-valkeakoski.fi
END:VEVENT
BEGIN:VEVENT
DTSTART;TZID=Europe/Helsinki:20270902T170000
DTEND;TZID=Europe/Helsinki:20270902T183000
DTSTAMP:20260426T055215
CREATED:20240202T223136Z
LAST-MODIFIED:20251216T121614Z
UID:10003075-1819904400-1819909800@heracles-valkeakoski.fi
SUMMARY:BJJ
DESCRIPTION:
URL:https://heracles-valkeakoski.fi/event/bjj-2/2027-09-02/
LOCATION:Heracles Valkeakoski\, Lempääläntie 18 B\, Valkeakoski\, 37600\, Finland
CATEGORIES:BJJ
END:VEVENT
BEGIN:VEVENT
DTSTART;TZID=Europe/Helsinki:20270902T173000
DTEND;TZID=Europe/Helsinki:20270902T183000
DTSTAMP:20260426T055215
CREATED:20240202T222752Z
LAST-MODIFIED:20240202T222752Z
UID:10002286-1819906200-1819909800@heracles-valkeakoski.fi
SUMMARY:Cross training
DESCRIPTION:
URL:https://heracles-valkeakoski.fi/event/cross-training-3/2027-09-02/
LOCATION:Heracles Valkeakoski\, Lempääläntie 18 B\, Valkeakoski\, 37600\, Finland
CATEGORIES:Cross training
END:VEVENT
BEGIN:VEVENT
DTSTART;TZID=Europe/Helsinki:20270902T183000
DTEND;TZID=Europe/Helsinki:20270902T193000
DTSTAMP:20260426T055215
CREATED:20250120T205215Z
LAST-MODIFIED:20250120T205741Z
UID:10004960-1819909800-1819913400@heracles-valkeakoski.fi
SUMMARY:CT peruskurssi
DESCRIPTION:
URL:https://heracles-valkeakoski.fi/event/cross-training-peruskurssi/2027-09-02/
LOCATION:Heracles Valkeakoski\, Lempääläntie 18 B\, Valkeakoski\, 37600\, Finland
CATEGORIES:Cross training
END:VEVENT
BEGIN:VEVENT
DTSTART;TZID=Europe/Helsinki:20270902T183000
DTEND;TZID=Europe/Helsinki:20270902T194500
DTSTAMP:20260426T055215
CREATED:20240123T222056Z
LAST-MODIFIED:20250911T091241Z
UID:10000190-1819909800-1819914300@heracles-valkeakoski.fi
SUMMARY:Defendo
DESCRIPTION:
URL:https://heracles-valkeakoski.fi/event/defendo-harjoitus/2027-09-02/
LOCATION:Heracles Valkeakoski\, Lempääläntie 18 B\, Valkeakoski\, 37600\, Finland
CATEGORIES:Defendo
END:VEVENT
BEGIN:VEVENT
DTSTART;TZID=Europe/Helsinki:20270903T161500
DTEND;TZID=Europe/Helsinki:20270903T173000
DTSTAMP:20260426T055215
CREATED:20240202T223231Z
LAST-MODIFIED:20251216T121554Z
UID:10003601-1819988100-1819992600@heracles-valkeakoski.fi
SUMMARY:Lukkopaini
DESCRIPTION:
URL:https://heracles-valkeakoski.fi/event/bjj-3/2027-09-03/
LOCATION:Heracles Valkeakoski\, Lempääläntie 18 B\, Valkeakoski\, 37600\, Finland
CATEGORIES:BJJ
END:VEVENT
BEGIN:VEVENT
DTSTART;TZID=Europe/Helsinki:20270903T173000
DTEND;TZID=Europe/Helsinki:20270903T184500
DTSTAMP:20260426T055215
CREATED:20240202T223634Z
LAST-MODIFIED:20240202T223634Z
UID:10003864-1819992600-1819997100@heracles-valkeakoski.fi
SUMMARY:Lasten BJJ
DESCRIPTION:
URL:https://heracles-valkeakoski.fi/event/lasten-bjj/2027-09-03/
LOCATION:Heracles Valkeakoski\, Lempääläntie 18 B\, Valkeakoski\, 37600\, Finland
CATEGORIES:BJJ
END:VEVENT
BEGIN:VEVENT
DTSTART;TZID=Europe/Helsinki:20270904T101500
DTEND;TZID=Europe/Helsinki:20270904T111500
DTSTAMP:20260426T055215
CREATED:20240202T222859Z
LAST-MODIFIED:20240202T222859Z
UID:10002549-1820052900-1820056500@heracles-valkeakoski.fi
SUMMARY:Cross training
DESCRIPTION:
URL:https://heracles-valkeakoski.fi/event/cross-training-4/2027-09-04/
LOCATION:Heracles Valkeakoski\, Lempääläntie 18 B\, Valkeakoski\, 37600\, Finland
CATEGORIES:Cross training
END:VEVENT
BEGIN:VEVENT
DTSTART;TZID=Europe/Helsinki:20270906T170000
DTEND;TZID=Europe/Helsinki:20270906T180000
DTSTAMP:20260426T055215
CREATED:20240123T223503Z
LAST-MODIFIED:20240123T223531Z
UID:10000975-1820250000-1820253600@heracles-valkeakoski.fi
SUMMARY:Cross training
DESCRIPTION:
URL:https://heracles-valkeakoski.fi/event/cross-training/2027-09-06/
LOCATION:Heracles Valkeakoski\, Lempääläntie 18 B\, Valkeakoski\, 37600\, Finland
CATEGORIES:Cross training
END:VEVENT
BEGIN:VEVENT
DTSTART;TZID=Europe/Helsinki:20270906T173000
DTEND;TZID=Europe/Helsinki:20270906T184500
DTSTAMP:20260426T055215
CREATED:20250120T211442Z
LAST-MODIFIED:20250316T192044Z
UID:10005483-1820251800-1820256300@heracles-valkeakoski.fi
SUMMARY:Potkunyrkkeily
DESCRIPTION:
URL:https://heracles-valkeakoski.fi/event/potkunyrkkeily-3/2027-09-06/
CATEGORIES:Potkunyrkkeily
END:VEVENT
BEGIN:VEVENT
DTSTART;TZID=Europe/Helsinki:20270906T184500
DTEND;TZID=Europe/Helsinki:20270906T200000
DTSTAMP:20260426T055215
CREATED:20250127T221918Z
LAST-MODIFIED:20251216T121441Z
UID:10007082-1820256300-1820260800@heracles-valkeakoski.fi
SUMMARY:Lukkopaini
DESCRIPTION:
URL:https://heracles-valkeakoski.fi/event/bjj-4/2027-09-06/
LOCATION:Heracles Valkeakoski\, Lempääläntie 18 B\, Valkeakoski\, 37600\, Finland
CATEGORIES:BJJ
ORGANIZER;CN="Heracles Valkeakoski":MAILTO:info@heracles-valkeakoski.fi
END:VEVENT
BEGIN:VEVENT
DTSTART;TZID=Europe/Helsinki:20270906T190000
DTEND;TZID=Europe/Helsinki:20270906T200000
DTSTAMP:20260426T055215
CREATED:20250127T221654Z
LAST-MODIFIED:20250127T221654Z
UID:10006405-1820257200-1820260800@heracles-valkeakoski.fi
SUMMARY:Kali
DESCRIPTION:
URL:https://heracles-valkeakoski.fi/event/kali/2027-09-06/
LOCATION:Heracles Valkeakoski\, Lempääläntie 18 B\, Valkeakoski\, 37600\, Finland
CATEGORIES:Kali
ORGANIZER;CN="Heracles Valkeakoski":MAILTO:info@heracles-valkeakoski.fi
END:VEVENT
BEGIN:VEVENT
DTSTART;TZID=Europe/Helsinki:20270907T164500
DTEND;TZID=Europe/Helsinki:20270907T180000
DTSTAMP:20260426T055215
CREATED:20251216T122107Z
LAST-MODIFIED:20251216T122107Z
UID:10008024-1820335500-1820340000@heracles-valkeakoski.fi
SUMMARY:Potkunyrkkeily
DESCRIPTION:
URL:https://heracles-valkeakoski.fi/event/potkunyrkkeily/2027-09-07/
CATEGORIES:Potkunyrkkeily
ORGANIZER;CN="Heracles Valkeakoski":MAILTO:info@heracles-valkeakoski.fi
END:VEVENT
BEGIN:VEVENT
DTSTART;TZID=Europe/Helsinki:20270907T180000
DTEND;TZID=Europe/Helsinki:20270907T190000
DTSTAMP:20260426T055215
CREATED:20240123T222847Z
LAST-MODIFIED:20240123T222849Z
UID:10000712-1820340000-1820343600@heracles-valkeakoski.fi
SUMMARY:Defendo
DESCRIPTION:
URL:https://heracles-valkeakoski.fi/event/defendo-2/2027-09-07/
LOCATION:Heracles Valkeakoski\, Lempääläntie 18 B\, Valkeakoski\, 37600\, Finland
CATEGORIES:Defendo
END:VEVENT
BEGIN:VEVENT
DTSTART;TZID=Europe/Helsinki:20270907T183000
DTEND;TZID=Europe/Helsinki:20270907T193000
DTSTAMP:20260426T055215
CREATED:20260115T132717Z
LAST-MODIFIED:20260115T132720Z
UID:10008279-1820341800-1820345400@heracles-valkeakoski.fi
SUMMARY:CT peruskurssi
DESCRIPTION:
URL:https://heracles-valkeakoski.fi/event/ct-peruskurssi-2-3-2/2027-09-07/
LOCATION:Heracles Valkeakoski\, Lempääläntie 18 B\, Valkeakoski\, 37600\, Finland
CATEGORIES:Cross training
END:VEVENT
BEGIN:VEVENT
DTSTART;TZID=Europe/Helsinki:20270907T190000
DTEND;TZID=Europe/Helsinki:20270907T203000
DTSTAMP:20260426T055215
CREATED:20240202T223030Z
LAST-MODIFIED:20251216T121628Z
UID:10004413-1820343600-1820349000@heracles-valkeakoski.fi
SUMMARY:BJJ
DESCRIPTION:
URL:https://heracles-valkeakoski.fi/event/bjj/2027-09-07/
LOCATION:Heracles Valkeakoski\, Lempääläntie 18 B\, Valkeakoski\, 37600\, Finland
CATEGORIES:BJJ
END:VEVENT
BEGIN:VEVENT
DTSTART;TZID=Europe/Helsinki:20270908T173000
DTEND;TZID=Europe/Helsinki:20270908T183000
DTSTAMP:20260426T055215
CREATED:20240202T222430Z
LAST-MODIFIED:20250120T204615Z
UID:10004700-1820424600-1820428200@heracles-valkeakoski.fi
SUMMARY:Cross training
DESCRIPTION:
URL:https://heracles-valkeakoski.fi/event/cross-training-2/2027-09-08/
LOCATION:Heracles Valkeakoski\, Lempääläntie 18 B\, Valkeakoski\, 37600\, Finland
CATEGORIES:Cross training
END:VEVENT
BEGIN:VEVENT
DTSTART;TZID=Europe/Helsinki:20270908T173000
DTEND;TZID=Europe/Helsinki:20270908T183000
DTSTAMP:20260426T055215
CREATED:20250120T211547Z
LAST-MODIFIED:20250120T211848Z
UID:10005743-1820424600-1820428200@heracles-valkeakoski.fi
SUMMARY:Potkunyrkkeily
DESCRIPTION:
URL:https://heracles-valkeakoski.fi/event/potkunyrkkeily-4/2027-09-08/
CATEGORIES:Potkunyrkkeily
END:VEVENT
BEGIN:VEVENT
DTSTART;TZID=Europe/Helsinki:20270908T190000
DTEND;TZID=Europe/Helsinki:20270908T200000
DTSTAMP:20260426T055215
CREATED:20250127T221654Z
LAST-MODIFIED:20250127T221654Z
UID:10006406-1820430000-1820433600@heracles-valkeakoski.fi
SUMMARY:Kali
DESCRIPTION:
URL:https://heracles-valkeakoski.fi/event/kali/2027-09-08/
LOCATION:Heracles Valkeakoski\, Lempääläntie 18 B\, Valkeakoski\, 37600\, Finland
CATEGORIES:Kali
ORGANIZER;CN="Heracles Valkeakoski":MAILTO:info@heracles-valkeakoski.fi
END:VEVENT
BEGIN:VEVENT
DTSTART;TZID=Europe/Helsinki:20270909T170000
DTEND;TZID=Europe/Helsinki:20270909T183000
DTSTAMP:20260426T055215
CREATED:20240202T223136Z
LAST-MODIFIED:20251216T121614Z
UID:10003076-1820509200-1820514600@heracles-valkeakoski.fi
SUMMARY:BJJ
DESCRIPTION:
URL:https://heracles-valkeakoski.fi/event/bjj-2/2027-09-09/
LOCATION:Heracles Valkeakoski\, Lempääläntie 18 B\, Valkeakoski\, 37600\, Finland
CATEGORIES:BJJ
END:VEVENT
END:VCALENDAR