BEGIN:VCALENDAR
VERSION:2.0
PRODID:-//Defence &amp; Fightclub Heracles Valkeakoski - ECPv6.5.0//NONSGML v1.0//EN
CALSCALE:GREGORIAN
METHOD:PUBLISH
X-ORIGINAL-URL:https://heracles-valkeakoski.fi
X-WR-CALDESC:Events for Defence &amp; Fightclub Heracles Valkeakoski
REFRESH-INTERVAL;VALUE=DURATION:PT1H
X-Robots-Tag:noindex
X-PUBLISHED-TTL:PT1H
BEGIN:VTIMEZONE
TZID:Europe/Helsinki
BEGIN:DAYLIGHT
TZOFFSETFROM:+0200
TZOFFSETTO:+0300
TZNAME:EEST
DTSTART:20260329T010000
END:DAYLIGHT
BEGIN:STANDARD
TZOFFSETFROM:+0300
TZOFFSETTO:+0200
TZNAME:EET
DTSTART:20261025T010000
END:STANDARD
END:VTIMEZONE
BEGIN:VEVENT
DTSTART;TZID=Europe/Helsinki:20261111T190000
DTEND;TZID=Europe/Helsinki:20261111T200000
DTSTAMP:20260424T095402
CREATED:20250127T221654Z
LAST-MODIFIED:20250127T221654Z
UID:10006320-1794423600-1794427200@heracles-valkeakoski.fi
SUMMARY:Kali
DESCRIPTION:
URL:https://heracles-valkeakoski.fi/event/kali/2026-11-11/
LOCATION:Heracles Valkeakoski\, Lempääläntie 18 B\, Valkeakoski\, 37600\, Finland
CATEGORIES:Kali
ORGANIZER;CN="Heracles Valkeakoski":MAILTO:info@heracles-valkeakoski.fi
END:VEVENT
BEGIN:VEVENT
DTSTART;TZID=Europe/Helsinki:20261115T110000
DTEND;TZID=Europe/Helsinki:20261115T120000
DTSTAMP:20260424T095402
CREATED:20260117T103506Z
LAST-MODIFIED:20260117T103506Z
UID:10008498-1794740400-1794744000@heracles-valkeakoski.fi
SUMMARY:Old Boys & Girls Defendo
DESCRIPTION:
URL:https://heracles-valkeakoski.fi/event/old-boys-girls-defendo/2026-11-15/
LOCATION:Heracles Valkeakoski\, Lempääläntie 18 B\, Valkeakoski\, 37600\, Finland
CATEGORIES:Old Boys & Girls
ORGANIZER;CN="Heracles Valkeakoski":MAILTO:info@heracles-valkeakoski.fi
END:VEVENT
BEGIN:VEVENT
DTSTART;TZID=Europe/Helsinki:20261116T184500
DTEND;TZID=Europe/Helsinki:20261116T200000
DTSTAMP:20260424T095402
CREATED:20250127T221918Z
LAST-MODIFIED:20251216T121441Z
UID:10007040-1794854700-1794859200@heracles-valkeakoski.fi
SUMMARY:Lukkopaini
DESCRIPTION:
URL:https://heracles-valkeakoski.fi/event/bjj-4/2026-11-16/
LOCATION:Heracles Valkeakoski\, Lempääläntie 18 B\, Valkeakoski\, 37600\, Finland
CATEGORIES:BJJ
ORGANIZER;CN="Heracles Valkeakoski":MAILTO:info@heracles-valkeakoski.fi
END:VEVENT
BEGIN:VEVENT
DTSTART;TZID=Europe/Helsinki:20261116T190000
DTEND;TZID=Europe/Helsinki:20261116T200000
DTSTAMP:20260424T095402
CREATED:20250127T221654Z
LAST-MODIFIED:20250127T221654Z
UID:10006321-1794855600-1794859200@heracles-valkeakoski.fi
SUMMARY:Kali
DESCRIPTION:
URL:https://heracles-valkeakoski.fi/event/kali/2026-11-16/
LOCATION:Heracles Valkeakoski\, Lempääläntie 18 B\, Valkeakoski\, 37600\, Finland
CATEGORIES:Kali
ORGANIZER;CN="Heracles Valkeakoski":MAILTO:info@heracles-valkeakoski.fi
END:VEVENT
BEGIN:VEVENT
DTSTART;TZID=Europe/Helsinki:20261117T164500
DTEND;TZID=Europe/Helsinki:20261117T180000
DTSTAMP:20260424T095402
CREATED:20251216T122107Z
LAST-MODIFIED:20251216T122107Z
UID:10007982-1794933900-1794938400@heracles-valkeakoski.fi
SUMMARY:Potkunyrkkeily
DESCRIPTION:
URL:https://heracles-valkeakoski.fi/event/potkunyrkkeily/2026-11-17/
CATEGORIES:Potkunyrkkeily
ORGANIZER;CN="Heracles Valkeakoski":MAILTO:info@heracles-valkeakoski.fi
END:VEVENT
BEGIN:VEVENT
DTSTART;TZID=Europe/Helsinki:20261118T190000
DTEND;TZID=Europe/Helsinki:20261118T200000
DTSTAMP:20260424T095402
CREATED:20250127T221654Z
LAST-MODIFIED:20250127T221654Z
UID:10006322-1795028400-1795032000@heracles-valkeakoski.fi
SUMMARY:Kali
DESCRIPTION:
URL:https://heracles-valkeakoski.fi/event/kali/2026-11-18/
LOCATION:Heracles Valkeakoski\, Lempääläntie 18 B\, Valkeakoski\, 37600\, Finland
CATEGORIES:Kali
ORGANIZER;CN="Heracles Valkeakoski":MAILTO:info@heracles-valkeakoski.fi
END:VEVENT
BEGIN:VEVENT
DTSTART;TZID=Europe/Helsinki:20261122T110000
DTEND;TZID=Europe/Helsinki:20261122T120000
DTSTAMP:20260424T095402
CREATED:20260117T103506Z
LAST-MODIFIED:20260117T103506Z
UID:10008499-1795345200-1795348800@heracles-valkeakoski.fi
SUMMARY:Old Boys & Girls Defendo
DESCRIPTION:
URL:https://heracles-valkeakoski.fi/event/old-boys-girls-defendo/2026-11-22/
LOCATION:Heracles Valkeakoski\, Lempääläntie 18 B\, Valkeakoski\, 37600\, Finland
CATEGORIES:Old Boys & Girls
ORGANIZER;CN="Heracles Valkeakoski":MAILTO:info@heracles-valkeakoski.fi
END:VEVENT
BEGIN:VEVENT
DTSTART;TZID=Europe/Helsinki:20261123T184500
DTEND;TZID=Europe/Helsinki:20261123T200000
DTSTAMP:20260424T095402
CREATED:20250127T221918Z
LAST-MODIFIED:20251216T121441Z
UID:10007041-1795459500-1795464000@heracles-valkeakoski.fi
SUMMARY:Lukkopaini
DESCRIPTION:
URL:https://heracles-valkeakoski.fi/event/bjj-4/2026-11-23/
LOCATION:Heracles Valkeakoski\, Lempääläntie 18 B\, Valkeakoski\, 37600\, Finland
CATEGORIES:BJJ
ORGANIZER;CN="Heracles Valkeakoski":MAILTO:info@heracles-valkeakoski.fi
END:VEVENT
BEGIN:VEVENT
DTSTART;TZID=Europe/Helsinki:20261123T190000
DTEND;TZID=Europe/Helsinki:20261123T200000
DTSTAMP:20260424T095402
CREATED:20250127T221654Z
LAST-MODIFIED:20250127T221654Z
UID:10006323-1795460400-1795464000@heracles-valkeakoski.fi
SUMMARY:Kali
DESCRIPTION:
URL:https://heracles-valkeakoski.fi/event/kali/2026-11-23/
LOCATION:Heracles Valkeakoski\, Lempääläntie 18 B\, Valkeakoski\, 37600\, Finland
CATEGORIES:Kali
ORGANIZER;CN="Heracles Valkeakoski":MAILTO:info@heracles-valkeakoski.fi
END:VEVENT
BEGIN:VEVENT
DTSTART;TZID=Europe/Helsinki:20261124T164500
DTEND;TZID=Europe/Helsinki:20261124T180000
DTSTAMP:20260424T095402
CREATED:20251216T122107Z
LAST-MODIFIED:20251216T122107Z
UID:10007983-1795538700-1795543200@heracles-valkeakoski.fi
SUMMARY:Potkunyrkkeily
DESCRIPTION:
URL:https://heracles-valkeakoski.fi/event/potkunyrkkeily/2026-11-24/
CATEGORIES:Potkunyrkkeily
ORGANIZER;CN="Heracles Valkeakoski":MAILTO:info@heracles-valkeakoski.fi
END:VEVENT
BEGIN:VEVENT
DTSTART;TZID=Europe/Helsinki:20261125T190000
DTEND;TZID=Europe/Helsinki:20261125T200000
DTSTAMP:20260424T095402
CREATED:20250127T221654Z
LAST-MODIFIED:20250127T221654Z
UID:10006324-1795633200-1795636800@heracles-valkeakoski.fi
SUMMARY:Kali
DESCRIPTION:
URL:https://heracles-valkeakoski.fi/event/kali/2026-11-25/
LOCATION:Heracles Valkeakoski\, Lempääläntie 18 B\, Valkeakoski\, 37600\, Finland
CATEGORIES:Kali
ORGANIZER;CN="Heracles Valkeakoski":MAILTO:info@heracles-valkeakoski.fi
END:VEVENT
BEGIN:VEVENT
DTSTART;TZID=Europe/Helsinki:20261129T110000
DTEND;TZID=Europe/Helsinki:20261129T120000
DTSTAMP:20260424T095402
CREATED:20260117T103506Z
LAST-MODIFIED:20260117T103506Z
UID:10008500-1795950000-1795953600@heracles-valkeakoski.fi
SUMMARY:Old Boys & Girls Defendo
DESCRIPTION:
URL:https://heracles-valkeakoski.fi/event/old-boys-girls-defendo/2026-11-29/
LOCATION:Heracles Valkeakoski\, Lempääläntie 18 B\, Valkeakoski\, 37600\, Finland
CATEGORIES:Old Boys & Girls
ORGANIZER;CN="Heracles Valkeakoski":MAILTO:info@heracles-valkeakoski.fi
END:VEVENT
BEGIN:VEVENT
DTSTART;TZID=Europe/Helsinki:20261130T184500
DTEND;TZID=Europe/Helsinki:20261130T200000
DTSTAMP:20260424T095402
CREATED:20250127T221918Z
LAST-MODIFIED:20251216T121441Z
UID:10007042-1796064300-1796068800@heracles-valkeakoski.fi
SUMMARY:Lukkopaini
DESCRIPTION:
URL:https://heracles-valkeakoski.fi/event/bjj-4/2026-11-30/
LOCATION:Heracles Valkeakoski\, Lempääläntie 18 B\, Valkeakoski\, 37600\, Finland
CATEGORIES:BJJ
ORGANIZER;CN="Heracles Valkeakoski":MAILTO:info@heracles-valkeakoski.fi
END:VEVENT
BEGIN:VEVENT
DTSTART;TZID=Europe/Helsinki:20261130T190000
DTEND;TZID=Europe/Helsinki:20261130T200000
DTSTAMP:20260424T095402
CREATED:20250127T221654Z
LAST-MODIFIED:20250127T221654Z
UID:10006325-1796065200-1796068800@heracles-valkeakoski.fi
SUMMARY:Kali
DESCRIPTION:
URL:https://heracles-valkeakoski.fi/event/kali/2026-11-30/
LOCATION:Heracles Valkeakoski\, Lempääläntie 18 B\, Valkeakoski\, 37600\, Finland
CATEGORIES:Kali
ORGANIZER;CN="Heracles Valkeakoski":MAILTO:info@heracles-valkeakoski.fi
END:VEVENT
BEGIN:VEVENT
DTSTART;TZID=Europe/Helsinki:20261201T164500
DTEND;TZID=Europe/Helsinki:20261201T180000
DTSTAMP:20260424T095402
CREATED:20251216T122107Z
LAST-MODIFIED:20251216T122107Z
UID:10007984-1796143500-1796148000@heracles-valkeakoski.fi
SUMMARY:Potkunyrkkeily
DESCRIPTION:
URL:https://heracles-valkeakoski.fi/event/potkunyrkkeily/2026-12-01/
CATEGORIES:Potkunyrkkeily
ORGANIZER;CN="Heracles Valkeakoski":MAILTO:info@heracles-valkeakoski.fi
END:VEVENT
BEGIN:VEVENT
DTSTART;TZID=Europe/Helsinki:20261202T190000
DTEND;TZID=Europe/Helsinki:20261202T200000
DTSTAMP:20260424T095402
CREATED:20250127T221654Z
LAST-MODIFIED:20250127T221654Z
UID:10006326-1796238000-1796241600@heracles-valkeakoski.fi
SUMMARY:Kali
DESCRIPTION:
URL:https://heracles-valkeakoski.fi/event/kali/2026-12-02/
LOCATION:Heracles Valkeakoski\, Lempääläntie 18 B\, Valkeakoski\, 37600\, Finland
CATEGORIES:Kali
ORGANIZER;CN="Heracles Valkeakoski":MAILTO:info@heracles-valkeakoski.fi
END:VEVENT
BEGIN:VEVENT
DTSTART;TZID=Europe/Helsinki:20261206T110000
DTEND;TZID=Europe/Helsinki:20261206T120000
DTSTAMP:20260424T095402
CREATED:20260117T103506Z
LAST-MODIFIED:20260117T103506Z
UID:10008501-1796554800-1796558400@heracles-valkeakoski.fi
SUMMARY:Old Boys & Girls Defendo
DESCRIPTION:
URL:https://heracles-valkeakoski.fi/event/old-boys-girls-defendo/2026-12-06/
LOCATION:Heracles Valkeakoski\, Lempääläntie 18 B\, Valkeakoski\, 37600\, Finland
CATEGORIES:Old Boys & Girls
ORGANIZER;CN="Heracles Valkeakoski":MAILTO:info@heracles-valkeakoski.fi
END:VEVENT
BEGIN:VEVENT
DTSTART;TZID=Europe/Helsinki:20261207T184500
DTEND;TZID=Europe/Helsinki:20261207T200000
DTSTAMP:20260424T095402
CREATED:20250127T221918Z
LAST-MODIFIED:20251216T121441Z
UID:10007043-1796669100-1796673600@heracles-valkeakoski.fi
SUMMARY:Lukkopaini
DESCRIPTION:
URL:https://heracles-valkeakoski.fi/event/bjj-4/2026-12-07/
LOCATION:Heracles Valkeakoski\, Lempääläntie 18 B\, Valkeakoski\, 37600\, Finland
CATEGORIES:BJJ
ORGANIZER;CN="Heracles Valkeakoski":MAILTO:info@heracles-valkeakoski.fi
END:VEVENT
BEGIN:VEVENT
DTSTART;TZID=Europe/Helsinki:20261207T190000
DTEND;TZID=Europe/Helsinki:20261207T200000
DTSTAMP:20260424T095402
CREATED:20250127T221654Z
LAST-MODIFIED:20250127T221654Z
UID:10006327-1796670000-1796673600@heracles-valkeakoski.fi
SUMMARY:Kali
DESCRIPTION:
URL:https://heracles-valkeakoski.fi/event/kali/2026-12-07/
LOCATION:Heracles Valkeakoski\, Lempääläntie 18 B\, Valkeakoski\, 37600\, Finland
CATEGORIES:Kali
ORGANIZER;CN="Heracles Valkeakoski":MAILTO:info@heracles-valkeakoski.fi
END:VEVENT
BEGIN:VEVENT
DTSTART;TZID=Europe/Helsinki:20261208T164500
DTEND;TZID=Europe/Helsinki:20261208T180000
DTSTAMP:20260424T095402
CREATED:20251216T122107Z
LAST-MODIFIED:20251216T122107Z
UID:10007985-1796748300-1796752800@heracles-valkeakoski.fi
SUMMARY:Potkunyrkkeily
DESCRIPTION:
URL:https://heracles-valkeakoski.fi/event/potkunyrkkeily/2026-12-08/
CATEGORIES:Potkunyrkkeily
ORGANIZER;CN="Heracles Valkeakoski":MAILTO:info@heracles-valkeakoski.fi
END:VEVENT
BEGIN:VEVENT
DTSTART;TZID=Europe/Helsinki:20261209T190000
DTEND;TZID=Europe/Helsinki:20261209T200000
DTSTAMP:20260424T095402
CREATED:20250127T221654Z
LAST-MODIFIED:20250127T221654Z
UID:10006328-1796842800-1796846400@heracles-valkeakoski.fi
SUMMARY:Kali
DESCRIPTION:
URL:https://heracles-valkeakoski.fi/event/kali/2026-12-09/
LOCATION:Heracles Valkeakoski\, Lempääläntie 18 B\, Valkeakoski\, 37600\, Finland
CATEGORIES:Kali
ORGANIZER;CN="Heracles Valkeakoski":MAILTO:info@heracles-valkeakoski.fi
END:VEVENT
BEGIN:VEVENT
DTSTART;TZID=Europe/Helsinki:20261213T110000
DTEND;TZID=Europe/Helsinki:20261213T120000
DTSTAMP:20260424T095402
CREATED:20260117T103506Z
LAST-MODIFIED:20260117T103506Z
UID:10008502-1797159600-1797163200@heracles-valkeakoski.fi
SUMMARY:Old Boys & Girls Defendo
DESCRIPTION:
URL:https://heracles-valkeakoski.fi/event/old-boys-girls-defendo/2026-12-13/
LOCATION:Heracles Valkeakoski\, Lempääläntie 18 B\, Valkeakoski\, 37600\, Finland
CATEGORIES:Old Boys & Girls
ORGANIZER;CN="Heracles Valkeakoski":MAILTO:info@heracles-valkeakoski.fi
END:VEVENT
BEGIN:VEVENT
DTSTART;TZID=Europe/Helsinki:20261214T184500
DTEND;TZID=Europe/Helsinki:20261214T200000
DTSTAMP:20260424T095402
CREATED:20250127T221918Z
LAST-MODIFIED:20251216T121441Z
UID:10007044-1797273900-1797278400@heracles-valkeakoski.fi
SUMMARY:Lukkopaini
DESCRIPTION:
URL:https://heracles-valkeakoski.fi/event/bjj-4/2026-12-14/
LOCATION:Heracles Valkeakoski\, Lempääläntie 18 B\, Valkeakoski\, 37600\, Finland
CATEGORIES:BJJ
ORGANIZER;CN="Heracles Valkeakoski":MAILTO:info@heracles-valkeakoski.fi
END:VEVENT
BEGIN:VEVENT
DTSTART;TZID=Europe/Helsinki:20261214T190000
DTEND;TZID=Europe/Helsinki:20261214T200000
DTSTAMP:20260424T095402
CREATED:20250127T221654Z
LAST-MODIFIED:20250127T221654Z
UID:10006329-1797274800-1797278400@heracles-valkeakoski.fi
SUMMARY:Kali
DESCRIPTION:
URL:https://heracles-valkeakoski.fi/event/kali/2026-12-14/
LOCATION:Heracles Valkeakoski\, Lempääläntie 18 B\, Valkeakoski\, 37600\, Finland
CATEGORIES:Kali
ORGANIZER;CN="Heracles Valkeakoski":MAILTO:info@heracles-valkeakoski.fi
END:VEVENT
BEGIN:VEVENT
DTSTART;TZID=Europe/Helsinki:20261215T164500
DTEND;TZID=Europe/Helsinki:20261215T180000
DTSTAMP:20260424T095402
CREATED:20251216T122107Z
LAST-MODIFIED:20251216T122107Z
UID:10007986-1797353100-1797357600@heracles-valkeakoski.fi
SUMMARY:Potkunyrkkeily
DESCRIPTION:
URL:https://heracles-valkeakoski.fi/event/potkunyrkkeily/2026-12-15/
CATEGORIES:Potkunyrkkeily
ORGANIZER;CN="Heracles Valkeakoski":MAILTO:info@heracles-valkeakoski.fi
END:VEVENT
BEGIN:VEVENT
DTSTART;TZID=Europe/Helsinki:20261216T190000
DTEND;TZID=Europe/Helsinki:20261216T200000
DTSTAMP:20260424T095402
CREATED:20250127T221654Z
LAST-MODIFIED:20250127T221654Z
UID:10006330-1797447600-1797451200@heracles-valkeakoski.fi
SUMMARY:Kali
DESCRIPTION:
URL:https://heracles-valkeakoski.fi/event/kali/2026-12-16/
LOCATION:Heracles Valkeakoski\, Lempääläntie 18 B\, Valkeakoski\, 37600\, Finland
CATEGORIES:Kali
ORGANIZER;CN="Heracles Valkeakoski":MAILTO:info@heracles-valkeakoski.fi
END:VEVENT
BEGIN:VEVENT
DTSTART;TZID=Europe/Helsinki:20261220T110000
DTEND;TZID=Europe/Helsinki:20261220T120000
DTSTAMP:20260424T095402
CREATED:20260117T103506Z
LAST-MODIFIED:20260117T103506Z
UID:10008503-1797764400-1797768000@heracles-valkeakoski.fi
SUMMARY:Old Boys & Girls Defendo
DESCRIPTION:
URL:https://heracles-valkeakoski.fi/event/old-boys-girls-defendo/2026-12-20/
LOCATION:Heracles Valkeakoski\, Lempääläntie 18 B\, Valkeakoski\, 37600\, Finland
CATEGORIES:Old Boys & Girls
ORGANIZER;CN="Heracles Valkeakoski":MAILTO:info@heracles-valkeakoski.fi
END:VEVENT
BEGIN:VEVENT
DTSTART;TZID=Europe/Helsinki:20261221T184500
DTEND;TZID=Europe/Helsinki:20261221T200000
DTSTAMP:20260424T095402
CREATED:20250127T221918Z
LAST-MODIFIED:20251216T121441Z
UID:10007045-1797878700-1797883200@heracles-valkeakoski.fi
SUMMARY:Lukkopaini
DESCRIPTION:
URL:https://heracles-valkeakoski.fi/event/bjj-4/2026-12-21/
LOCATION:Heracles Valkeakoski\, Lempääläntie 18 B\, Valkeakoski\, 37600\, Finland
CATEGORIES:BJJ
ORGANIZER;CN="Heracles Valkeakoski":MAILTO:info@heracles-valkeakoski.fi
END:VEVENT
BEGIN:VEVENT
DTSTART;TZID=Europe/Helsinki:20261221T190000
DTEND;TZID=Europe/Helsinki:20261221T200000
DTSTAMP:20260424T095402
CREATED:20250127T221654Z
LAST-MODIFIED:20250127T221654Z
UID:10006331-1797879600-1797883200@heracles-valkeakoski.fi
SUMMARY:Kali
DESCRIPTION:
URL:https://heracles-valkeakoski.fi/event/kali/2026-12-21/
LOCATION:Heracles Valkeakoski\, Lempääläntie 18 B\, Valkeakoski\, 37600\, Finland
CATEGORIES:Kali
ORGANIZER;CN="Heracles Valkeakoski":MAILTO:info@heracles-valkeakoski.fi
END:VEVENT
BEGIN:VEVENT
DTSTART;TZID=Europe/Helsinki:20261222T164500
DTEND;TZID=Europe/Helsinki:20261222T180000
DTSTAMP:20260424T095402
CREATED:20251216T122107Z
LAST-MODIFIED:20251216T122107Z
UID:10007987-1797957900-1797962400@heracles-valkeakoski.fi
SUMMARY:Potkunyrkkeily
DESCRIPTION:
URL:https://heracles-valkeakoski.fi/event/potkunyrkkeily/2026-12-22/
CATEGORIES:Potkunyrkkeily
ORGANIZER;CN="Heracles Valkeakoski":MAILTO:info@heracles-valkeakoski.fi
END:VEVENT
END:VCALENDAR