BEGIN:VCALENDAR
VERSION:2.0
PRODID:-//Defence &amp; Fightclub Heracles Valkeakoski - ECPv6.5.0//NONSGML v1.0//EN
CALSCALE:GREGORIAN
METHOD:PUBLISH
X-WR-CALNAME:Defence &amp; Fightclub Heracles Valkeakoski
X-ORIGINAL-URL:https://heracles-valkeakoski.fi
X-WR-CALDESC:Events for Defence &amp; Fightclub Heracles Valkeakoski
REFRESH-INTERVAL;VALUE=DURATION:PT1H
X-Robots-Tag:noindex
X-PUBLISHED-TTL:PT1H
BEGIN:VTIMEZONE
TZID:Europe/Helsinki
BEGIN:DAYLIGHT
TZOFFSETFROM:+0200
TZOFFSETTO:+0300
TZNAME:EEST
DTSTART:20270328T010000
END:DAYLIGHT
BEGIN:STANDARD
TZOFFSETFROM:+0300
TZOFFSETTO:+0200
TZNAME:EET
DTSTART:20271031T010000
END:STANDARD
END:VTIMEZONE
BEGIN:VEVENT
DTSTART;TZID=Europe/Helsinki:20270103T110000
DTEND;TZID=Europe/Helsinki:20270103T120000
DTSTAMP:20260426T055209
CREATED:20260117T103506Z
LAST-MODIFIED:20260117T103506Z
UID:10008505-1798974000-1798977600@heracles-valkeakoski.fi
SUMMARY:Old Boys & Girls Defendo
DESCRIPTION:
URL:https://heracles-valkeakoski.fi/event/old-boys-girls-defendo/2027-01-03/
LOCATION:Heracles Valkeakoski\, Lempääläntie 18 B\, Valkeakoski\, 37600\, Finland
CATEGORIES:Old Boys & Girls
ORGANIZER;CN="Heracles Valkeakoski":MAILTO:info@heracles-valkeakoski.fi
END:VEVENT
BEGIN:VEVENT
DTSTART;TZID=Europe/Helsinki:20270104T184500
DTEND;TZID=Europe/Helsinki:20270104T200000
DTSTAMP:20260426T055209
CREATED:20250127T221918Z
LAST-MODIFIED:20251216T121441Z
UID:10007047-1799088300-1799092800@heracles-valkeakoski.fi
SUMMARY:Lukkopaini
DESCRIPTION:
URL:https://heracles-valkeakoski.fi/event/bjj-4/2027-01-04/
LOCATION:Heracles Valkeakoski\, Lempääläntie 18 B\, Valkeakoski\, 37600\, Finland
CATEGORIES:BJJ
ORGANIZER;CN="Heracles Valkeakoski":MAILTO:info@heracles-valkeakoski.fi
END:VEVENT
BEGIN:VEVENT
DTSTART;TZID=Europe/Helsinki:20270104T190000
DTEND;TZID=Europe/Helsinki:20270104T200000
DTSTAMP:20260426T055209
CREATED:20250127T221654Z
LAST-MODIFIED:20250127T221654Z
UID:10006335-1799089200-1799092800@heracles-valkeakoski.fi
SUMMARY:Kali
DESCRIPTION:
URL:https://heracles-valkeakoski.fi/event/kali/2027-01-04/
LOCATION:Heracles Valkeakoski\, Lempääläntie 18 B\, Valkeakoski\, 37600\, Finland
CATEGORIES:Kali
ORGANIZER;CN="Heracles Valkeakoski":MAILTO:info@heracles-valkeakoski.fi
END:VEVENT
BEGIN:VEVENT
DTSTART;TZID=Europe/Helsinki:20270105T164500
DTEND;TZID=Europe/Helsinki:20270105T180000
DTSTAMP:20260426T055209
CREATED:20251216T122107Z
LAST-MODIFIED:20251216T122107Z
UID:10007989-1799167500-1799172000@heracles-valkeakoski.fi
SUMMARY:Potkunyrkkeily
DESCRIPTION:
URL:https://heracles-valkeakoski.fi/event/potkunyrkkeily/2027-01-05/
CATEGORIES:Potkunyrkkeily
ORGANIZER;CN="Heracles Valkeakoski":MAILTO:info@heracles-valkeakoski.fi
END:VEVENT
BEGIN:VEVENT
DTSTART;TZID=Europe/Helsinki:20270106T190000
DTEND;TZID=Europe/Helsinki:20270106T200000
DTSTAMP:20260426T055209
CREATED:20250127T221654Z
LAST-MODIFIED:20250127T221654Z
UID:10006336-1799262000-1799265600@heracles-valkeakoski.fi
SUMMARY:Kali
DESCRIPTION:
URL:https://heracles-valkeakoski.fi/event/kali/2027-01-06/
LOCATION:Heracles Valkeakoski\, Lempääläntie 18 B\, Valkeakoski\, 37600\, Finland
CATEGORIES:Kali
ORGANIZER;CN="Heracles Valkeakoski":MAILTO:info@heracles-valkeakoski.fi
END:VEVENT
BEGIN:VEVENT
DTSTART;TZID=Europe/Helsinki:20270110T110000
DTEND;TZID=Europe/Helsinki:20270110T120000
DTSTAMP:20260426T055209
CREATED:20260117T103506Z
LAST-MODIFIED:20260117T103506Z
UID:10008506-1799578800-1799582400@heracles-valkeakoski.fi
SUMMARY:Old Boys & Girls Defendo
DESCRIPTION:
URL:https://heracles-valkeakoski.fi/event/old-boys-girls-defendo/2027-01-10/
LOCATION:Heracles Valkeakoski\, Lempääläntie 18 B\, Valkeakoski\, 37600\, Finland
CATEGORIES:Old Boys & Girls
ORGANIZER;CN="Heracles Valkeakoski":MAILTO:info@heracles-valkeakoski.fi
END:VEVENT
BEGIN:VEVENT
DTSTART;TZID=Europe/Helsinki:20270111T184500
DTEND;TZID=Europe/Helsinki:20270111T200000
DTSTAMP:20260426T055209
CREATED:20250127T221918Z
LAST-MODIFIED:20251216T121441Z
UID:10007048-1799693100-1799697600@heracles-valkeakoski.fi
SUMMARY:Lukkopaini
DESCRIPTION:
URL:https://heracles-valkeakoski.fi/event/bjj-4/2027-01-11/
LOCATION:Heracles Valkeakoski\, Lempääläntie 18 B\, Valkeakoski\, 37600\, Finland
CATEGORIES:BJJ
ORGANIZER;CN="Heracles Valkeakoski":MAILTO:info@heracles-valkeakoski.fi
END:VEVENT
BEGIN:VEVENT
DTSTART;TZID=Europe/Helsinki:20270111T190000
DTEND;TZID=Europe/Helsinki:20270111T200000
DTSTAMP:20260426T055209
CREATED:20250127T221654Z
LAST-MODIFIED:20250127T221654Z
UID:10006337-1799694000-1799697600@heracles-valkeakoski.fi
SUMMARY:Kali
DESCRIPTION:
URL:https://heracles-valkeakoski.fi/event/kali/2027-01-11/
LOCATION:Heracles Valkeakoski\, Lempääläntie 18 B\, Valkeakoski\, 37600\, Finland
CATEGORIES:Kali
ORGANIZER;CN="Heracles Valkeakoski":MAILTO:info@heracles-valkeakoski.fi
END:VEVENT
BEGIN:VEVENT
DTSTART;TZID=Europe/Helsinki:20270112T164500
DTEND;TZID=Europe/Helsinki:20270112T180000
DTSTAMP:20260426T055209
CREATED:20251216T122107Z
LAST-MODIFIED:20251216T122107Z
UID:10007990-1799772300-1799776800@heracles-valkeakoski.fi
SUMMARY:Potkunyrkkeily
DESCRIPTION:
URL:https://heracles-valkeakoski.fi/event/potkunyrkkeily/2027-01-12/
CATEGORIES:Potkunyrkkeily
ORGANIZER;CN="Heracles Valkeakoski":MAILTO:info@heracles-valkeakoski.fi
END:VEVENT
BEGIN:VEVENT
DTSTART;TZID=Europe/Helsinki:20270113T190000
DTEND;TZID=Europe/Helsinki:20270113T200000
DTSTAMP:20260426T055209
CREATED:20250127T221654Z
LAST-MODIFIED:20250127T221654Z
UID:10006338-1799866800-1799870400@heracles-valkeakoski.fi
SUMMARY:Kali
DESCRIPTION:
URL:https://heracles-valkeakoski.fi/event/kali/2027-01-13/
LOCATION:Heracles Valkeakoski\, Lempääläntie 18 B\, Valkeakoski\, 37600\, Finland
CATEGORIES:Kali
ORGANIZER;CN="Heracles Valkeakoski":MAILTO:info@heracles-valkeakoski.fi
END:VEVENT
BEGIN:VEVENT
DTSTART;TZID=Europe/Helsinki:20270117T110000
DTEND;TZID=Europe/Helsinki:20270117T120000
DTSTAMP:20260426T055209
CREATED:20260117T103506Z
LAST-MODIFIED:20260117T103506Z
UID:10008507-1800183600-1800187200@heracles-valkeakoski.fi
SUMMARY:Old Boys & Girls Defendo
DESCRIPTION:
URL:https://heracles-valkeakoski.fi/event/old-boys-girls-defendo/2027-01-17/
LOCATION:Heracles Valkeakoski\, Lempääläntie 18 B\, Valkeakoski\, 37600\, Finland
CATEGORIES:Old Boys & Girls
ORGANIZER;CN="Heracles Valkeakoski":MAILTO:info@heracles-valkeakoski.fi
END:VEVENT
BEGIN:VEVENT
DTSTART;TZID=Europe/Helsinki:20270118T184500
DTEND;TZID=Europe/Helsinki:20270118T200000
DTSTAMP:20260426T055209
CREATED:20250127T221918Z
LAST-MODIFIED:20251216T121441Z
UID:10007049-1800297900-1800302400@heracles-valkeakoski.fi
SUMMARY:Lukkopaini
DESCRIPTION:
URL:https://heracles-valkeakoski.fi/event/bjj-4/2027-01-18/
LOCATION:Heracles Valkeakoski\, Lempääläntie 18 B\, Valkeakoski\, 37600\, Finland
CATEGORIES:BJJ
ORGANIZER;CN="Heracles Valkeakoski":MAILTO:info@heracles-valkeakoski.fi
END:VEVENT
BEGIN:VEVENT
DTSTART;TZID=Europe/Helsinki:20270118T190000
DTEND;TZID=Europe/Helsinki:20270118T200000
DTSTAMP:20260426T055209
CREATED:20250127T221654Z
LAST-MODIFIED:20250127T221654Z
UID:10006339-1800298800-1800302400@heracles-valkeakoski.fi
SUMMARY:Kali
DESCRIPTION:
URL:https://heracles-valkeakoski.fi/event/kali/2027-01-18/
LOCATION:Heracles Valkeakoski\, Lempääläntie 18 B\, Valkeakoski\, 37600\, Finland
CATEGORIES:Kali
ORGANIZER;CN="Heracles Valkeakoski":MAILTO:info@heracles-valkeakoski.fi
END:VEVENT
BEGIN:VEVENT
DTSTART;TZID=Europe/Helsinki:20270119T164500
DTEND;TZID=Europe/Helsinki:20270119T180000
DTSTAMP:20260426T055209
CREATED:20251216T122107Z
LAST-MODIFIED:20251216T122107Z
UID:10007991-1800377100-1800381600@heracles-valkeakoski.fi
SUMMARY:Potkunyrkkeily
DESCRIPTION:
URL:https://heracles-valkeakoski.fi/event/potkunyrkkeily/2027-01-19/
CATEGORIES:Potkunyrkkeily
ORGANIZER;CN="Heracles Valkeakoski":MAILTO:info@heracles-valkeakoski.fi
END:VEVENT
BEGIN:VEVENT
DTSTART;TZID=Europe/Helsinki:20270120T190000
DTEND;TZID=Europe/Helsinki:20270120T200000
DTSTAMP:20260426T055209
CREATED:20250127T221654Z
LAST-MODIFIED:20250127T221654Z
UID:10006340-1800471600-1800475200@heracles-valkeakoski.fi
SUMMARY:Kali
DESCRIPTION:
URL:https://heracles-valkeakoski.fi/event/kali/2027-01-20/
LOCATION:Heracles Valkeakoski\, Lempääläntie 18 B\, Valkeakoski\, 37600\, Finland
CATEGORIES:Kali
ORGANIZER;CN="Heracles Valkeakoski":MAILTO:info@heracles-valkeakoski.fi
END:VEVENT
BEGIN:VEVENT
DTSTART;TZID=Europe/Helsinki:20270124T110000
DTEND;TZID=Europe/Helsinki:20270124T120000
DTSTAMP:20260426T055209
CREATED:20260117T103506Z
LAST-MODIFIED:20260117T103506Z
UID:10008508-1800788400-1800792000@heracles-valkeakoski.fi
SUMMARY:Old Boys & Girls Defendo
DESCRIPTION:
URL:https://heracles-valkeakoski.fi/event/old-boys-girls-defendo/2027-01-24/
LOCATION:Heracles Valkeakoski\, Lempääläntie 18 B\, Valkeakoski\, 37600\, Finland
CATEGORIES:Old Boys & Girls
ORGANIZER;CN="Heracles Valkeakoski":MAILTO:info@heracles-valkeakoski.fi
END:VEVENT
BEGIN:VEVENT
DTSTART;TZID=Europe/Helsinki:20270125T184500
DTEND;TZID=Europe/Helsinki:20270125T200000
DTSTAMP:20260426T055209
CREATED:20250127T221918Z
LAST-MODIFIED:20251216T121441Z
UID:10007050-1800902700-1800907200@heracles-valkeakoski.fi
SUMMARY:Lukkopaini
DESCRIPTION:
URL:https://heracles-valkeakoski.fi/event/bjj-4/2027-01-25/
LOCATION:Heracles Valkeakoski\, Lempääläntie 18 B\, Valkeakoski\, 37600\, Finland
CATEGORIES:BJJ
ORGANIZER;CN="Heracles Valkeakoski":MAILTO:info@heracles-valkeakoski.fi
END:VEVENT
BEGIN:VEVENT
DTSTART;TZID=Europe/Helsinki:20270125T190000
DTEND;TZID=Europe/Helsinki:20270125T200000
DTSTAMP:20260426T055209
CREATED:20250127T221654Z
LAST-MODIFIED:20250127T221654Z
UID:10006341-1800903600-1800907200@heracles-valkeakoski.fi
SUMMARY:Kali
DESCRIPTION:
URL:https://heracles-valkeakoski.fi/event/kali/2027-01-25/
LOCATION:Heracles Valkeakoski\, Lempääläntie 18 B\, Valkeakoski\, 37600\, Finland
CATEGORIES:Kali
ORGANIZER;CN="Heracles Valkeakoski":MAILTO:info@heracles-valkeakoski.fi
END:VEVENT
BEGIN:VEVENT
DTSTART;TZID=Europe/Helsinki:20270126T164500
DTEND;TZID=Europe/Helsinki:20270126T180000
DTSTAMP:20260426T055209
CREATED:20251216T122107Z
LAST-MODIFIED:20251216T122107Z
UID:10007992-1800981900-1800986400@heracles-valkeakoski.fi
SUMMARY:Potkunyrkkeily
DESCRIPTION:
URL:https://heracles-valkeakoski.fi/event/potkunyrkkeily/2027-01-26/
CATEGORIES:Potkunyrkkeily
ORGANIZER;CN="Heracles Valkeakoski":MAILTO:info@heracles-valkeakoski.fi
END:VEVENT
BEGIN:VEVENT
DTSTART;TZID=Europe/Helsinki:20270127T190000
DTEND;TZID=Europe/Helsinki:20270127T200000
DTSTAMP:20260426T055209
CREATED:20250127T221654Z
LAST-MODIFIED:20250127T221654Z
UID:10006342-1801076400-1801080000@heracles-valkeakoski.fi
SUMMARY:Kali
DESCRIPTION:
URL:https://heracles-valkeakoski.fi/event/kali/2027-01-27/
LOCATION:Heracles Valkeakoski\, Lempääläntie 18 B\, Valkeakoski\, 37600\, Finland
CATEGORIES:Kali
ORGANIZER;CN="Heracles Valkeakoski":MAILTO:info@heracles-valkeakoski.fi
END:VEVENT
BEGIN:VEVENT
DTSTART;TZID=Europe/Helsinki:20270131T110000
DTEND;TZID=Europe/Helsinki:20270131T120000
DTSTAMP:20260426T055209
CREATED:20260117T103506Z
LAST-MODIFIED:20260117T103506Z
UID:10008509-1801393200-1801396800@heracles-valkeakoski.fi
SUMMARY:Old Boys & Girls Defendo
DESCRIPTION:
URL:https://heracles-valkeakoski.fi/event/old-boys-girls-defendo/2027-01-31/
LOCATION:Heracles Valkeakoski\, Lempääläntie 18 B\, Valkeakoski\, 37600\, Finland
CATEGORIES:Old Boys & Girls
ORGANIZER;CN="Heracles Valkeakoski":MAILTO:info@heracles-valkeakoski.fi
END:VEVENT
BEGIN:VEVENT
DTSTART;TZID=Europe/Helsinki:20270201T184500
DTEND;TZID=Europe/Helsinki:20270201T200000
DTSTAMP:20260426T055209
CREATED:20250127T221918Z
LAST-MODIFIED:20251216T121441Z
UID:10007051-1801507500-1801512000@heracles-valkeakoski.fi
SUMMARY:Lukkopaini
DESCRIPTION:
URL:https://heracles-valkeakoski.fi/event/bjj-4/2027-02-01/
LOCATION:Heracles Valkeakoski\, Lempääläntie 18 B\, Valkeakoski\, 37600\, Finland
CATEGORIES:BJJ
ORGANIZER;CN="Heracles Valkeakoski":MAILTO:info@heracles-valkeakoski.fi
END:VEVENT
BEGIN:VEVENT
DTSTART;TZID=Europe/Helsinki:20270201T190000
DTEND;TZID=Europe/Helsinki:20270201T200000
DTSTAMP:20260426T055209
CREATED:20250127T221654Z
LAST-MODIFIED:20250127T221654Z
UID:10006343-1801508400-1801512000@heracles-valkeakoski.fi
SUMMARY:Kali
DESCRIPTION:
URL:https://heracles-valkeakoski.fi/event/kali/2027-02-01/
LOCATION:Heracles Valkeakoski\, Lempääläntie 18 B\, Valkeakoski\, 37600\, Finland
CATEGORIES:Kali
ORGANIZER;CN="Heracles Valkeakoski":MAILTO:info@heracles-valkeakoski.fi
END:VEVENT
BEGIN:VEVENT
DTSTART;TZID=Europe/Helsinki:20270202T164500
DTEND;TZID=Europe/Helsinki:20270202T180000
DTSTAMP:20260426T055209
CREATED:20251216T122107Z
LAST-MODIFIED:20251216T122107Z
UID:10007993-1801586700-1801591200@heracles-valkeakoski.fi
SUMMARY:Potkunyrkkeily
DESCRIPTION:
URL:https://heracles-valkeakoski.fi/event/potkunyrkkeily/2027-02-02/
CATEGORIES:Potkunyrkkeily
ORGANIZER;CN="Heracles Valkeakoski":MAILTO:info@heracles-valkeakoski.fi
END:VEVENT
BEGIN:VEVENT
DTSTART;TZID=Europe/Helsinki:20270203T190000
DTEND;TZID=Europe/Helsinki:20270203T200000
DTSTAMP:20260426T055209
CREATED:20250127T221654Z
LAST-MODIFIED:20250127T221654Z
UID:10006344-1801681200-1801684800@heracles-valkeakoski.fi
SUMMARY:Kali
DESCRIPTION:
URL:https://heracles-valkeakoski.fi/event/kali/2027-02-03/
LOCATION:Heracles Valkeakoski\, Lempääläntie 18 B\, Valkeakoski\, 37600\, Finland
CATEGORIES:Kali
ORGANIZER;CN="Heracles Valkeakoski":MAILTO:info@heracles-valkeakoski.fi
END:VEVENT
BEGIN:VEVENT
DTSTART;TZID=Europe/Helsinki:20270207T110000
DTEND;TZID=Europe/Helsinki:20270207T120000
DTSTAMP:20260426T055209
CREATED:20260117T103506Z
LAST-MODIFIED:20260117T103506Z
UID:10008510-1801998000-1802001600@heracles-valkeakoski.fi
SUMMARY:Old Boys & Girls Defendo
DESCRIPTION:
URL:https://heracles-valkeakoski.fi/event/old-boys-girls-defendo/2027-02-07/
LOCATION:Heracles Valkeakoski\, Lempääläntie 18 B\, Valkeakoski\, 37600\, Finland
CATEGORIES:Old Boys & Girls
ORGANIZER;CN="Heracles Valkeakoski":MAILTO:info@heracles-valkeakoski.fi
END:VEVENT
BEGIN:VEVENT
DTSTART;TZID=Europe/Helsinki:20270208T184500
DTEND;TZID=Europe/Helsinki:20270208T200000
DTSTAMP:20260426T055209
CREATED:20250127T221918Z
LAST-MODIFIED:20251216T121441Z
UID:10007052-1802112300-1802116800@heracles-valkeakoski.fi
SUMMARY:Lukkopaini
DESCRIPTION:
URL:https://heracles-valkeakoski.fi/event/bjj-4/2027-02-08/
LOCATION:Heracles Valkeakoski\, Lempääläntie 18 B\, Valkeakoski\, 37600\, Finland
CATEGORIES:BJJ
ORGANIZER;CN="Heracles Valkeakoski":MAILTO:info@heracles-valkeakoski.fi
END:VEVENT
BEGIN:VEVENT
DTSTART;TZID=Europe/Helsinki:20270208T190000
DTEND;TZID=Europe/Helsinki:20270208T200000
DTSTAMP:20260426T055209
CREATED:20250127T221654Z
LAST-MODIFIED:20250127T221654Z
UID:10006345-1802113200-1802116800@heracles-valkeakoski.fi
SUMMARY:Kali
DESCRIPTION:
URL:https://heracles-valkeakoski.fi/event/kali/2027-02-08/
LOCATION:Heracles Valkeakoski\, Lempääläntie 18 B\, Valkeakoski\, 37600\, Finland
CATEGORIES:Kali
ORGANIZER;CN="Heracles Valkeakoski":MAILTO:info@heracles-valkeakoski.fi
END:VEVENT
BEGIN:VEVENT
DTSTART;TZID=Europe/Helsinki:20270209T164500
DTEND;TZID=Europe/Helsinki:20270209T180000
DTSTAMP:20260426T055209
CREATED:20251216T122107Z
LAST-MODIFIED:20251216T122107Z
UID:10007994-1802191500-1802196000@heracles-valkeakoski.fi
SUMMARY:Potkunyrkkeily
DESCRIPTION:
URL:https://heracles-valkeakoski.fi/event/potkunyrkkeily/2027-02-09/
CATEGORIES:Potkunyrkkeily
ORGANIZER;CN="Heracles Valkeakoski":MAILTO:info@heracles-valkeakoski.fi
END:VEVENT
BEGIN:VEVENT
DTSTART;TZID=Europe/Helsinki:20270210T190000
DTEND;TZID=Europe/Helsinki:20270210T200000
DTSTAMP:20260426T055209
CREATED:20250127T221654Z
LAST-MODIFIED:20250127T221654Z
UID:10006346-1802286000-1802289600@heracles-valkeakoski.fi
SUMMARY:Kali
DESCRIPTION:
URL:https://heracles-valkeakoski.fi/event/kali/2027-02-10/
LOCATION:Heracles Valkeakoski\, Lempääläntie 18 B\, Valkeakoski\, 37600\, Finland
CATEGORIES:Kali
ORGANIZER;CN="Heracles Valkeakoski":MAILTO:info@heracles-valkeakoski.fi
END:VEVENT
END:VCALENDAR